{"text_format":"1","workbook":"xlsx","n_sheets":17,"sheets":["Auswertungsraster","Beobachtungsbogen","LP 1","LP 2","LP 3","LP 4","LP 5","LP 6","LP 7","LP 8","LP 9","LP 10","LP 11","LP 12","LP 13","LP 14","LP 15"],"not_rendered":{"charts":1,"images":0,"macros":1,"external_links":0,"defined_names":22,"comments":0,"pivot_tables":0},"unopened":[],"bounds":{"document_bytes":16777216,"sheet_cells":100000,"rows_first":2000,"rows_last":500,"rows_between":2000,"halvings":0,"cell_chars":16384,"cell_head_chars":4096},"cells_cut":0,"cells_raw":0,"read":"whole","date_system":"1900"}

{"sheet":"Auswertungsraster","index":0,"n_rows":176,"n_cols":23,"rows_kept":176,"cut":false,"hidden":false,"merged":[[163,0,164,0],[163,8,163,22],[135,0,136,0],[148,8,148,22],[149,0,150,0],[149,8,149,22],[162,8,162,22],[135,8,135,22],[2,8,2,22],[2,1,3,1],[2,2,3,2],[2,3,3,3],[2,4,3,4],[2,5,3,5],[2,6,3,6],[2,7,3,7],[92,8,92,22],[79,8,79,22],[121,8,121,22],[134,8,134,22],[121,0,122,0],[107,8,107,22],[120,8,120,22],[107,0,108,0],[1,8,1,22],[2,0,3,0],[106,8,106,22],[36,8,36,22],[37,8,37,22],[64,8,64,22],[65,8,65,22],[78,8,78,22],[51,0,52,0],[65,0,66,0],[79,0,80,0],[93,0,94,0],[37,0,38,0],[50,8,50,22],[51,8,51,22],[93,8,93,22]]}
["Auswertungsraster"]
["Gesamtbewertung "," +++"," ++"," +"," -"," --"," ---"," ?","Auswertung"]
["Bilanzierende Beurteilung Unterricht",{"$f":"SUM('LP 1'!B133,'LP 2'!B133,'LP 3'!B133,'LP 4'!B133,'LP 5'!B133,'LP 6'!B133,'LP 7'!B133,'LP 8'!B133,'LP 9'!B133,'LP 10'!B133,'LP 11'!B133,'LP 12'!B133,'LP 13'!B133,'LP 14'!B133,'LP 15'!B133,)","v":0},{"$f":"SUM('LP 1'!C133,'LP 2'!C133,'LP 3'!C133,'LP 4'!C133,'LP 5'!C133,'LP 6'!C133,'LP 7'!C133,'LP 8'!C133,'LP 9'!C133,'LP 10'!C133,'LP 11'!C133,'LP 12'!C133,'LP 13'!C133,'LP 14'!C133,'LP 15'!C133,)","v":0},{"$f":"SUM('LP 1'!D133,'LP 2'!D133,'LP 3'!D133,'LP 4'!D133,'LP 5'!D133,'LP 6'!D133,'LP 7'!D133,'LP 8'!D133,'LP 9'!D133,'LP 10'!D133,'LP 11'!D133,'LP 12'!D133,'LP 13'!D133,'LP 14'!D133,'LP 15'!D133,)","v":0},{"$f":"SUM('LP 1'!E133,'LP 2'!E133,'LP 3'!E133,'LP 4'!E133,'LP 5'!E133,'LP 6'!E133,'LP 7'!E133,'LP 8'!E133,'LP 9'!E133,'LP 10'!E133,'LP 11'!E133,'LP 12'!E133,'LP 13'!E133,'LP 14'!E133,'LP 15'!E133,)","v":0},{"$f":"SUM('LP 1'!F133,'LP 2'!F133,'LP 3'!F133,'LP 4'!F133,'LP 5'!F133,'LP 6'!F133,'LP 7'!F133,'LP 8'!F133,'LP 9'!F133,'LP 10'!F133,'LP 11'!F133,'LP 12'!F133,'LP 13'!F133,'LP 14'!F133,'LP 15'!F133,)","v":0},{"$f":"SUM('LP 1'!G133,'LP 2'!G133,'LP 3'!G133,'LP 4'!G133,'LP 5'!G133,'LP 6'!G133,'LP 7'!G133,'LP 8'!G133,'LP 9'!G133,'LP 10'!G133,'LP 11'!G133,'LP 12'!G133,'LP 13'!G133,'LP 14'!G133,'LP 15'!G133,)","v":0},{"$f":"SUM('LP 1'!H133,'LP 2'!H133,'LP 3'!H133,'LP 4'!H133,'LP 5'!H133,'LP 6'!H133,'LP 7'!H133,'LP 8'!H133,'LP 9'!H133,'LP 10'!H133,'LP 11'!H133,'LP 12'!H133,'LP 13'!H133,'LP 14'!H133,'LP 15'!H133,)","v":0}]
[null,null,null,null,null,null,null,null,{"$f":"'LP 1'!I133","v":0},{"$f":"'LP 2'!I133","v":0},{"$f":"'LP 3'!I133","v":0},{"$f":"'LP 4'!I133","v":0},{"$f":"'LP 5'!I133","v":0},{"$f":"'LP 6'!I133","v":0},{"$f":"'LP 7'!I133","v":0},{"$f":"'LP 8'!I133","v":0},{"$f":"'LP 9'!I133","v":0},{"$f":"'LP 10'!I133","v":0},{"$f":"'LP 11'!I133","v":0},{"$f":"'LP 12'!I133","v":0},{"$f":"'LP 13'!I133","v":0},{"$f":"'LP 14'!I133","v":0},{"$f":"'LP 15'!I133","v":0}]
["Merkmale"," +++"," ++"," +"," -"," --"," ---"," ?",{"$f":"'LP 1'!A1","v":"LP 1"},{"$f":"'LP 2'!A1","v":"LP 2"},{"$f":"'LP 3'!A1","v":"LP 3"},{"$f":"'LP 4'!A1","v":"LP 4"},{"$f":"'LP 5'!A1","v":"LP 5"},{"$f":"'LP 6'!A1","v":"LP 6"},{"$f":"'LP 7'!A1","v":"LP 7"},{"$f":"'LP 8'!A1","v":"LP 8"},{"$f":"'LP 9'!A1","v":"LP 9"},{"$f":"'LP 10'!A1","v":"LP 10"},{"$f":"'LP 11'!A1","v":"LP 11"},{"$f":"'LP 12'!A1","v":"LP 12"},{"$f":"'LP 13'!A1","v":"LP 13"},{"$f":"'LP 14'!A1","v":"LP 14"},{"$f":"'LP 15'!A1","v":"LP 15"}]
[{"$f":"A38","v":"Merkmal 1"},{"$f":"SUM('LP 1'!B3,'LP 2'!B3,'LP 3'!B3,'LP 4'!B3,'LP 5'!B3,'LP 6'!B3,'LP 7'!B3,'LP 8'!B3,'LP 9'!B3,'LP 10'!B3,'LP 11'!B3,'LP 12'!B3,'LP 13'!B3,'LP 14'!B3,'LP 15'!B3,)","v":0},{"$f":"SUM('LP 1'!C3,'LP 2'!C3,'LP 3'!C3,'LP 4'!C3,'LP 5'!C3,'LP 6'!C3,'LP 7'!C3,'LP 8'!C3,'LP 9'!C3,'LP 10'!C3,'LP 11'!C3,'LP 12'!C3,'LP 13'!C3,'LP 14'!C3,'LP 15'!C3,)","v":0},{"$f":"SUM('LP 1'!D3,'LP 2'!D3,'LP 3'!D3,'LP 4'!D3,'LP 5'!D3,'LP 6'!D3,'LP 7'!D3,'LP 8'!D3,'LP 9'!D3,'LP 10'!D3,'LP 11'!D3,'LP 12'!D3,'LP 13'!D3,'LP 14'!D3,'LP 15'!D3,)","v":0},{"$f":"SUM('LP 1'!E3,'LP 2'!E3,'LP 3'!E3,'LP 4'!E3,'LP 5'!E3,'LP 6'!E3,'LP 7'!E3,'LP 8'!E3,'LP 9'!E3,'LP 10'!E3,'LP 11'!E3,'LP 12'!E3,'LP 13'!E3,'LP 14'!E3,'LP 15'!E3,)","v":0},{"$f":"SUM('LP 1'!F3,'LP 2'!F3,'LP 3'!F3,'LP 4'!F3,'LP 5'!F3,'LP 6'!F3,'LP 7'!F3,'LP 8'!F3,'LP 9'!F3,'LP 10'!F3,'LP 11'!F3,'LP 12'!F3,'LP 13'!F3,'LP 14'!F3,'LP 15'!F3,)","v":0},{"$f":"SUM('LP 1'!G3,'LP 2'!G3,'LP 3'!G3,'LP 4'!G3,'LP 5'!G3,'LP 6'!G3,'LP 7'!G3,'LP 8'!G3,'LP 9'!G3,'LP 10'!G3,'LP 11'!G3,'LP 12'!G3,'LP 13'!G3,'LP 14'!G3,'LP 15'!G3,)","v":0},{"$f":"SUM('LP 1'!H3,'LP 2'!H3,'LP 3'!H3,'LP 4'!H3,'LP 5'!H3,'LP 6'!H3,'LP 7'!H3,'LP 8'!H3,'LP 9'!H3,'LP 10'!H3,'LP 11'!H3,'LP 12'!H3,'LP 13'!H3,'LP 14'!H3,'LP 15'!H3,)","v":0},{"$f":"'LP 1'!I3","v":0},{"$f":"'LP 2'!I3","v":0},{"$f":"'LP 3'!I3","v":0},{"$f":"'LP 4'!I3","v":0},{"$f":"'LP 5'!I3","v":0},{"$f":"'LP 6'!I3","v":0},{"$f":"'LP 7'!I3","v":0},{"$f":"'LP 8'!I3","v":0},{"$f":"'LP 9'!I3","v":0},{"$f":"'LP 10'!I3","v":0},{"$f":"'LP 11'!I3","v":0},{"$f":"'LP 12'!I3","v":0},{"$f":"'LP 13'!I3","v":0},{"$f":"'LP 14'!I3","v":0},{"$f":"'LP 15'!I3","v":0}]
[{"$f":"A52","v":"Merkmal 2"},{"$f":"SUM('LP 1'!B16,'LP 2'!B16,'LP 3'!B16,'LP 4'!B16,'LP 5'!B16,'LP 6'!B16,'LP 7'!B16,'LP 8'!B16,'LP 9'!B16,'LP 10'!B16,'LP 11'!B16,'LP 12'!B16,'LP 13'!B16,'LP 14'!B16,'LP 15'!B16,)","v":0},{"$f":"SUM('LP 1'!C16,'LP 2'!C16,'LP 3'!C16,'LP 4'!C16,'LP 5'!C16,'LP 6'!C16,'LP 7'!C16,'LP 8'!C16,'LP 9'!C16,'LP 10'!C16,'LP 11'!C16,'LP 12'!C16,'LP 13'!C16,'LP 14'!C16,'LP 15'!C16,)","v":0},{"$f":"SUM('LP 1'!D16,'LP 2'!D16,'LP 3'!D16,'LP 4'!D16,'LP 5'!D16,'LP 6'!D16,'LP 7'!D16,'LP 8'!D16,'LP 9'!D16,'LP 10'!D16,'LP 11'!D16,'LP 12'!D16,'LP 13'!D16,'LP 14'!D16,'LP 15'!D16,)","v":0},{"$f":"SUM('LP 1'!E16,'LP 2'!E16,'LP 3'!E16,'LP 4'!E16,'LP 5'!E16,'LP 6'!E16,'LP 7'!E16,'LP 8'!E16,'LP 9'!E16,'LP 10'!E16,'LP 11'!E16,'LP 12'!E16,'LP 13'!E16,'LP 14'!E16,'LP 15'!E16,)","v":0},{"$f":"SUM('LP 1'!F16,'LP 2'!F16,'LP 3'!F16,'LP 4'!F16,'LP 5'!F16,'LP 6'!F16,'LP 7'!F16,'LP 8'!F16,'LP 9'!F16,'LP 10'!F16,'LP 11'!F16,'LP 12'!F16,'LP 13'!F16,'LP 14'!F16,'LP 15'!F16,)","v":0},{"$f":"SUM('LP 1'!G16,'LP 2'!G16,'LP 3'!G16,'LP 4'!G16,'LP 5'!G16,'LP 6'!G16,'LP 7'!G16,'LP 8'!G16,'LP 9'!G16,'LP 10'!G16,'LP 11'!G16,'LP 12'!G16,'LP 13'!G16,'LP 14'!G16,'LP 15'!G16,)","v":0},{"$f":"SUM('LP 1'!H16,'LP 2'!H16,'LP 3'!H16,'LP 4'!H16,'LP 5'!H16,'LP 6'!H16,'LP 7'!H16,'LP 8'!H16,'LP 9'!H16,'LP 10'!H16,'LP 11'!H16,'LP 12'!H16,'LP 13'!H16,'LP 14'!H16,'LP 15'!H16,)","v":0},{"$f":"'LP 1'!I16","v":0},{"$f":"'LP 2'!I16","v":0},{"$f":"'LP 3'!I16","v":0},{"$f":"'LP 4'!I16","v":0},{"$f":"'LP 5'!I16","v":0},{"$f":"'LP 6'!I16","v":0},{"$f":"'LP 7'!I16","v":0},{"$f":"'LP 8'!I16","v":0},{"$f":"'LP 9'!I16","v":0},{"$f":"'LP 10'!I16","v":0},{"$f":"'LP 11'!I16","v":0},{"$f":"'LP 12'!I16","v":0},{"$f":"'LP 13'!I16","v":0},{"$f":"'LP 14'!I16","v":0},{"$f":"'LP 15'!I16","v":0}]
[{"$f":"A66","v":"Merkmal 3"},{"$f":"SUM('LP 1'!B29,'LP 2'!B29,'LP 3'!B29,'LP 4'!B29,'LP 5'!B29,'LP 6'!B29,'LP 7'!B29,'LP 8'!B29,'LP 9'!B29,'LP 10'!B29,'LP 11'!B29,'LP 12'!B29,'LP 13'!B29,'LP 14'!B29,'LP 15'!B29,)","v":0},{"$f":"SUM('LP 1'!C29,'LP 2'!C29,'LP 3'!C29,'LP 4'!C29,'LP 5'!C29,'LP 6'!C29,'LP 7'!C29,'LP 8'!C29,'LP 9'!C29,'LP 10'!C29,'LP 11'!C29,'LP 12'!C29,'LP 13'!C29,'LP 14'!C29,'LP 15'!C29,)","v":0},{"$f":"SUM('LP 1'!D29,'LP 2'!D29,'LP 3'!D29,'LP 4'!D29,'LP 5'!D29,'LP 6'!D29,'LP 7'!D29,'LP 8'!D29,'LP 9'!D29,'LP 10'!D29,'LP 11'!D29,'LP 12'!D29,'LP 13'!D29,'LP 14'!D29,'LP 15'!D29,)","v":0},{"$f":"SUM('LP 1'!E29,'LP 2'!E29,'LP 3'!E29,'LP 4'!E29,'LP 5'!E29,'LP 6'!E29,'LP 7'!E29,'LP 8'!E29,'LP 9'!E29,'LP 10'!E29,'LP 11'!E29,'LP 12'!E29,'LP 13'!E29,'LP 14'!E29,'LP 15'!E29,)","v":0},{"$f":"SUM('LP 1'!F29,'LP 2'!F29,'LP 3'!F29,'LP 4'!F29,'LP 5'!F29,'LP 6'!F29,'LP 7'!F29,'LP 8'!F29,'LP 9'!F29,'LP 10'!F29,'LP 11'!F29,'LP 12'!F29,'LP 13'!F29,'LP 14'!F29,'LP 15'!F29,)","v":0},{"$f":"SUM('LP 1'!G29,'LP 2'!G29,'LP 3'!G29,'LP 4'!G29,'LP 5'!G29,'LP 6'!G29,'LP 7'!G29,'LP 8'!G29,'LP 9'!G29,'LP 10'!G29,'LP 11'!G29,'LP 12'!G29,'LP 13'!G29,'LP 14'!G29,'LP 15'!G29,)","v":0},{"$f":"SUM('LP 1'!H29,'LP 2'!H29,'LP 3'!H29,'LP 4'!H29,'LP 5'!H29,'LP 6'!H29,'LP 7'!H29,'LP 8'!H29,'LP 9'!H29,'LP 10'!H29,'LP 11'!H29,'LP 12'!H29,'LP 13'!H29,'LP 14'!H29,'LP 15'!H29,)","v":0},{"$f":"'LP 1'!I29","v":0},{"$f":"'LP 2'!I29","v":0},{"$f":"'LP 3'!I29","v":0},{"$f":"'LP 4'!I29","v":0},{"$f":"'LP 5'!I29","v":0},{"$f":"'LP 6'!I29","v":0},{"$f":"'LP 7'!I29","v":0},{"$f":"'LP 8'!I29","v":0},{"$f":"'LP 9'!I29","v":0},{"$f":"'LP 10'!I29","v":0},{"$f":"'LP 11'!I29","v":0},{"$f":"'LP 12'!I29","v":0},{"$f":"'LP 13'!I29","v":0},{"$f":"'LP 14'!I29","v":0},{"$f":"'LP 15'!I29","v":0}]
[{"$f":"A80","v":"Merkmal 4"},{"$f":"SUM('LP 1'!B42,'LP 2'!B42,'LP 3'!B42,'LP 4'!B42,'LP 5'!B42,'LP 6'!B42,'LP 7'!B42,'LP 8'!B42,'LP 9'!B42,'LP 10'!B42,'LP 11'!B42,'LP 12'!B42,'LP 13'!B42,'LP 14'!B42,'LP 15'!B42,)","v":0},{"$f":"SUM('LP 1'!C42,'LP 2'!C42,'LP 3'!C42,'LP 4'!C42,'LP 5'!C42,'LP 6'!C42,'LP 7'!C42,'LP 8'!C42,'LP 9'!C42,'LP 10'!C42,'LP 11'!C42,'LP 12'!C42,'LP 13'!C42,'LP 14'!C42,'LP 15'!C42,)","v":0},{"$f":"SUM('LP 1'!D42,'LP 2'!D42,'LP 3'!D42,'LP 4'!D42,'LP 5'!D42,'LP 6'!D42,'LP 7'!D42,'LP 8'!D42,'LP 9'!D42,'LP 10'!D42,'LP 11'!D42,'LP 12'!D42,'LP 13'!D42,'LP 14'!D42,'LP 15'!D42,)","v":0},{"$f":"SUM('LP 1'!E42,'LP 2'!E42,'LP 3'!E42,'LP 4'!E42,'LP 5'!E42,'LP 6'!E42,'LP 7'!E42,'LP 8'!E42,'LP 9'!E42,'LP 10'!E42,'LP 11'!E42,'LP 12'!E42,'LP 13'!E42,'LP 14'!E42,'LP 15'!E42,)","v":0},{"$f":"SUM('LP 1'!F42,'LP 2'!F42,'LP 3'!F42,'LP 4'!F42,'LP 5'!F42,'LP 6'!F42,'LP 7'!F42,'LP 8'!F42,'LP 9'!F42,'LP 10'!F42,'LP 11'!F42,'LP 12'!F42,'LP 13'!F42,'LP 14'!F42,'LP 15'!F42,)","v":0},{"$f":"SUM('LP 1'!G42,'LP 2'!G42,'LP 3'!G42,'LP 4'!G42,'LP 5'!G42,'LP 6'!G42,'LP 7'!G42,'LP 8'!G42,'LP 9'!G42,'LP 10'!G42,'LP 11'!G42,'LP 12'!G42,'LP 13'!G42,'LP 14'!G42,'LP 15'!G42,)","v":0},{"$f":"SUM('LP 1'!H42,'LP 2'!H42,'LP 3'!H42,'LP 4'!H42,'LP 5'!H42,'LP 6'!H42,'LP 7'!H42,'LP 8'!H42,'LP 9'!H42,'LP 10'!H42,'LP 11'!H42,'LP 12'!H42,'LP 13'!H42,'LP 14'!H42,'LP 15'!H42,)","v":0},{"$f":"'LP 1'!I42","v":0},{"$f":"'LP 2'!I42","v":0},{"$f":"'LP 3'!I42","v":0},{"$f":"'LP 4'!I42","v":0},{"$f":"'LP 5'!I42","v":0},{"$f":"'LP 6'!I42","v":0},{"$f":"'LP 7'!I42","v":0},{"$f":"'LP 8'!I42","v":0},{"$f":"'LP 9'!I42","v":0},{"$f":"'LP 10'!I42","v":0},{"$f":"'LP 11'!I42","v":0},{"$f":"'LP 12'!I42","v":0},{"$f":"'LP 13'!I42","v":0},{"$f":"'LP 14'!I42","v":0},{"$f":"'LP 15'!I42","v":0}]
[{"$f":"A94","v":"Merkmal 5"},{"$f":"SUM('LP 1'!B55,'LP 2'!B55,'LP 3'!B55,'LP 4'!B55,'LP 5'!B55,'LP 6'!B55,'LP 7'!B55,'LP 8'!B55,'LP 9'!B55,'LP 10'!B55,'LP 11'!B55,'LP 12'!B55,'LP 13'!B55,'LP 14'!B55,'LP 15'!B55,)","v":0},{"$f":"SUM('LP 1'!C55,'LP 2'!C55,'LP 3'!C55,'LP 4'!C55,'LP 5'!C55,'LP 6'!C55,'LP 7'!C55,'LP 8'!C55,'LP 9'!C55,'LP 10'!C55,'LP 11'!C55,'LP 12'!C55,'LP 13'!C55,'LP 14'!C55,'LP 15'!C55,)","v":0},{"$f":"SUM('LP 1'!D55,'LP 2'!D55,'LP 3'!D55,'LP 4'!D55,'LP 5'!D55,'LP 6'!D55,'LP 7'!D55,'LP 8'!D55,'LP 9'!D55,'LP 10'!D55,'LP 11'!D55,'LP 12'!D55,'LP 13'!D55,'LP 14'!D55,'LP 15'!D55,)","v":0},{"$f":"SUM('LP 1'!E55,'LP 2'!E55,'LP 3'!E55,'LP 4'!E55,'LP 5'!E55,'LP 6'!E55,'LP 7'!E55,'LP 8'!E55,'LP 9'!E55,'LP 10'!E55,'LP 11'!E55,'LP 12'!E55,'LP 13'!E55,'LP 14'!E55,'LP 15'!E55,)","v":0},{"$f":"SUM('LP 1'!F55,'LP 2'!F55,'LP 3'!F55,'LP 4'!F55,'LP 5'!F55,'LP 6'!F55,'LP 7'!F55,'LP 8'!F55,'LP 9'!F55,'LP 10'!F55,'LP 11'!F55,'LP 12'!F55,'LP 13'!F55,'LP 14'!F55,'LP 15'!F55,)","v":0},{"$f":"SUM('LP 1'!G55,'LP 2'!G55,'LP 3'!G55,'LP 4'!G55,'LP 5'!G55,'LP 6'!G55,'LP 7'!G55,'LP 8'!G55,'LP 9'!G55,'LP 10'!G55,'LP 11'!G55,'LP 12'!G55,'LP 13'!G55,'LP 14'!G55,'LP 15'!G55,)","v":0},{"$f":"SUM('LP 1'!H55,'LP 2'!H55,'LP 3'!H55,'LP 4'!H55,'LP 5'!H55,'LP 6'!H55,'LP 7'!H55,'LP 8'!H55,'LP 9'!H55,'LP 10'!H55,'LP 11'!H55,'LP 12'!H55,'LP 13'!H55,'LP 14'!H55,'LP 15'!H55,)","v":0},{"$f":"'LP 1'!I55","v":0},{"$f":"'LP 2'!I55","v":0},{"$f":"'LP 3'!I55","v":0},{"$f":"'LP 4'!I55","v":0},{"$f":"'LP 5'!I55","v":0},{"$f":"'LP 6'!I55","v":0},{"$f":"'LP 7'!I55","v":0},{"$f":"'LP 8'!I55","v":0},{"$f":"'LP 9'!I55","v":0},{"$f":"'LP 10'!I55","v":0},{"$f":"'LP 11'!I55","v":0},{"$f":"'LP 12'!I55","v":0},{"$f":"'LP 13'!I55","v":0},{"$f":"'LP 14'!I55","v":0},{"$f":"'LP 15'!I55","v":0}]
[{"$f":"A108","v":"Merkmal 6"},{"$f":"SUM('LP 1'!B68,'LP 2'!B68,'LP 3'!B68,'LP 4'!B68,'LP 5'!B68,'LP 6'!B68,'LP 7'!B68,'LP 8'!B68,'LP 9'!B68,'LP 10'!B68,'LP 11'!B68,'LP 12'!B68,'LP 13'!B68,'LP 14'!B68,'LP 15'!B68,)","v":0},{"$f":"SUM('LP 1'!C68,'LP 2'!C68,'LP 3'!C68,'LP 4'!C68,'LP 5'!C68,'LP 6'!C68,'LP 7'!C68,'LP 8'!C68,'LP 9'!C68,'LP 10'!C68,'LP 11'!C68,'LP 12'!C68,'LP 13'!C68,'LP 14'!C68,'LP 15'!C68,)","v":0},{"$f":"SUM('LP 1'!D68,'LP 2'!D68,'LP 3'!D68,'LP 4'!D68,'LP 5'!D68,'LP 6'!D68,'LP 7'!D68,'LP 8'!D68,'LP 9'!D68,'LP 10'!D68,'LP 11'!D68,'LP 12'!D68,'LP 13'!D68,'LP 14'!D68,'LP 15'!D68,)","v":0},{"$f":"SUM('LP 1'!E68,'LP 2'!E68,'LP 3'!E68,'LP 4'!E68,'LP 5'!E68,'LP 6'!E68,'LP 7'!E68,'LP 8'!E68,'LP 9'!E68,'LP 10'!E68,'LP 11'!E68,'LP 12'!E68,'LP 13'!E68,'LP 14'!E68,'LP 15'!E68,)","v":0},{"$f":"SUM('LP 1'!F68,'LP 2'!F68,'LP 3'!F68,'LP 4'!F68,'LP 5'!F68,'LP 6'!F68,'LP 7'!F68,'LP 8'!F68,'LP 9'!F68,'LP 10'!F68,'LP 11'!F68,'LP 12'!F68,'LP 13'!F68,'LP 14'!F68,'LP 15'!F68,)","v":0},{"$f":"SUM('LP 1'!G68,'LP 2'!G68,'LP 3'!G68,'LP 4'!G68,'LP 5'!G68,'LP 6'!G68,'LP 7'!G68,'LP 8'!G68,'LP 9'!G68,'LP 10'!G68,'LP 11'!G68,'LP 12'!G68,'LP 13'!G68,'LP 14'!G68,'LP 15'!G68,)","v":0},{"$f":"SUM('LP 1'!H68,'LP 2'!H68,'LP 3'!H68,'LP 4'!H68,'LP 5'!H68,'LP 6'!H68,'LP 7'!H68,'LP 8'!H68,'LP 9'!H68,'LP 10'!H68,'LP 11'!H68,'LP 12'!H68,'LP 13'!H68,'LP 14'!H68,'LP 15'!H68,)","v":0},{"$f":"'LP 1'!I68","v":0},{"$f":"'LP 2'!I68","v":0},{"$f":"'LP 3'!I68","v":0},{"$f":"'LP 4'!I68","v":0},{"$f":"'LP 5'!I68","v":0},{"$f":"'LP 6'!I68","v":0},{"$f":"'LP 7'!I68","v":0},{"$f":"'LP 8'!I68","v":0},{"$f":"'LP 9'!I68","v":0},{"$f":"'LP 10'!I68","v":0},{"$f":"'LP 11'!I68","v":0},{"$f":"'LP 12'!I68","v":0},{"$f":"'LP 13'!I68","v":0},{"$f":"'LP 14'!I68","v":0},{"$f":"'LP 15'!I68","v":0}]
[{"$f":"A122","v":"Merkmal 7"},{"$f":"SUM('LP 1'!B81,'LP 2'!B81,'LP 3'!B81,'LP 4'!B81,'LP 5'!B81,'LP 6'!B81,'LP 7'!B81,'LP 8'!B81,'LP 9'!B81,'LP 10'!B81,'LP 11'!B81,'LP 12'!B81,'LP 13'!B81,'LP 14'!B81,'LP 15'!B81,)","v":0},{"$f":"SUM('LP 1'!C81,'LP 2'!C81,'LP 3'!C81,'LP 4'!C81,'LP 5'!C81,'LP 6'!C81,'LP 7'!C81,'LP 8'!C81,'LP 9'!C81,'LP 10'!C81,'LP 11'!C81,'LP 12'!C81,'LP 13'!C81,'LP 14'!C81,'LP 15'!C81,)","v":0},{"$f":"SUM('LP 1'!D81,'LP 2'!D81,'LP 3'!D81,'LP 4'!D81,'LP 5'!D81,'LP 6'!D81,'LP 7'!D81,'LP 8'!D81,'LP 9'!D81,'LP 10'!D81,'LP 11'!D81,'LP 12'!D81,'LP 13'!D81,'LP 14'!D81,'LP 15'!D81,)","v":0},{"$f":"SUM('LP 1'!E81,'LP 2'!E81,'LP 3'!E81,'LP 4'!E81,'LP 5'!E81,'LP 6'!E81,'LP 7'!E81,'LP 8'!E81,'LP 9'!E81,'LP 10'!E81,'LP 11'!E81,'LP 12'!E81,'LP 13'!E81,'LP 14'!E81,'LP 15'!E81,)","v":0},{"$f":"SUM('LP 1'!F81,'LP 2'!F81,'LP 3'!F81,'LP 4'!F81,'LP 5'!F81,'LP 6'!F81,'LP 7'!F81,'LP 8'!F81,'LP 9'!F81,'LP 10'!F81,'LP 11'!F81,'LP 12'!F81,'LP 13'!F81,'LP 14'!F81,'LP 15'!F81,)","v":0},{"$f":"SUM('LP 1'!G81,'LP 2'!G81,'LP 3'!G81,'LP 4'!G81,'LP 5'!G81,'LP 6'!G81,'LP 7'!G81,'LP 8'!G81,'LP 9'!G81,'LP 10'!G81,'LP 11'!G81,'LP 12'!G81,'LP 13'!G81,'LP 14'!G81,'LP 15'!G81,)","v":0},{"$f":"SUM('LP 1'!H81,'LP 2'!H81,'LP 3'!H81,'LP 4'!H81,'LP 5'!H81,'LP 6'!H81,'LP 7'!H81,'LP 8'!H81,'LP 9'!H81,'LP 10'!H81,'LP 11'!H81,'LP 12'!H81,'LP 13'!H81,'LP 14'!H81,'LP 15'!H81,)","v":0},{"$f":"'LP 1'!I81","v":0},{"$f":"'LP 2'!I81","v":0},{"$f":"'LP 3'!I81","v":0},{"$f":"'LP 4'!I81","v":0},{"$f":"'LP 5'!I81","v":0},{"$f":"'LP 6'!I81","v":0},{"$f":"'LP 7'!I81","v":0},{"$f":"'LP 8'!I81","v":0},{"$f":"'LP 9'!I81","v":0},{"$f":"'LP 10'!I81","v":0},{"$f":"'LP 11'!I81","v":0},{"$f":"'LP 12'!I81","v":0},{"$f":"'LP 13'!I81","v":0},{"$f":"'LP 14'!I81","v":0},{"$f":"'LP 15'!I81","v":0}]
[{"$f":"A136","v":"Merkmal 8"},{"$f":"SUM('LP 1'!B94,'LP 2'!B94,'LP 3'!B94,'LP 4'!B94,'LP 5'!B94,'LP 6'!B94,'LP 7'!B94,'LP 8'!B94,'LP 9'!B94,'LP 10'!B94,'LP 11'!B94,'LP 12'!B94,'LP 13'!B94,'LP 14'!B94,'LP 15'!B94,)","v":0},{"$f":"SUM('LP 1'!C94,'LP 2'!C94,'LP 3'!C94,'LP 4'!C94,'LP 5'!C94,'LP 6'!C94,'LP 7'!C94,'LP 8'!C94,'LP 9'!C94,'LP 10'!C94,'LP 11'!C94,'LP 12'!C94,'LP 13'!C94,'LP 14'!C94,'LP 15'!C94,)","v":0},{"$f":"SUM('LP 1'!D94,'LP 2'!D94,'LP 3'!D94,'LP 4'!D94,'LP 5'!D94,'LP 6'!D94,'LP 7'!D94,'LP 8'!D94,'LP 9'!D94,'LP 10'!D94,'LP 11'!D94,'LP 12'!D94,'LP 13'!D94,'LP 14'!D94,'LP 15'!D94,)","v":0},{"$f":"SUM('LP 1'!E94,'LP 2'!E94,'LP 3'!E94,'LP 4'!E94,'LP 5'!E94,'LP 6'!E94,'LP 7'!E94,'LP 8'!E94,'LP 9'!E94,'LP 10'!E94,'LP 11'!E94,'LP 12'!E94,'LP 13'!E94,'LP 14'!E94,'LP 15'!E94,)","v":0},{"$f":"SUM('LP 1'!F94,'LP 2'!F94,'LP 3'!F94,'LP 4'!F94,'LP 5'!F94,'LP 6'!F94,'LP 7'!F94,'LP 8'!F94,'LP 9'!F94,'LP 10'!F94,'LP 11'!F94,'LP 12'!F94,'LP 13'!F94,'LP 14'!F94,'LP 15'!F94,)","v":0},{"$f":"SUM('LP 1'!G94,'LP 2'!G94,'LP 3'!G94,'LP 4'!G94,'LP 5'!G94,'LP 6'!G94,'LP 7'!G94,'LP 8'!G94,'LP 9'!G94,'LP 10'!G94,'LP 11'!G94,'LP 12'!G94,'LP 13'!G94,'LP 14'!G94,'LP 15'!G94,)","v":0},{"$f":"SUM('LP 1'!H94,'LP 2'!H94,'LP 3'!H94,'LP 4'!H94,'LP 5'!H94,'LP 6'!H94,'LP 7'!H94,'LP 8'!H94,'LP 9'!H94,'LP 10'!H94,'LP 11'!H94,'LP 12'!H94,'LP 13'!H94,'LP 14'!H94,'LP 15'!H94,)","v":0},{"$f":"'LP 1'!I94","v":0},{"$f":"'LP 2'!I94","v":0},{"$f":"'LP 3'!I94","v":0},{"$f":"'LP 4'!I94","v":0},{"$f":"'LP 5'!I94","v":0},{"$f":"'LP 6'!I94","v":0},{"$f":"'LP 7'!I94","v":0},{"$f":"'LP 8'!I94","v":0},{"$f":"'LP 9'!I94","v":0},{"$f":"'LP 10'!I94","v":0},{"$f":"'LP 11'!I94","v":0},{"$f":"'LP 12'!I94","v":0},{"$f":"'LP 13'!I94","v":0},{"$f":"'LP 14'!I94","v":0},{"$f":"'LP 15'!I94","v":0}]
[{"$f":"A150","v":"Merkmal 9"},{"$f":"SUM('LP 1'!B107,'LP 2'!B107,'LP 3'!B107,'LP 4'!B107,'LP 5'!B107,'LP 6'!B107,'LP 7'!B107,'LP 8'!B107,'LP 9'!B107,'LP 10'!B107,'LP 11'!B107,'LP 12'!B107,'LP 13'!B107,'LP 14'!B107,'LP 15'!B107,)","v":0},{"$f":"SUM('LP 1'!C107,'LP 2'!C107,'LP 3'!C107,'LP 4'!C107,'LP 5'!C107,'LP 6'!C107,'LP 7'!C107,'LP 8'!C107,'LP 9'!C107,'LP 10'!C107,'LP 11'!C107,'LP 12'!C107,'LP 13'!C107,'LP 14'!C107,'LP 15'!C107,)","v":0},{"$f":"SUM('LP 1'!D107,'LP 2'!D107,'LP 3'!D107,'LP 4'!D107,'LP 5'!D107,'LP 6'!D107,'LP 7'!D107,'LP 8'!D107,'LP 9'!D107,'LP 10'!D107,'LP 11'!D107,'LP 12'!D107,'LP 13'!D107,'LP 14'!D107,'LP 15'!D107,)","v":0},{"$f":"SUM('LP 1'!E107,'LP 2'!E107,'LP 3'!E107,'LP 4'!E107,'LP 5'!E107,'LP 6'!E107,'LP 7'!E107,'LP 8'!E107,'LP 9'!E107,'LP 10'!E107,'LP 11'!E107,'LP 12'!E107,'LP 13'!E107,'LP 14'!E107,'LP 15'!E107,)","v":0},{"$f":"SUM('LP 1'!F107,'LP 2'!F107,'LP 3'!F107,'LP 4'!F107,'LP 5'!F107,'LP 6'!F107,'LP 7'!F107,'LP 8'!F107,'LP 9'!F107,'LP 10'!F107,'LP 11'!F107,'LP 12'!F107,'LP 13'!F107,'LP 14'!F107,'LP 15'!F107,)","v":0},{"$f":"SUM('LP 1'!G107,'LP 2'!G107,'LP 3'!G107,'LP 4'!G107,'LP 5'!G107,'LP 6'!G107,'LP 7'!G107,'LP 8'!G107,'LP 9'!G107,'LP 10'!G107,'LP 11'!G107,'LP 12'!G107,'LP 13'!G107,'LP 14'!G107,'LP 15'!G107,)","v":0},{"$f":"SUM('LP 1'!H107,'LP 2'!H107,'LP 3'!H107,'LP 4'!H107,'LP 5'!H107,'LP 6'!H107,'LP 7'!H107,'LP 8'!H107,'LP 9'!H107,'LP 10'!H107,'LP 11'!H107,'LP 12'!H107,'LP 13'!H107,'LP 14'!H107,'LP 15'!H107,)","v":0},{"$f":"'LP 1'!I107","v":0},{"$f":"'LP 2'!I107","v":0},{"$f":"'LP 3'!I107","v":0},{"$f":"'LP 4'!I107","v":0},{"$f":"'LP 5'!I107","v":0},{"$f":"'LP 6'!I107","v":0},{"$f":"'LP 7'!I107","v":0},{"$f":"'LP 8'!I107","v":0},{"$f":"'LP 9'!I107","v":0},{"$f":"'LP 10'!I107","v":0},{"$f":"'LP 11'!I107","v":0},{"$f":"'LP 12'!I107","v":0},{"$f":"'LP 13'!I107","v":0},{"$f":"'LP 14'!I107","v":0},{"$f":"'LP 15'!I107","v":0}]
[{"$f":"A164","v":"Merkmal 10"},{"$f":"SUM('LP 1'!B120,'LP 2'!B120,'LP 3'!B120,'LP 4'!B120,'LP 5'!B120,'LP 6'!B120,'LP 7'!B120,'LP 8'!B120,'LP 9'!B120,'LP 10'!B120,'LP 11'!B120,'LP 12'!B120,'LP 13'!B120,'LP 14'!B120,'LP 15'!B120,)","v":0},{"$f":"SUM('LP 1'!C120,'LP 2'!C120,'LP 3'!C120,'LP 4'!C120,'LP 5'!C120,'LP 6'!C120,'LP 7'!C120,'LP 8'!C120,'LP 9'!C120,'LP 10'!C120,'LP 11'!C120,'LP 12'!C120,'LP 13'!C120,'LP 14'!C120,'LP 15'!C120,)","v":0},{"$f":"SUM('LP 1'!D120,'LP 2'!D120,'LP 3'!D120,'LP 4'!D120,'LP 5'!D120,'LP 6'!D120,'LP 7'!D120,'LP 8'!D120,'LP 9'!D120,'LP 10'!D120,'LP 11'!D120,'LP 12'!D120,'LP 13'!D120,'LP 14'!D120,'LP 15'!D120,)","v":0},{"$f":"SUM('LP 1'!E120,'LP 2'!E120,'LP 3'!E120,'LP 4'!E120,'LP 5'!E120,'LP 6'!E120,'LP 7'!E120,'LP 8'!E120,'LP 9'!E120,'LP 10'!E120,'LP 11'!E120,'LP 12'!E120,'LP 13'!E120,'LP 14'!E120,'LP 15'!E120,)","v":0},{"$f":"SUM('LP 1'!F120,'LP 2'!F120,'LP 3'!F120,'LP 4'!F120,'LP 5'!F120,'LP 6'!F120,'LP 7'!F120,'LP 8'!F120,'LP 9'!F120,'LP 10'!F120,'LP 11'!F120,'LP 12'!F120,'LP 13'!F120,'LP 14'!F120,'LP 15'!F120,)","v":0},{"$f":"SUM('LP 1'!G120,'LP 2'!G120,'LP 3'!G120,'LP 4'!G120,'LP 5'!G120,'LP 6'!G120,'LP 7'!G120,'LP 8'!G120,'LP 9'!G120,'LP 10'!G120,'LP 11'!G120,'LP 12'!G120,'LP 13'!G120,'LP 14'!G120,'LP 15'!G120,)","v":0},{"$f":"SUM('LP 1'!H120,'LP 2'!H120,'LP 3'!H120,'LP 4'!H120,'LP 5'!H120,'LP 6'!H120,'LP 7'!H120,'LP 8'!H120,'LP 9'!H120,'LP 10'!H120,'LP 11'!H120,'LP 12'!H120,'LP 13'!H120,'LP 14'!H120,'LP 15'!H120,)","v":0},{"$f":"'LP 1'!I120","v":0},{"$f":"'LP 2'!I120","v":0},{"$f":"'LP 3'!I120","v":0},{"$f":"'LP 4'!I120","v":0},{"$f":"'LP 5'!I120","v":0},{"$f":"'LP 6'!I120","v":0},{"$f":"'LP 7'!I120","v":0},{"$f":"'LP 8'!I120","v":0},{"$f":"'LP 9'!I120","v":0},{"$f":"'LP 10'!I120","v":0},{"$f":"'LP 11'!I120","v":0},{"$f":"'LP 12'!I120","v":0},{"$f":"'LP 13'!I120","v":0},{"$f":"'LP 14'!I120","v":0},{"$f":"'LP 15'!I120","v":0}]
[]
[]
[]
[]
[]
[]
[]
[]
[]
[]
[]
[]
[]
[]
[]
[]
[]
[]
[]
[]
[]
["Merkmal"," +++"," ++"," +"," -"," --"," ---"," ?","Auswertung"]
["Merkmal 1",{"$f":"SUM('LP 1'!B3,'LP 2'!B3,'LP 3'!B3,'LP 4'!B3,'LP 5'!B3,'LP 6'!B3,'LP 7'!B3,'LP 8'!B3,'LP 9'!B3,'LP 10'!B3,'LP 11'!B3,'LP 12'!B3,'LP 13'!B3,'LP 14'!B3,'LP 15'!B3,)","v":0},{"$f":"SUM('LP 1'!C3,'LP 2'!C3,'LP 3'!C3,'LP 4'!C3,'LP 5'!C3,'LP 6'!C3,'LP 7'!C3,'LP 8'!C3,'LP 9'!C3,'LP 10'!C3,'LP 11'!C3,'LP 12'!C3,'LP 13'!C3,'LP 14'!C3,'LP 15'!C3,)","v":0},{"$f":"SUM('LP 1'!D3,'LP 2'!D3,'LP 3'!D3,'LP 4'!D3,'LP 5'!D3,'LP 6'!D3,'LP 7'!D3,'LP 8'!D3,'LP 9'!D3,'LP 10'!D3,'LP 11'!D3,'LP 12'!D3,'LP 13'!D3,'LP 14'!D3,'LP 15'!D3,)","v":0},{"$f":"SUM('LP 1'!E3,'LP 2'!E3,'LP 3'!E3,'LP 4'!E3,'LP 5'!E3,'LP 6'!E3,'LP 7'!E3,'LP 8'!E3,'LP 9'!E3,'LP 10'!E3,'LP 11'!E3,'LP 12'!E3,'LP 13'!E3,'LP 14'!E3,'LP 15'!E3,)","v":0},{"$f":"SUM('LP 1'!F3,'LP 2'!F3,'LP 3'!F3,'LP 4'!F3,'LP 5'!F3,'LP 6'!F3,'LP 7'!F3,'LP 8'!F3,'LP 9'!F3,'LP 10'!F3,'LP 11'!F3,'LP 12'!F3,'LP 13'!F3,'LP 14'!F3,'LP 15'!F3,)","v":0},{"$f":"SUM('LP 1'!G3,'LP 2'!G3,'LP 3'!G3,'LP 4'!G3,'LP 5'!G3,'LP 6'!G3,'LP 7'!G3,'LP 8'!G3,'LP 9'!G3,'LP 10'!G3,'LP 11'!G3,'LP 12'!G3,'LP 13'!G3,'LP 14'!G3,'LP 15'!G3,)","v":0},{"$f":"SUM('LP 1'!H3,'LP 2'!H3,'LP 3'!H3,'LP 4'!H3,'LP 5'!H3,'LP 6'!H3,'LP 7'!H3,'LP 8'!H3,'LP 9'!H3,'LP 10'!H3,'LP 11'!H3,'LP 12'!H3,'LP 13'!H3,'LP 14'!H3,'LP 15'!H3,)","v":0}]
[null,null,null,null,null,null,null,null,{"$f":"'LP 1'!I3","v":0},{"$f":"'LP 2'!I3","v":0},{"$f":"'LP 3'!I3","v":0},{"$f":"'LP 4'!I3","v":0},{"$f":"'LP 5'!I3","v":0},{"$f":"'LP 6'!I3","v":0},{"$f":"'LP 7'!I3","v":0},{"$f":"'LP 8'!I3","v":0},{"$f":"'LP 9'!I3","v":0},{"$f":"'LP 10'!I3","v":0},{"$f":"'LP 11'!I3","v":0},{"$f":"'LP 12'!I3","v":0},{"$f":"'LP 13'!I3","v":0},{"$f":"'LP 14'!I3","v":0},{"$f":"'LP 15'!I3","v":0}]
["Indikatoren","ja","teils","nein","?",null,null,null,{"$f":"'LP 1'!A1","v":"LP 1"},{"$f":"'LP 2'!A1","v":"LP 2"},{"$f":"'LP 3'!A1","v":"LP 3"},{"$f":"'LP 4'!A1","v":"LP 4"},{"$f":"'LP 5'!A1","v":"LP 5"},{"$f":"'LP 6'!A1","v":"LP 6"},{"$f":"'LP 7'!A1","v":"LP 7"},{"$f":"'LP 8'!A1","v":"LP 8"},{"$f":"'LP 9'!A1","v":"LP 9"},{"$f":"'LP 10'!A1","v":"LP 10"},{"$f":"'LP 11'!A1","v":"LP 11"},{"$f":"'LP 12'!A1","v":"LP 12"},{"$f":"'LP 13'!A1","v":"LP 13"},{"$f":"'LP 14'!A1","v":"LP 14"},{"$f":"'LP 15'!A1","v":"LP 15"}]
["M1 Indikator 1",{"$f":"SUM('LP 1'!B5,'LP 2'!B5,'LP 3'!B5,'LP 4'!B5,'LP 5'!B5,'LP 6'!B5,'LP 7'!B5,'LP 8'!B5,'LP 9'!B5,'LP 10'!B5,'LP 11'!B5,'LP 12'!B5,'LP 13'!B5,'LP 14'!B5,'LP 15'!B5,)","v":0},{"$f":"SUM('LP 1'!C5,'LP 2'!C5,'LP 3'!C5,'LP 4'!C5,'LP 5'!C5,'LP 6'!C5,'LP 7'!C5,'LP 8'!C5,'LP 9'!C5,'LP 10'!C5,'LP 11'!C5,'LP 12'!C5,'LP 13'!C5,'LP 14'!C5,'LP 15'!C5,)","v":0},{"$f":"SUM('LP 1'!D5,'LP 2'!D5,'LP 3'!D5,'LP 4'!D5,'LP 5'!D5,'LP 6'!D5,'LP 7'!D5,'LP 8'!D5,'LP 9'!D5,'LP 10'!D5,'LP 11'!D5,'LP 12'!D5,'LP 13'!D5,'LP 14'!D5,'LP 15'!D5,)","v":0},{"$f":"SUM('LP 1'!E5,'LP 2'!E5,'LP 3'!E5,'LP 4'!E5,'LP 5'!E5,'LP 6'!E5,'LP 7'!E5,'LP 8'!E5,'LP 9'!E5,'LP 10'!E5,'LP 11'!E5,'LP 12'!E5,'LP 13'!E5,'LP 14'!E5,'LP 15'!E5,)","v":0},null,null,null,{"$f":"'LP 1'!I5","v":0},{"$f":"'LP 2'!I5","v":0},{"$f":"'LP 3'!I5","v":0},{"$f":"'LP 4'!I5","v":0},{"$f":"'LP 5'!I5","v":0},{"$f":"'LP 6'!I5","v":0},{"$f":"'LP 7'!I5","v":0},{"$f":"'LP 8'!I5","v":0},{"$f":"'LP 9'!I5","v":0},{"$f":"'LP 10'!I5","v":0},{"$f":"'LP 11'!I5","v":0},{"$f":"'LP 12'!I5","v":0},{"$f":"'LP 13'!I5","v":0},{"$f":"'LP 14'!I5","v":0},{"$f":"'LP 15'!I5","v":0}]
["M1 Indikator 2",{"$f":"SUM('LP 1'!B6,'LP 2'!B6,'LP 3'!B6,'LP 4'!B6,'LP 5'!B6,'LP 6'!B6,'LP 7'!B6,'LP 8'!B6,'LP 9'!B6,'LP 10'!B6,'LP 11'!B6,'LP 12'!B6,'LP 13'!B6,'LP 14'!B6,'LP 15'!B6,)","v":0},{"$f":"SUM('LP 1'!C6,'LP 2'!C6,'LP 3'!C6,'LP 4'!C6,'LP 5'!C6,'LP 6'!C6,'LP 7'!C6,'LP 8'!C6,'LP 9'!C6,'LP 10'!C6,'LP 11'!C6,'LP 12'!C6,'LP 13'!C6,'LP 14'!C6,'LP 15'!C6,)","v":0},{"$f":"SUM('LP 1'!D6,'LP 2'!D6,'LP 3'!D6,'LP 4'!D6,'LP 5'!D6,'LP 6'!D6,'LP 7'!D6,'LP 8'!D6,'LP 9'!D6,'LP 10'!D6,'LP 11'!D6,'LP 12'!D6,'LP 13'!D6,'LP 14'!D6,'LP 15'!D6,)","v":0},{"$f":"SUM('LP 1'!E6,'LP 2'!E6,'LP 3'!E6,'LP 4'!E6,'LP 5'!E6,'LP 6'!E6,'LP 7'!E6,'LP 8'!E6,'LP 9'!E6,'LP 10'!E6,'LP 11'!E6,'LP 12'!E6,'LP 13'!E6,'LP 14'!E6,'LP 15'!E6,)","v":0},null,null,null,{"$f":"'LP 1'!I6","v":0},{"$f":"'LP 2'!I6","v":0},{"$f":"'LP 3'!I6","v":0},{"$f":"'LP 4'!I6","v":0},{"$f":"'LP 5'!I6","v":0},{"$f":"'LP 6'!I6","v":0},{"$f":"'LP 7'!I6","v":0},{"$f":"'LP 8'!I6","v":0},{"$f":"'LP 9'!I6","v":0},{"$f":"'LP 10'!I6","v":0},{"$f":"'LP 11'!I6","v":0},{"$f":"'LP 12'!I6","v":0},{"$f":"'LP 13'!I6","v":0},{"$f":"'LP 14'!I6","v":0},{"$f":"'LP 15'!I6","v":0}]
["M1 Indikator 3",{"$f":"SUM('LP 1'!B7,'LP 2'!B7,'LP 3'!B7,'LP 4'!B7,'LP 5'!B7,'LP 6'!B7,'LP 7'!B7,'LP 8'!B7,'LP 9'!B7,'LP 10'!B7,'LP 11'!B7,'LP 12'!B7,'LP 13'!B7,'LP 14'!B7,'LP 15'!B7,)","v":0},{"$f":"SUM('LP 1'!C7,'LP 2'!C7,'LP 3'!C7,'LP 4'!C7,'LP 5'!C7,'LP 6'!C7,'LP 7'!C7,'LP 8'!C7,'LP 9'!C7,'LP 10'!C7,'LP 11'!C7,'LP 12'!C7,'LP 13'!C7,'LP 14'!C7,'LP 15'!C7,)","v":0},{"$f":"SUM('LP 1'!D7,'LP 2'!D7,'LP 3'!D7,'LP 4'!D7,'LP 5'!D7,'LP 6'!D7,'LP 7'!D7,'LP 8'!D7,'LP 9'!D7,'LP 10'!D7,'LP 11'!D7,'LP 12'!D7,'LP 13'!D7,'LP 14'!D7,'LP 15'!D7,)","v":0},{"$f":"SUM('LP 1'!E7,'LP 2'!E7,'LP 3'!E7,'LP 4'!E7,'LP 5'!E7,'LP 6'!E7,'LP 7'!E7,'LP 8'!E7,'LP 9'!E7,'LP 10'!E7,'LP 11'!E7,'LP 12'!E7,'LP 13'!E7,'LP 14'!E7,'LP 15'!E7,)","v":0},null,null,null,{"$f":"'LP 1'!I7","v":0},{"$f":"'LP 2'!I7","v":0},{"$f":"'LP 3'!I7","v":0},{"$f":"'LP 4'!I7","v":0},{"$f":"'LP 5'!I7","v":0},{"$f":"'LP 6'!I7","v":0},{"$f":"'LP 7'!I7","v":0},{"$f":"'LP 8'!I7","v":0},{"$f":"'LP 9'!I7","v":0},{"$f":"'LP 10'!I7","v":0},{"$f":"'LP 11'!I7","v":0},{"$f":"'LP 12'!I7","v":0},{"$f":"'LP 13'!I7","v":0},{"$f":"'LP 14'!I7","v":0},{"$f":"'LP 15'!I7","v":0}]
["M1 Indikator 4",{"$f":"SUM('LP 1'!B8,'LP 2'!B8,'LP 3'!B8,'LP 4'!B8,'LP 5'!B8,'LP 6'!B8,'LP 7'!B8,'LP 8'!B8,'LP 9'!B8,'LP 10'!B8,'LP 11'!B8,'LP 12'!B8,'LP 13'!B8,'LP 14'!B8,'LP 15'!B8,)","v":0},{"$f":"SUM('LP 1'!C8,'LP 2'!C8,'LP 3'!C8,'LP 4'!C8,'LP 5'!C8,'LP 6'!C8,'LP 7'!C8,'LP 8'!C8,'LP 9'!C8,'LP 10'!C8,'LP 11'!C8,'LP 12'!C8,'LP 13'!C8,'LP 14'!C8,'LP 15'!C8,)","v":0},{"$f":"SUM('LP 1'!D8,'LP 2'!D8,'LP 3'!D8,'LP 4'!D8,'LP 5'!D8,'LP 6'!D8,'LP 7'!D8,'LP 8'!D8,'LP 9'!D8,'LP 10'!D8,'LP 11'!D8,'LP 12'!D8,'LP 13'!D8,'LP 14'!D8,'LP 15'!D8,)","v":0},{"$f":"SUM('LP 1'!E8,'LP 2'!E8,'LP 3'!E8,'LP 4'!E8,'LP 5'!E8,'LP 6'!E8,'LP 7'!E8,'LP 8'!E8,'LP 9'!E8,'LP 10'!E8,'LP 11'!E8,'LP 12'!E8,'LP 13'!E8,'LP 14'!E8,'LP 15'!E8,)","v":0},null,null,null,{"$f":"'LP 1'!I8","v":0},{"$f":"'LP 2'!I8","v":0},{"$f":"'LP 3'!I8","v":0},{"$f":"'LP 4'!I8","v":0},{"$f":"'LP 5'!I8","v":0},{"$f":"'LP 6'!I8","v":0},{"$f":"'LP 7'!I8","v":0},{"$f":"'LP 8'!I8","v":0},{"$f":"'LP 9'!I8","v":0},{"$f":"'LP 10'!I8","v":0},{"$f":"'LP 11'!I8","v":0},{"$f":"'LP 12'!I8","v":0},{"$f":"'LP 13'!I8","v":0},{"$f":"'LP 14'!I8","v":0},{"$f":"'LP 15'!I8","v":0}]
["M1 Indikator 5",{"$f":"SUM('LP 1'!B9,'LP 2'!B9,'LP 3'!B9,'LP 4'!B9,'LP 5'!B9,'LP 6'!B9,'LP 7'!B9,'LP 8'!B9,'LP 9'!B9,'LP 10'!B9,'LP 11'!B9,'LP 12'!B9,'LP 13'!B9,'LP 14'!B9,'LP 15'!B9,)","v":0},{"$f":"SUM('LP 1'!C9,'LP 2'!C9,'LP 3'!C9,'LP 4'!C9,'LP 5'!C9,'LP 6'!C9,'LP 7'!C9,'LP 8'!C9,'LP 9'!C9,'LP 10'!C9,'LP 11'!C9,'LP 12'!C9,'LP 13'!C9,'LP 14'!C9,'LP 15'!C9,)","v":0},{"$f":"SUM('LP 1'!D9,'LP 2'!D9,'LP 3'!D9,'LP 4'!D9,'LP 5'!D9,'LP 6'!D9,'LP 7'!D9,'LP 8'!D9,'LP 9'!D9,'LP 10'!D9,'LP 11'!D9,'LP 12'!D9,'LP 13'!D9,'LP 14'!D9,'LP 15'!D9,)","v":0},{"$f":"SUM('LP 1'!E9,'LP 2'!E9,'LP 3'!E9,'LP 4'!E9,'LP 5'!E9,'LP 6'!E9,'LP 7'!E9,'LP 8'!E9,'LP 9'!E9,'LP 10'!E9,'LP 11'!E9,'LP 12'!E9,'LP 13'!E9,'LP 14'!E9,'LP 15'!E9,)","v":0},null,null,null,{"$f":"'LP 1'!I9","v":0},{"$f":"'LP 2'!I9","v":0},{"$f":"'LP 3'!I9","v":0},{"$f":"'LP 4'!I9","v":0},{"$f":"'LP 5'!I9","v":0},{"$f":"'LP 6'!I9","v":0},{"$f":"'LP 7'!I9","v":0},{"$f":"'LP 8'!I9","v":0},{"$f":"'LP 9'!I9","v":0},{"$f":"'LP 10'!I9","v":0},{"$f":"'LP 11'!I9","v":0},{"$f":"'LP 12'!I9","v":0},{"$f":"'LP 13'!I9","v":0},{"$f":"'LP 14'!I9","v":0},{"$f":"'LP 15'!I9","v":0}]
["M1 Indikator 6",{"$f":"SUM('LP 1'!B10,'LP 2'!B10,'LP 3'!B10,'LP 4'!B10,'LP 5'!B10,'LP 6'!B10,'LP 7'!B10,'LP 8'!B10,'LP 9'!B10,'LP 10'!B10,'LP 11'!B10,'LP 12'!B10,'LP 13'!B10,'LP 14'!B10,'LP 15'!B10,)","v":0},{"$f":"SUM('LP 1'!C10,'LP 2'!C10,'LP 3'!C10,'LP 4'!C10,'LP 5'!C10,'LP 6'!C10,'LP 7'!C10,'LP 8'!C10,'LP 9'!C10,'LP 10'!C10,'LP 11'!C10,'LP 12'!C10,'LP 13'!C10,'LP 14'!C10,'LP 15'!C10,)","v":0},{"$f":"SUM('LP 1'!D10,'LP 2'!D10,'LP 3'!D10,'LP 4'!D10,'LP 5'!D10,'LP 6'!D10,'LP 7'!D10,'LP 8'!D10,'LP 9'!D10,'LP 10'!D10,'LP 11'!D10,'LP 12'!D10,'LP 13'!D10,'LP 14'!D10,'LP 15'!D10,)","v":0},{"$f":"SUM('LP 1'!E10,'LP 2'!E10,'LP 3'!E10,'LP 4'!E10,'LP 5'!E10,'LP 6'!E10,'LP 7'!E10,'LP 8'!E10,'LP 9'!E10,'LP 10'!E10,'LP 11'!E10,'LP 12'!E10,'LP 13'!E10,'LP 14'!E10,'LP 15'!E10,)","v":0},null,null,null,{"$f":"'LP 1'!I10","v":0},{"$f":"'LP 2'!I10","v":0},{"$f":"'LP 3'!I10","v":0},{"$f":"'LP 4'!I10","v":0},{"$f":"'LP 5'!I10","v":0},{"$f":"'LP 6'!I10","v":0},{"$f":"'LP 7'!I10","v":0},{"$f":"'LP 8'!I10","v":0},{"$f":"'LP 9'!I10","v":0},{"$f":"'LP 10'!I10","v":0},{"$f":"'LP 11'!I10","v":0},{"$f":"'LP 12'!I10","v":0},{"$f":"'LP 13'!I10","v":0},{"$f":"'LP 14'!I10","v":0},{"$f":"'LP 15'!I10","v":0}]
["M1 Indikator 7",{"$f":"SUM('LP 1'!B11,'LP 2'!B11,'LP 3'!B11,'LP 4'!B11,'LP 5'!B11,'LP 6'!B11,'LP 7'!B11,'LP 8'!B11,'LP 9'!B11,'LP 10'!B11,'LP 11'!B11,'LP 12'!B11,'LP 13'!B11,'LP 14'!B11,'LP 15'!B11,)","v":0},{"$f":"SUM('LP 1'!C11,'LP 2'!C11,'LP 3'!C11,'LP 4'!C11,'LP 5'!C11,'LP 6'!C11,'LP 7'!C11,'LP 8'!C11,'LP 9'!C11,'LP 10'!C11,'LP 11'!C11,'LP 12'!C11,'LP 13'!C11,'LP 14'!C11,'LP 15'!C11,)","v":0},{"$f":"SUM('LP 1'!D11,'LP 2'!D11,'LP 3'!D11,'LP 4'!D11,'LP 5'!D11,'LP 6'!D11,'LP 7'!D11,'LP 8'!D11,'LP 9'!D11,'LP 10'!D11,'LP 11'!D11,'LP 12'!D11,'LP 13'!D11,'LP 14'!D11,'LP 15'!D11,)","v":0},{"$f":"SUM('LP 1'!E11,'LP 2'!E11,'LP 3'!E11,'LP 4'!E11,'LP 5'!E11,'LP 6'!E11,'LP 7'!E11,'LP 8'!E11,'LP 9'!E11,'LP 10'!E11,'LP 11'!E11,'LP 12'!E11,'LP 13'!E11,'LP 14'!E11,'LP 15'!E11,)","v":0},null,null,null,{"$f":"'LP 1'!I11","v":0},{"$f":"'LP 2'!I11","v":0},{"$f":"'LP 3'!I11","v":0},{"$f":"'LP 4'!I11","v":0},{"$f":"'LP 5'!I11","v":0},{"$f":"'LP 6'!I11","v":0},{"$f":"'LP 7'!I11","v":0},{"$f":"'LP 8'!I11","v":0},{"$f":"'LP 9'!I11","v":0},{"$f":"'LP 10'!I11","v":0},{"$f":"'LP 11'!I11","v":0},{"$f":"'LP 12'!I11","v":0},{"$f":"'LP 13'!I11","v":0},{"$f":"'LP 14'!I11","v":0},{"$f":"'LP 15'!I11","v":0}]
["M1 Indikator 8",{"$f":"SUM('LP 1'!B12,'LP 2'!B12,'LP 3'!B12,'LP 4'!B12,'LP 5'!B12,'LP 6'!B12,'LP 7'!B12,'LP 8'!B12,'LP 9'!B12,'LP 10'!B12,'LP 11'!B12,'LP 12'!B12,'LP 13'!B12,'LP 14'!B12,'LP 15'!B12,)","v":0},{"$f":"SUM('LP 1'!C12,'LP 2'!C12,'LP 3'!C12,'LP 4'!C12,'LP 5'!C12,'LP 6'!C12,'LP 7'!C12,'LP 8'!C12,'LP 9'!C12,'LP 10'!C12,'LP 11'!C12,'LP 12'!C12,'LP 13'!C12,'LP 14'!C12,'LP 15'!C12,)","v":0},{"$f":"SUM('LP 1'!D12,'LP 2'!D12,'LP 3'!D12,'LP 4'!D12,'LP 5'!D12,'LP 6'!D12,'LP 7'!D12,'LP 8'!D12,'LP 9'!D12,'LP 10'!D12,'LP 11'!D12,'LP 12'!D12,'LP 13'!D12,'LP 14'!D12,'LP 15'!D12,)","v":0},{"$f":"SUM('LP 1'!E12,'LP 2'!E12,'LP 3'!E12,'LP 4'!E12,'LP 5'!E12,'LP 6'!E12,'LP 7'!E12,'LP 8'!E12,'LP 9'!E12,'LP 10'!E12,'LP 11'!E12,'LP 12'!E12,'LP 13'!E12,'LP 14'!E12,'LP 15'!E12,)","v":0},null,null,null,{"$f":"'LP 1'!I12","v":0},{"$f":"'LP 2'!I12","v":0},{"$f":"'LP 3'!I12","v":0},{"$f":"'LP 4'!I12","v":0},{"$f":"'LP 5'!I12","v":0},{"$f":"'LP 6'!I12","v":0},{"$f":"'LP 7'!I12","v":0},{"$f":"'LP 8'!I12","v":0},{"$f":"'LP 9'!I12","v":0},{"$f":"'LP 10'!I12","v":0},{"$f":"'LP 11'!I12","v":0},{"$f":"'LP 12'!I12","v":0},{"$f":"'LP 13'!I12","v":0},{"$f":"'LP 14'!I12","v":0},{"$f":"'LP 15'!I12","v":0}]
["M1 Indikator 9",{"$f":"SUM('LP 1'!B13,'LP 2'!B13,'LP 3'!B13,'LP 4'!B13,'LP 5'!B13,'LP 6'!B13,'LP 7'!B13,'LP 8'!B13,'LP 9'!B13,'LP 10'!B13,'LP 11'!B13,'LP 12'!B13,'LP 13'!B13,'LP 14'!B13,'LP 15'!B13,)","v":0},{"$f":"SUM('LP 1'!C13,'LP 2'!C13,'LP 3'!C13,'LP 4'!C13,'LP 5'!C13,'LP 6'!C13,'LP 7'!C13,'LP 8'!C13,'LP 9'!C13,'LP 10'!C13,'LP 11'!C13,'LP 12'!C13,'LP 13'!C13,'LP 14'!C13,'LP 15'!C13,)","v":0},{"$f":"SUM('LP 1'!D13,'LP 2'!D13,'LP 3'!D13,'LP 4'!D13,'LP 5'!D13,'LP 6'!D13,'LP 7'!D13,'LP 8'!D13,'LP 9'!D13,'LP 10'!D13,'LP 11'!D13,'LP 12'!D13,'LP 13'!D13,'LP 14'!D13,'LP 15'!D13,)","v":0},{"$f":"SUM('LP 1'!E13,'LP 2'!E13,'LP 3'!E13,'LP 4'!E13,'LP 5'!E13,'LP 6'!E13,'LP 7'!E13,'LP 8'!E13,'LP 9'!E13,'LP 10'!E13,'LP 11'!E13,'LP 12'!E13,'LP 13'!E13,'LP 14'!E13,'LP 15'!E13,)","v":0},null,null,null,{"$f":"'LP 1'!I13","v":0},{"$f":"'LP 2'!I13","v":0},{"$f":"'LP 3'!I13","v":0},{"$f":"'LP 4'!I13","v":0},{"$f":"'LP 5'!I13","v":0},{"$f":"'LP 6'!I13","v":0},{"$f":"'LP 7'!I13","v":0},{"$f":"'LP 8'!I13","v":0},{"$f":"'LP 9'!I13","v":0},{"$f":"'LP 10'!I13","v":0},{"$f":"'LP 11'!I13","v":0},{"$f":"'LP 12'!I13","v":0},{"$f":"'LP 13'!I13","v":0},{"$f":"'LP 14'!I13","v":0},{"$f":"'LP 15'!I13","v":0}]
["M1 Indikator 10",{"$f":"SUM('LP 1'!B14,'LP 2'!B14,'LP 3'!B14,'LP 4'!B14,'LP 5'!B14,'LP 6'!B14,'LP 7'!B14,'LP 8'!B14,'LP 9'!B14,'LP 10'!B14,'LP 11'!B14,'LP 12'!B14,'LP 13'!B14,'LP 14'!B14,'LP 15'!B14,)","v":0},{"$f":"SUM('LP 1'!C14,'LP 2'!C14,'LP 3'!C14,'LP 4'!C14,'LP 5'!C14,'LP 6'!C14,'LP 7'!C14,'LP 8'!C14,'LP 9'!C14,'LP 10'!C14,'LP 11'!C14,'LP 12'!C14,'LP 13'!C14,'LP 14'!C14,'LP 15'!C14,)","v":0},{"$f":"SUM('LP 1'!D14,'LP 2'!D14,'LP 3'!D14,'LP 4'!D14,'LP 5'!D14,'LP 6'!D14,'LP 7'!D14,'LP 8'!D14,'LP 9'!D14,'LP 10'!D14,'LP 11'!D14,'LP 12'!D14,'LP 13'!D14,'LP 14'!D14,'LP 15'!D14,)","v":0},{"$f":"SUM('LP 1'!E14,'LP 2'!E14,'LP 3'!E14,'LP 4'!E14,'LP 5'!E14,'LP 6'!E14,'LP 7'!E14,'LP 8'!E14,'LP 9'!E14,'LP 10'!E14,'LP 11'!E14,'LP 12'!E14,'LP 13'!E14,'LP 14'!E14,'LP 15'!E14,)","v":0},null,null,null,{"$f":"'LP 1'!I14","v":0},{"$f":"'LP 2'!I14","v":0},{"$f":"'LP 3'!I14","v":0},{"$f":"'LP 4'!I14","v":0},{"$f":"'LP 5'!I14","v":0},{"$f":"'LP 6'!I14","v":0},{"$f":"'LP 7'!I14","v":0},{"$f":"'LP 8'!I14","v":0},{"$f":"'LP 9'!I14","v":0},{"$f":"'LP 10'!I14","v":0},{"$f":"'LP 11'!I14","v":0},{"$f":"'LP 12'!I14","v":0},{"$f":"'LP 13'!I14","v":0},{"$f":"'LP 14'!I14","v":0},{"$f":"'LP 15'!I14","v":0}]
["Merkmal"," +++"," ++"," +"," -"," --"," ---"," ?","Auswertung"]
["Merkmal 2",{"$f":"SUM('LP 1'!B16,'LP 2'!B16,'LP 3'!B16,'LP 4'!B16,'LP 5'!B16,'LP 6'!B16,'LP 7'!B16,'LP 8'!B16,'LP 9'!B16,'LP 10'!B16,'LP 11'!B16,'LP 12'!B16,'LP 13'!B16,'LP 14'!B16,'LP 15'!B16,)","v":0},{"$f":"SUM('LP 1'!C16,'LP 2'!C16,'LP 3'!C16,'LP 4'!C16,'LP 5'!C16,'LP 6'!C16,'LP 7'!C16,'LP 8'!C16,'LP 9'!C16,'LP 10'!C16,'LP 11'!C16,'LP 12'!C16,'LP 13'!C16,'LP 14'!C16,'LP 15'!C16,)","v":0},{"$f":"SUM('LP 1'!D16,'LP 2'!D16,'LP 3'!D16,'LP 4'!D16,'LP 5'!D16,'LP 6'!D16,'LP 7'!D16,'LP 8'!D16,'LP 9'!D16,'LP 10'!D16,'LP 11'!D16,'LP 12'!D16,'LP 13'!D16,'LP 14'!D16,'LP 15'!D16,)","v":0},{"$f":"SUM('LP 1'!E16,'LP 2'!E16,'LP 3'!E16,'LP 4'!E16,'LP 5'!E16,'LP 6'!E16,'LP 7'!E16,'LP 8'!E16,'LP 9'!E16,'LP 10'!E16,'LP 11'!E16,'LP 12'!E16,'LP 13'!E16,'LP 14'!E16,'LP 15'!E16,)","v":0},{"$f":"SUM('LP 1'!F16,'LP 2'!F16,'LP 3'!F16,'LP 4'!F16,'LP 5'!F16,'LP 6'!F16,'LP 7'!F16,'LP 8'!F16,'LP 9'!F16,'LP 10'!F16,'LP 11'!F16,'LP 12'!F16,'LP 13'!F16,'LP 14'!F16,'LP 15'!F16,)","v":0},{"$f":"SUM('LP 1'!G16,'LP 2'!G16,'LP 3'!G16,'LP 4'!G16,'LP 5'!G16,'LP 6'!G16,'LP 7'!G16,'LP 8'!G16,'LP 9'!G16,'LP 10'!G16,'LP 11'!G16,'LP 12'!G16,'LP 13'!G16,'LP 14'!G16,'LP 15'!G16,)","v":0},{"$f":"SUM('LP 1'!H16,'LP 2'!H16,'LP 3'!H16,'LP 4'!H16,'LP 5'!H16,'LP 6'!H16,'LP 7'!H16,'LP 8'!H16,'LP 9'!H16,'LP 10'!H16,'LP 11'!H16,'LP 12'!H16,'LP 13'!H16,'LP 14'!H16,'LP 15'!H16,)","v":0}]
[null,null,null,null,null,null,null,null,{"$f":"'LP 1'!I16","v":0},{"$f":"'LP 2'!I16","v":0},{"$f":"'LP 3'!I16","v":0},{"$f":"'LP 4'!I16","v":0},{"$f":"'LP 5'!I16","v":0},{"$f":"'LP 6'!I16","v":0},{"$f":"'LP 7'!I16","v":0},{"$f":"'LP 8'!I16","v":0},{"$f":"'LP 9'!I16","v":0},{"$f":"'LP 10'!I16","v":0},{"$f":"'LP 11'!I16","v":0},{"$f":"'LP 12'!I16","v":0},{"$f":"'LP 13'!I16","v":0},{"$f":"'LP 14'!I16","v":0},{"$f":"'LP 15'!I16","v":0}]
["Indikatoren","ja","teils","nein","?",null,null,null,{"$f":"I40","v":"LP 1"},{"$f":"J40","v":"LP 2"},"LP 3","LP 4","LP 5","LP 6","LP 7","LP 8","LP 9","LP 10","LP 11","LP 12","LP 13","LP 14","LP 15"]
["M2 Indikator 1",{"$f":"SUM('LP 1'!B18,'LP 2'!B18,'LP 3'!B18,'LP 4'!B18,'LP 5'!B18,'LP 6'!B18,'LP 7'!B18,'LP 8'!B18,'LP 9'!B18,'LP 10'!B18,'LP 11'!B18,'LP 12'!B18,'LP 13'!B18,'LP 14'!B18,'LP 15'!B18,)","v":0},{"$f":"SUM('LP 1'!C18,'LP 2'!C18,'LP 3'!C18,'LP 4'!C18,'LP 5'!C18,'LP 6'!C18,'LP 7'!C18,'LP 8'!C18,'LP 9'!C18,'LP 10'!C18,'LP 11'!C18,'LP 12'!C18,'LP 13'!C18,'LP 14'!C18,'LP 15'!C18,)","v":0},{"$f":"SUM('LP 1'!D18,'LP 2'!D18,'LP 3'!D18,'LP 4'!D18,'LP 5'!D18,'LP 6'!D18,'LP 7'!D18,'LP 8'!D18,'LP 9'!D18,'LP 10'!D18,'LP 11'!D18,'LP 12'!D18,'LP 13'!D18,'LP 14'!D18,'LP 15'!D18,)","v":0},{"$f":"SUM('LP 1'!E18,'LP 2'!E18,'LP 3'!E18,'LP 4'!E18,'LP 5'!E18,'LP 6'!E18,'LP 7'!E18,'LP 8'!E18,'LP 9'!E18,'LP 10'!E18,'LP 11'!E18,'LP 12'!E18,'LP 13'!E18,'LP 14'!E18,'LP 15'!E18,)","v":0},null,null,null,{"$f":"'LP 1'!I18","v":0},{"$f":"'LP 2'!I18","v":0},{"$f":"'LP 3'!I18","v":0},{"$f":"'LP 4'!I18","v":0},{"$f":"'LP 5'!I18","v":0},{"$f":"'LP 6'!I18","v":0},{"$f":"'LP 7'!I18","v":0},{"$f":"'LP 8'!I18","v":0},{"$f":"'LP 9'!I18","v":0},{"$f":"'LP 10'!I18","v":0},{"$f":"'LP 11'!I18","v":0},{"$f":"'LP 12'!I18","v":0},{"$f":"'LP 13'!I18","v":0},{"$f":"'LP 14'!I18","v":0},{"$f":"'LP 15'!I18","v":0}]
["M2 Indikator 2",{"$f":"SUM('LP 1'!B19,'LP 2'!B19,'LP 3'!B19,'LP 4'!B19,'LP 5'!B19,'LP 6'!B19,'LP 7'!B19,'LP 8'!B19,'LP 9'!B19,'LP 10'!B19,'LP 11'!B19,'LP 12'!B19,'LP 13'!B19,'LP 14'!B19,'LP 15'!B19,)","v":0},{"$f":"SUM('LP 1'!C19,'LP 2'!C19,'LP 3'!C19,'LP 4'!C19,'LP 5'!C19,'LP 6'!C19,'LP 7'!C19,'LP 8'!C19,'LP 9'!C19,'LP 10'!C19,'LP 11'!C19,'LP 12'!C19,'LP 13'!C19,'LP 14'!C19,'LP 15'!C19,)","v":0},{"$f":"SUM('LP 1'!D19,'LP 2'!D19,'LP 3'!D19,'LP 4'!D19,'LP 5'!D19,'LP 6'!D19,'LP 7'!D19,'LP 8'!D19,'LP 9'!D19,'LP 10'!D19,'LP 11'!D19,'LP 12'!D19,'LP 13'!D19,'LP 14'!D19,'LP 15'!D19,)","v":0},{"$f":"SUM('LP 1'!E19,'LP 2'!E19,'LP 3'!E19,'LP 4'!E19,'LP 5'!E19,'LP 6'!E19,'LP 7'!E19,'LP 8'!E19,'LP 9'!E19,'LP 10'!E19,'LP 11'!E19,'LP 12'!E19,'LP 13'!E19,'LP 14'!E19,'LP 15'!E19,)","v":0},null,null,null,{"$f":"'LP 1'!I19","v":0},{"$f":"'LP 2'!I19","v":0},{"$f":"'LP 3'!I19","v":0},{"$f":"'LP 4'!I19","v":0},{"$f":"'LP 5'!I19","v":0},{"$f":"'LP 6'!I19","v":0},{"$f":"'LP 7'!I19","v":0},{"$f":"'LP 8'!I19","v":0},{"$f":"'LP 9'!I19","v":0},{"$f":"'LP 10'!I19","v":0},{"$f":"'LP 11'!I19","v":0},{"$f":"'LP 12'!I19","v":0},{"$f":"'LP 13'!I19","v":0},{"$f":"'LP 14'!I19","v":0},{"$f":"'LP 15'!I19","v":0}]
["M2 Indikator 3",{"$f":"SUM('LP 1'!B20,'LP 2'!B20,'LP 3'!B20,'LP 4'!B20,'LP 5'!B20,'LP 6'!B20,'LP 7'!B20,'LP 8'!B20,'LP 9'!B20,'LP 10'!B20,'LP 11'!B20,'LP 12'!B20,'LP 13'!B20,'LP 14'!B20,'LP 15'!B20,)","v":0},{"$f":"SUM('LP 1'!C20,'LP 2'!C20,'LP 3'!C20,'LP 4'!C20,'LP 5'!C20,'LP 6'!C20,'LP 7'!C20,'LP 8'!C20,'LP 9'!C20,'LP 10'!C20,'LP 11'!C20,'LP 12'!C20,'LP 13'!C20,'LP 14'!C20,'LP 15'!C20,)","v":0},{"$f":"SUM('LP 1'!D20,'LP 2'!D20,'LP 3'!D20,'LP 4'!D20,'LP 5'!D20,'LP 6'!D20,'LP 7'!D20,'LP 8'!D20,'LP 9'!D20,'LP 10'!D20,'LP 11'!D20,'LP 12'!D20,'LP 13'!D20,'LP 14'!D20,'LP 15'!D20,)","v":0},{"$f":"SUM('LP 1'!E20,'LP 2'!E20,'LP 3'!E20,'LP 4'!E20,'LP 5'!E20,'LP 6'!E20,'LP 7'!E20,'LP 8'!E20,'LP 9'!E20,'LP 10'!E20,'LP 11'!E20,'LP 12'!E20,'LP 13'!E20,'LP 14'!E20,'LP 15'!E20,)","v":0},null,null,null,{"$f":"'LP 1'!I20","v":0},{"$f":"'LP 2'!I20","v":0},{"$f":"'LP 3'!I20","v":0},{"$f":"'LP 4'!I20","v":0},{"$f":"'LP 5'!I20","v":0},{"$f":"'LP 6'!I20","v":0},{"$f":"'LP 7'!I20","v":0},{"$f":"'LP 8'!I20","v":0},{"$f":"'LP 9'!I20","v":0},{"$f":"'LP 10'!I20","v":0},{"$f":"'LP 11'!I20","v":0},{"$f":"'LP 12'!I20","v":0},{"$f":"'LP 13'!I20","v":0},{"$f":"'LP 14'!I20","v":0},{"$f":"'LP 15'!I20","v":0}]
["M2 Indikator 4",{"$f":"SUM('LP 1'!B21,'LP 2'!B21,'LP 3'!B21,'LP 4'!B21,'LP 5'!B21,'LP 6'!B21,'LP 7'!B21,'LP 8'!B21,'LP 9'!B21,'LP 10'!B21,'LP 11'!B21,'LP 12'!B21,'LP 13'!B21,'LP 14'!B21,'LP 15'!B21,)","v":0},{"$f":"SUM('LP 1'!C21,'LP 2'!C21,'LP 3'!C21,'LP 4'!C21,'LP 5'!C21,'LP 6'!C21,'LP 7'!C21,'LP 8'!C21,'LP 9'!C21,'LP 10'!C21,'LP 11'!C21,'LP 12'!C21,'LP 13'!C21,'LP 14'!C21,'LP 15'!C21,)","v":0},{"$f":"SUM('LP 1'!D21,'LP 2'!D21,'LP 3'!D21,'LP 4'!D21,'LP 5'!D21,'LP 6'!D21,'LP 7'!D21,'LP 8'!D21,'LP 9'!D21,'LP 10'!D21,'LP 11'!D21,'LP 12'!D21,'LP 13'!D21,'LP 14'!D21,'LP 15'!D21,)","v":0},{"$f":"SUM('LP 1'!E21,'LP 2'!E21,'LP 3'!E21,'LP 4'!E21,'LP 5'!E21,'LP 6'!E21,'LP 7'!E21,'LP 8'!E21,'LP 9'!E21,'LP 10'!E21,'LP 11'!E21,'LP 12'!E21,'LP 13'!E21,'LP 14'!E21,'LP 15'!E21,)","v":0},null,null,null,{"$f":"'LP 1'!I21","v":0},{"$f":"'LP 2'!I21","v":0},{"$f":"'LP 3'!I21","v":0},{"$f":"'LP 4'!I21","v":0},{"$f":"'LP 5'!I21","v":0},{"$f":"'LP 6'!I21","v":0},{"$f":"'LP 7'!I21","v":0},{"$f":"'LP 8'!I21","v":0},{"$f":"'LP 9'!I21","v":0},{"$f":"'LP 10'!I21","v":0},{"$f":"'LP 11'!I21","v":0},{"$f":"'LP 12'!I21","v":0},{"$f":"'LP 13'!I21","v":0},{"$f":"'LP 14'!I21","v":0},{"$f":"'LP 15'!I21","v":0}]
["M2 Indikator 5",{"$f":"SUM('LP 1'!B22,'LP 2'!B22,'LP 3'!B22,'LP 4'!B22,'LP 5'!B22,'LP 6'!B22,'LP 7'!B22,'LP 8'!B22,'LP 9'!B22,'LP 10'!B22,'LP 11'!B22,'LP 12'!B22,'LP 13'!B22,'LP 14'!B22,'LP 15'!B22,)","v":0},{"$f":"SUM('LP 1'!C22,'LP 2'!C22,'LP 3'!C22,'LP 4'!C22,'LP 5'!C22,'LP 6'!C22,'LP 7'!C22,'LP 8'!C22,'LP 9'!C22,'LP 10'!C22,'LP 11'!C22,'LP 12'!C22,'LP 13'!C22,'LP 14'!C22,'LP 15'!C22,)","v":0},{"$f":"SUM('LP 1'!D22,'LP 2'!D22,'LP 3'!D22,'LP 4'!D22,'LP 5'!D22,'LP 6'!D22,'LP 7'!D22,'LP 8'!D22,'LP 9'!D22,'LP 10'!D22,'LP 11'!D22,'LP 12'!D22,'LP 13'!D22,'LP 14'!D22,'LP 15'!D22,)","v":0},{"$f":"SUM('LP 1'!E22,'LP 2'!E22,'LP 3'!E22,'LP 4'!E22,'LP 5'!E22,'LP 6'!E22,'LP 7'!E22,'LP 8'!E22,'LP 9'!E22,'LP 10'!E22,'LP 11'!E22,'LP 12'!E22,'LP 13'!E22,'LP 14'!E22,'LP 15'!E22,)","v":0},null,null,null,{"$f":"'LP 1'!I22","v":0},{"$f":"'LP 2'!I22","v":0},{"$f":"'LP 3'!I22","v":0},{"$f":"'LP 4'!I22","v":0},{"$f":"'LP 5'!I22","v":0},{"$f":"'LP 6'!I22","v":0},{"$f":"'LP 7'!I22","v":0},{"$f":"'LP 8'!I22","v":0},{"$f":"'LP 9'!I22","v":0},{"$f":"'LP 10'!I22","v":0},{"$f":"'LP 11'!I22","v":0},{"$f":"'LP 12'!I22","v":0},{"$f":"'LP 13'!I22","v":0},{"$f":"'LP 14'!I22","v":0},{"$f":"'LP 15'!I22","v":0}]
["M2 Indikator 6",{"$f":"SUM('LP 1'!B23,'LP 2'!B23,'LP 3'!B23,'LP 4'!B23,'LP 5'!B23,'LP 6'!B23,'LP 7'!B23,'LP 8'!B23,'LP 9'!B23,'LP 10'!B23,'LP 11'!B23,'LP 12'!B23,'LP 13'!B23,'LP 14'!B23,'LP 15'!B23,)","v":0},{"$f":"SUM('LP 1'!C23,'LP 2'!C23,'LP 3'!C23,'LP 4'!C23,'LP 5'!C23,'LP 6'!C23,'LP 7'!C23,'LP 8'!C23,'LP 9'!C23,'LP 10'!C23,'LP 11'!C23,'LP 12'!C23,'LP 13'!C23,'LP 14'!C23,'LP 15'!C23,)","v":0},{"$f":"SUM('LP 1'!D23,'LP 2'!D23,'LP 3'!D23,'LP 4'!D23,'LP 5'!D23,'LP 6'!D23,'LP 7'!D23,'LP 8'!D23,'LP 9'!D23,'LP 10'!D23,'LP 11'!D23,'LP 12'!D23,'LP 13'!D23,'LP 14'!D23,'LP 15'!D23,)","v":0},{"$f":"SUM('LP 1'!E23,'LP 2'!E23,'LP 3'!E23,'LP 4'!E23,'LP 5'!E23,'LP 6'!E23,'LP 7'!E23,'LP 8'!E23,'LP 9'!E23,'LP 10'!E23,'LP 11'!E23,'LP 12'!E23,'LP 13'!E23,'LP 14'!E23,'LP 15'!E23,)","v":0},null,null,null,{"$f":"'LP 1'!I23","v":0},{"$f":"'LP 2'!I23","v":0},{"$f":"'LP 3'!I23","v":0},{"$f":"'LP 4'!I23","v":0},{"$f":"'LP 5'!I23","v":0},{"$f":"'LP 6'!I23","v":0},{"$f":"'LP 7'!I23","v":0},{"$f":"'LP 8'!I23","v":0},{"$f":"'LP 9'!I23","v":0},{"$f":"'LP 10'!I23","v":0},{"$f":"'LP 11'!I23","v":0},{"$f":"'LP 12'!I23","v":0},{"$f":"'LP 13'!I23","v":0},{"$f":"'LP 14'!I23","v":0},{"$f":"'LP 15'!I23","v":0}]
["M2 Indikator 7",{"$f":"SUM('LP 1'!B24,'LP 2'!B24,'LP 3'!B24,'LP 4'!B24,'LP 5'!B24,'LP 6'!B24,'LP 7'!B24,'LP 8'!B24,'LP 9'!B24,'LP 10'!B24,'LP 11'!B24,'LP 12'!B24,'LP 13'!B24,'LP 14'!B24,'LP 15'!B24,)","v":0},{"$f":"SUM('LP 1'!C24,'LP 2'!C24,'LP 3'!C24,'LP 4'!C24,'LP 5'!C24,'LP 6'!C24,'LP 7'!C24,'LP 8'!C24,'LP 9'!C24,'LP 10'!C24,'LP 11'!C24,'LP 12'!C24,'LP 13'!C24,'LP 14'!C24,'LP 15'!C24,)","v":0},{"$f":"SUM('LP 1'!D24,'LP 2'!D24,'LP 3'!D24,'LP 4'!D24,'LP 5'!D24,'LP 6'!D24,'LP 7'!D24,'LP 8'!D24,'LP 9'!D24,'LP 10'!D24,'LP 11'!D24,'LP 12'!D24,'LP 13'!D24,'LP 14'!D24,'LP 15'!D24,)","v":0},{"$f":"SUM('LP 1'!E24,'LP 2'!E24,'LP 3'!E24,'LP 4'!E24,'LP 5'!E24,'LP 6'!E24,'LP 7'!E24,'LP 8'!E24,'LP 9'!E24,'LP 10'!E24,'LP 11'!E24,'LP 12'!E24,'LP 13'!E24,'LP 14'!E24,'LP 15'!E24,)","v":0},null,null,null,{"$f":"'LP 1'!I24","v":0},{"$f":"'LP 2'!I24","v":0},{"$f":"'LP 3'!I24","v":0},{"$f":"'LP 4'!I24","v":0},{"$f":"'LP 5'!I24","v":0},{"$f":"'LP 6'!I24","v":0},{"$f":"'LP 7'!I24","v":0},{"$f":"'LP 8'!I24","v":0},{"$f":"'LP 9'!I24","v":0},{"$f":"'LP 10'!I24","v":0},{"$f":"'LP 11'!I24","v":0},{"$f":"'LP 12'!I24","v":0},{"$f":"'LP 13'!I24","v":0},{"$f":"'LP 14'!I24","v":0},{"$f":"'LP 15'!I24","v":0}]
["M2 Indikator 8",{"$f":"SUM('LP 1'!B25,'LP 2'!B25,'LP 3'!B25,'LP 4'!B25,'LP 5'!B25,'LP 6'!B25,'LP 7'!B25,'LP 8'!B25,'LP 9'!B25,'LP 10'!B25,'LP 11'!B25,'LP 12'!B25,'LP 13'!B25,'LP 14'!B25,'LP 15'!B25,)","v":0},{"$f":"SUM('LP 1'!C25,'LP 2'!C25,'LP 3'!C25,'LP 4'!C25,'LP 5'!C25,'LP 6'!C25,'LP 7'!C25,'LP 8'!C25,'LP 9'!C25,'LP 10'!C25,'LP 11'!C25,'LP 12'!C25,'LP 13'!C25,'LP 14'!C25,'LP 15'!C25,)","v":0},{"$f":"SUM('LP 1'!D25,'LP 2'!D25,'LP 3'!D25,'LP 4'!D25,'LP 5'!D25,'LP 6'!D25,'LP 7'!D25,'LP 8'!D25,'LP 9'!D25,'LP 10'!D25,'LP 11'!D25,'LP 12'!D25,'LP 13'!D25,'LP 14'!D25,'LP 15'!D25,)","v":0},{"$f":"SUM('LP 1'!E25,'LP 2'!E25,'LP 3'!E25,'LP 4'!E25,'LP 5'!E25,'LP 6'!E25,'LP 7'!E25,'LP 8'!E25,'LP 9'!E25,'LP 10'!E25,'LP 11'!E25,'LP 12'!E25,'LP 13'!E25,'LP 14'!E25,'LP 15'!E25,)","v":0},null,null,null,{"$f":"'LP 1'!I25","v":0},{"$f":"'LP 2'!I25","v":0},{"$f":"'LP 3'!I25","v":0},{"$f":"'LP 4'!I25","v":0},{"$f":"'LP 5'!I25","v":0},{"$f":"'LP 6'!I25","v":0},{"$f":"'LP 7'!I25","v":0},{"$f":"'LP 8'!I25","v":0},{"$f":"'LP 9'!I25","v":0},{"$f":"'LP 10'!I25","v":0},{"$f":"'LP 11'!I25","v":0},{"$f":"'LP 12'!I25","v":0},{"$f":"'LP 13'!I25","v":0},{"$f":"'LP 14'!I25","v":0},{"$f":"'LP 15'!I25","v":0}]
["M2 Indikator 9",{"$f":"SUM('LP 1'!B26,'LP 2'!B26,'LP 3'!B26,'LP 4'!B26,'LP 5'!B26,'LP 6'!B26,'LP 7'!B26,'LP 8'!B26,'LP 9'!B26,'LP 10'!B26,'LP 11'!B26,'LP 12'!B26,'LP 13'!B26,'LP 14'!B26,'LP 15'!B26,)","v":0},{"$f":"SUM('LP 1'!C26,'LP 2'!C26,'LP 3'!C26,'LP 4'!C26,'LP 5'!C26,'LP 6'!C26,'LP 7'!C26,'LP 8'!C26,'LP 9'!C26,'LP 10'!C26,'LP 11'!C26,'LP 12'!C26,'LP 13'!C26,'LP 14'!C26,'LP 15'!C26,)","v":0},{"$f":"SUM('LP 1'!D26,'LP 2'!D26,'LP 3'!D26,'LP 4'!D26,'LP 5'!D26,'LP 6'!D26,'LP 7'!D26,'LP 8'!D26,'LP 9'!D26,'LP 10'!D26,'LP 11'!D26,'LP 12'!D26,'LP 13'!D26,'LP 14'!D26,'LP 15'!D26,)","v":0},{"$f":"SUM('LP 1'!E26,'LP 2'!E26,'LP 3'!E26,'LP 4'!E26,'LP 5'!E26,'LP 6'!E26,'LP 7'!E26,'LP 8'!E26,'LP 9'!E26,'LP 10'!E26,'LP 11'!E26,'LP 12'!E26,'LP 13'!E26,'LP 14'!E26,'LP 15'!E26,)","v":0},null,null,null,{"$f":"'LP 1'!I26","v":0},{"$f":"'LP 2'!I26","v":0},{"$f":"'LP 3'!I26","v":0},{"$f":"'LP 4'!I26","v":0},{"$f":"'LP 5'!I26","v":0},{"$f":"'LP 6'!I26","v":0},{"$f":"'LP 7'!I26","v":0},{"$f":"'LP 8'!I26","v":0},{"$f":"'LP 9'!I26","v":0},{"$f":"'LP 10'!I26","v":0},{"$f":"'LP 11'!I26","v":0},{"$f":"'LP 12'!I26","v":0},{"$f":"'LP 13'!I26","v":0},{"$f":"'LP 14'!I26","v":0},{"$f":"'LP 15'!I26","v":0}]
["M2 Indikator 10",{"$f":"SUM('LP 1'!B27,'LP 2'!B27,'LP 3'!B27,'LP 4'!B27,'LP 5'!B27,'LP 6'!B27,'LP 7'!B27,'LP 8'!B27,'LP 9'!B27,'LP 10'!B27,'LP 11'!B27,'LP 12'!B27,'LP 13'!B27,'LP 14'!B27,'LP 15'!B27,)","v":0},{"$f":"SUM('LP 1'!C27,'LP 2'!C27,'LP 3'!C27,'LP 4'!C27,'LP 5'!C27,'LP 6'!C27,'LP 7'!C27,'LP 8'!C27,'LP 9'!C27,'LP 10'!C27,'LP 11'!C27,'LP 12'!C27,'LP 13'!C27,'LP 14'!C27,'LP 15'!C27,)","v":0},{"$f":"SUM('LP 1'!D27,'LP 2'!D27,'LP 3'!D27,'LP 4'!D27,'LP 5'!D27,'LP 6'!D27,'LP 7'!D27,'LP 8'!D27,'LP 9'!D27,'LP 10'!D27,'LP 11'!D27,'LP 12'!D27,'LP 13'!D27,'LP 14'!D27,'LP 15'!D27,)","v":0},{"$f":"SUM('LP 1'!E27,'LP 2'!E27,'LP 3'!E27,'LP 4'!E27,'LP 5'!E27,'LP 6'!E27,'LP 7'!E27,'LP 8'!E27,'LP 9'!E27,'LP 10'!E27,'LP 11'!E27,'LP 12'!E27,'LP 13'!E27,'LP 14'!E27,'LP 15'!E27,)","v":0},null,null,null,{"$f":"'LP 1'!I27","v":0},{"$f":"'LP 2'!I27","v":0},{"$f":"'LP 3'!I27","v":0},{"$f":"'LP 4'!I27","v":0},{"$f":"'LP 5'!I27","v":0},{"$f":"'LP 6'!I27","v":0},{"$f":"'LP 7'!I27","v":0},{"$f":"'LP 8'!I27","v":0},{"$f":"'LP 9'!I27","v":0},{"$f":"'LP 10'!I27","v":0},{"$f":"'LP 11'!I27","v":0},{"$f":"'LP 12'!I27","v":0},{"$f":"'LP 13'!I27","v":0},{"$f":"'LP 14'!I27","v":0},{"$f":"'LP 15'!I27","v":0}]
["Merkmal"," +++"," ++"," +"," -"," --"," ---"," ?","Auswertung"]
["Merkmal 3",{"$f":"SUM('LP 1'!B29,'LP 2'!B29,'LP 3'!B29,'LP 4'!B29,'LP 5'!B29,'LP 6'!B29,'LP 7'!B29,'LP 8'!B29,'LP 9'!B29,'LP 10'!B29,'LP 11'!B29,'LP 12'!B29,'LP 13'!B29,'LP 14'!B29,'LP 15'!B29,)","v":0},{"$f":"SUM('LP 1'!C29,'LP 2'!C29,'LP 3'!C29,'LP 4'!C29,'LP 5'!C29,'LP 6'!C29,'LP 7'!C29,'LP 8'!C29,'LP 9'!C29,'LP 10'!C29,'LP 11'!C29,'LP 12'!C29,'LP 13'!C29,'LP 14'!C29,'LP 15'!C29,)","v":0},{"$f":"SUM('LP 1'!D29,'LP 2'!D29,'LP 3'!D29,'LP 4'!D29,'LP 5'!D29,'LP 6'!D29,'LP 7'!D29,'LP 8'!D29,'LP 9'!D29,'LP 10'!D29,'LP 11'!D29,'LP 12'!D29,'LP 13'!D29,'LP 14'!D29,'LP 15'!D29,)","v":0},{"$f":"SUM('LP 1'!E29,'LP 2'!E29,'LP 3'!E29,'LP 4'!E29,'LP 5'!E29,'LP 6'!E29,'LP 7'!E29,'LP 8'!E29,'LP 9'!E29,'LP 10'!E29,'LP 11'!E29,'LP 12'!E29,'LP 13'!E29,'LP 14'!E29,'LP 15'!E29,)","v":0},{"$f":"SUM('LP 1'!F29,'LP 2'!F29,'LP 3'!F29,'LP 4'!F29,'LP 5'!F29,'LP 6'!F29,'LP 7'!F29,'LP 8'!F29,'LP 9'!F29,'LP 10'!F29,'LP 11'!F29,'LP 12'!F29,'LP 13'!F29,'LP 14'!F29,'LP 15'!F29,)","v":0},{"$f":"SUM('LP 1'!G29,'LP 2'!G29,'LP 3'!G29,'LP 4'!G29,'LP 5'!G29,'LP 6'!G29,'LP 7'!G29,'LP 8'!G29,'LP 9'!G29,'LP 10'!G29,'LP 11'!G29,'LP 12'!G29,'LP 13'!G29,'LP 14'!G29,'LP 15'!G29,)","v":0},{"$f":"SUM('LP 1'!H29,'LP 2'!H29,'LP 3'!H29,'LP 4'!H29,'LP 5'!H29,'LP 6'!H29,'LP 7'!H29,'LP 8'!H29,'LP 9'!H29,'LP 10'!H29,'LP 11'!H29,'LP 12'!H29,'LP 13'!H29,'LP 14'!H29,'LP 15'!H29,)","v":0}]
[null,null,null,null,null,null,null,null,{"$f":"'LP 1'!I29","v":0},{"$f":"'LP 2'!I29","v":0},{"$f":"'LP 3'!I29","v":0},{"$f":"'LP 4'!I29","v":0},{"$f":"'LP 5'!I29","v":0},{"$f":"'LP 6'!I29","v":0},{"$f":"'LP 7'!I29","v":0},{"$f":"'LP 8'!I29","v":0},{"$f":"'LP 9'!I29","v":0},{"$f":"'LP 10'!I29","v":0},{"$f":"'LP 11'!I29","v":0},{"$f":"'LP 12'!I29","v":0},{"$f":"'LP 13'!I29","v":0},{"$f":"'LP 14'!I29","v":0},{"$f":"'LP 15'!I29","v":0}]
["Indikatoren","ja","teils","nein","?",null,null,null,{"$f":"I40","v":"LP 1"},{"$f":"J40","v":"LP 2"},"LP 3","LP 4","LP 5","LP 6","LP 7","LP 8","LP 9","LP 10","LP 11","LP 12","LP 13","LP 14","LP 15"]
["M3 Indikator 1",{"$f":"SUM('LP 1'!B31,'LP 2'!B31,'LP 3'!B31,'LP 4'!B31,'LP 5'!B31,'LP 6'!B31,'LP 7'!B31,'LP 8'!B31,'LP 9'!B31,'LP 10'!B31,'LP 11'!B31,'LP 12'!B31,'LP 13'!B31,'LP 14'!B31,'LP 15'!B31,)","v":0},{"$f":"SUM('LP 1'!C31,'LP 2'!C31,'LP 3'!C31,'LP 4'!C31,'LP 5'!C31,'LP 6'!C31,'LP 7'!C31,'LP 8'!C31,'LP 9'!C31,'LP 10'!C31,'LP 11'!C31,'LP 12'!C31,'LP 13'!C31,'LP 14'!C31,'LP 15'!C31,)","v":0},{"$f":"SUM('LP 1'!D31,'LP 2'!D31,'LP 3'!D31,'LP 4'!D31,'LP 5'!D31,'LP 6'!D31,'LP 7'!D31,'LP 8'!D31,'LP 9'!D31,'LP 10'!D31,'LP 11'!D31,'LP 12'!D31,'LP 13'!D31,'LP 14'!D31,'LP 15'!D31,)","v":0},{"$f":"SUM('LP 1'!E31,'LP 2'!E31,'LP 3'!E31,'LP 4'!E31,'LP 5'!E31,'LP 6'!E31,'LP 7'!E31,'LP 8'!E31,'LP 9'!E31,'LP 10'!E31,'LP 11'!E31,'LP 12'!E31,'LP 13'!E31,'LP 14'!E31,'LP 15'!E31,)","v":0},null,null,null,{"$f":"'LP 1'!I31","v":0},{"$f":"'LP 2'!I31","v":0},{"$f":"'LP 3'!I31","v":0},{"$f":"'LP 4'!I31","v":0},{"$f":"'LP 5'!I31","v":0},{"$f":"'LP 6'!I31","v":0},{"$f":"'LP 7'!I31","v":0},{"$f":"'LP 8'!I31","v":0},{"$f":"'LP 9'!I31","v":0},{"$f":"'LP 10'!I31","v":0},{"$f":"'LP 11'!I31","v":0},{"$f":"'LP 12'!I31","v":0},{"$f":"'LP 13'!I31","v":0},{"$f":"'LP 14'!I31","v":0},{"$f":"'LP 15'!I31","v":0}]
["M3 Indikator 2",{"$f":"SUM('LP 1'!B32,'LP 2'!B32,'LP 3'!B32,'LP 4'!B32,'LP 5'!B32,'LP 6'!B32,'LP 7'!B32,'LP 8'!B32,'LP 9'!B32,'LP 10'!B32,'LP 11'!B32,'LP 12'!B32,'LP 13'!B32,'LP 14'!B32,'LP 15'!B32,)","v":0},{"$f":"SUM('LP 1'!C32,'LP 2'!C32,'LP 3'!C32,'LP 4'!C32,'LP 5'!C32,'LP 6'!C32,'LP 7'!C32,'LP 8'!C32,'LP 9'!C32,'LP 10'!C32,'LP 11'!C32,'LP 12'!C32,'LP 13'!C32,'LP 14'!C32,'LP 15'!C32,)","v":0},{"$f":"SUM('LP 1'!D32,'LP 2'!D32,'LP 3'!D32,'LP 4'!D32,'LP 5'!D32,'LP 6'!D32,'LP 7'!D32,'LP 8'!D32,'LP 9'!D32,'LP 10'!D32,'LP 11'!D32,'LP 12'!D32,'LP 13'!D32,'LP 14'!D32,'LP 15'!D32,)","v":0},{"$f":"SUM('LP 1'!E32,'LP 2'!E32,'LP 3'!E32,'LP 4'!E32,'LP 5'!E32,'LP 6'!E32,'LP 7'!E32,'LP 8'!E32,'LP 9'!E32,'LP 10'!E32,'LP 11'!E32,'LP 12'!E32,'LP 13'!E32,'LP 14'!E32,'LP 15'!E32,)","v":0},null,null,null,{"$f":"'LP 1'!I32","v":0},{"$f":"'LP 2'!I32","v":0},{"$f":"'LP 3'!I32","v":0},{"$f":"'LP 4'!I32","v":0},{"$f":"'LP 5'!I32","v":0},{"$f":"'LP 6'!I32","v":0},{"$f":"'LP 7'!I32","v":0},{"$f":"'LP 8'!I32","v":0},{"$f":"'LP 9'!I32","v":0},{"$f":"'LP 10'!I32","v":0},{"$f":"'LP 11'!I32","v":0},{"$f":"'LP 12'!I32","v":0},{"$f":"'LP 13'!I32","v":0},{"$f":"'LP 14'!I32","v":0},{"$f":"'LP 15'!I32","v":0}]
["M3 Indikator 3",{"$f":"SUM('LP 1'!B33,'LP 2'!B33,'LP 3'!B33,'LP 4'!B33,'LP 5'!B33,'LP 6'!B33,'LP 7'!B33,'LP 8'!B33,'LP 9'!B33,'LP 10'!B33,'LP 11'!B33,'LP 12'!B33,'LP 13'!B33,'LP 14'!B33,'LP 15'!B33,)","v":0},{"$f":"SUM('LP 1'!C33,'LP 2'!C33,'LP 3'!C33,'LP 4'!C33,'LP 5'!C33,'LP 6'!C33,'LP 7'!C33,'LP 8'!C33,'LP 9'!C33,'LP 10'!C33,'LP 11'!C33,'LP 12'!C33,'LP 13'!C33,'LP 14'!C33,'LP 15'!C33,)","v":0},{"$f":"SUM('LP 1'!D33,'LP 2'!D33,'LP 3'!D33,'LP 4'!D33,'LP 5'!D33,'LP 6'!D33,'LP 7'!D33,'LP 8'!D33,'LP 9'!D33,'LP 10'!D33,'LP 11'!D33,'LP 12'!D33,'LP 13'!D33,'LP 14'!D33,'LP 15'!D33,)","v":0},{"$f":"SUM('LP 1'!E33,'LP 2'!E33,'LP 3'!E33,'LP 4'!E33,'LP 5'!E33,'LP 6'!E33,'LP 7'!E33,'LP 8'!E33,'LP 9'!E33,'LP 10'!E33,'LP 11'!E33,'LP 12'!E33,'LP 13'!E33,'LP 14'!E33,'LP 15'!E33,)","v":0},null,null,null,{"$f":"'LP 1'!I33","v":0},{"$f":"'LP 2'!I33","v":0},{"$f":"'LP 3'!I33","v":0},{"$f":"'LP 4'!I33","v":0},{"$f":"'LP 5'!I33","v":0},{"$f":"'LP 6'!I33","v":0},{"$f":"'LP 7'!I33","v":0},{"$f":"'LP 8'!I33","v":0},{"$f":"'LP 9'!I33","v":0},{"$f":"'LP 10'!I33","v":0},{"$f":"'LP 11'!I33","v":0},{"$f":"'LP 12'!I33","v":0},{"$f":"'LP 13'!I33","v":0},{"$f":"'LP 14'!I33","v":0},{"$f":"'LP 15'!I33","v":0}]
["M3 Indikator 4",{"$f":"SUM('LP 1'!B34,'LP 2'!B34,'LP 3'!B34,'LP 4'!B34,'LP 5'!B34,'LP 6'!B34,'LP 7'!B34,'LP 8'!B34,'LP 9'!B34,'LP 10'!B34,'LP 11'!B34,'LP 12'!B34,'LP 13'!B34,'LP 14'!B34,'LP 15'!B34,)","v":0},{"$f":"SUM('LP 1'!C34,'LP 2'!C34,'LP 3'!C34,'LP 4'!C34,'LP 5'!C34,'LP 6'!C34,'LP 7'!C34,'LP 8'!C34,'LP 9'!C34,'LP 10'!C34,'LP 11'!C34,'LP 12'!C34,'LP 13'!C34,'LP 14'!C34,'LP 15'!C34,)","v":0},{"$f":"SUM('LP 1'!D34,'LP 2'!D34,'LP 3'!D34,'LP 4'!D34,'LP 5'!D34,'LP 6'!D34,'LP 7'!D34,'LP 8'!D34,'LP 9'!D34,'LP 10'!D34,'LP 11'!D34,'LP 12'!D34,'LP 13'!D34,'LP 14'!D34,'LP 15'!D34,)","v":0},{"$f":"SUM('LP 1'!E34,'LP 2'!E34,'LP 3'!E34,'LP 4'!E34,'LP 5'!E34,'LP 6'!E34,'LP 7'!E34,'LP 8'!E34,'LP 9'!E34,'LP 10'!E34,'LP 11'!E34,'LP 12'!E34,'LP 13'!E34,'LP 14'!E34,'LP 15'!E34,)","v":0},null,null,null,{"$f":"'LP 1'!I34","v":0},{"$f":"'LP 2'!I34","v":0},{"$f":"'LP 3'!I34","v":0},{"$f":"'LP 4'!I34","v":0},{"$f":"'LP 5'!I34","v":0},{"$f":"'LP 6'!I34","v":0},{"$f":"'LP 7'!I34","v":0},{"$f":"'LP 8'!I34","v":0},{"$f":"'LP 9'!I34","v":0},{"$f":"'LP 10'!I34","v":0},{"$f":"'LP 11'!I34","v":0},{"$f":"'LP 12'!I34","v":0},{"$f":"'LP 13'!I34","v":0},{"$f":"'LP 14'!I34","v":0},{"$f":"'LP 15'!I34","v":0}]
["M3 Indikator 5",{"$f":"SUM('LP 1'!B35,'LP 2'!B35,'LP 3'!B35,'LP 4'!B35,'LP 5'!B35,'LP 6'!B35,'LP 7'!B35,'LP 8'!B35,'LP 9'!B35,'LP 10'!B35,'LP 11'!B35,'LP 12'!B35,'LP 13'!B35,'LP 14'!B35,'LP 15'!B35,)","v":0},{"$f":"SUM('LP 1'!C35,'LP 2'!C35,'LP 3'!C35,'LP 4'!C35,'LP 5'!C35,'LP 6'!C35,'LP 7'!C35,'LP 8'!C35,'LP 9'!C35,'LP 10'!C35,'LP 11'!C35,'LP 12'!C35,'LP 13'!C35,'LP 14'!C35,'LP 15'!C35,)","v":0},{"$f":"SUM('LP 1'!D35,'LP 2'!D35,'LP 3'!D35,'LP 4'!D35,'LP 5'!D35,'LP 6'!D35,'LP 7'!D35,'LP 8'!D35,'LP 9'!D35,'LP 10'!D35,'LP 11'!D35,'LP 12'!D35,'LP 13'!D35,'LP 14'!D35,'LP 15'!D35,)","v":0},{"$f":"SUM('LP 1'!E35,'LP 2'!E35,'LP 3'!E35,'LP 4'!E35,'LP 5'!E35,'LP 6'!E35,'LP 7'!E35,'LP 8'!E35,'LP 9'!E35,'LP 10'!E35,'LP 11'!E35,'LP 12'!E35,'LP 13'!E35,'LP 14'!E35,'LP 15'!E35,)","v":0},null,null,null,{"$f":"'LP 1'!I35","v":0},{"$f":"'LP 2'!I35","v":0},{"$f":"'LP 3'!I35","v":0},{"$f":"'LP 4'!I35","v":0},{"$f":"'LP 5'!I35","v":0},{"$f":"'LP 6'!I35","v":0},{"$f":"'LP 7'!I35","v":0},{"$f":"'LP 8'!I35","v":0},{"$f":"'LP 9'!I35","v":0},{"$f":"'LP 10'!I35","v":0},{"$f":"'LP 11'!I35","v":0},{"$f":"'LP 12'!I35","v":0},{"$f":"'LP 13'!I35","v":0},{"$f":"'LP 14'!I35","v":0},{"$f":"'LP 15'!I35","v":0}]
["M3 Indikator 6",{"$f":"SUM('LP 1'!B36,'LP 2'!B36,'LP 3'!B36,'LP 4'!B36,'LP 5'!B36,'LP 6'!B36,'LP 7'!B36,'LP 8'!B36,'LP 9'!B36,'LP 10'!B36,'LP 11'!B36,'LP 12'!B36,'LP 13'!B36,'LP 14'!B36,'LP 15'!B36,)","v":0},{"$f":"SUM('LP 1'!C36,'LP 2'!C36,'LP 3'!C36,'LP 4'!C36,'LP 5'!C36,'LP 6'!C36,'LP 7'!C36,'LP 8'!C36,'LP 9'!C36,'LP 10'!C36,'LP 11'!C36,'LP 12'!C36,'LP 13'!C36,'LP 14'!C36,'LP 15'!C36,)","v":0},{"$f":"SUM('LP 1'!D36,'LP 2'!D36,'LP 3'!D36,'LP 4'!D36,'LP 5'!D36,'LP 6'!D36,'LP 7'!D36,'LP 8'!D36,'LP 9'!D36,'LP 10'!D36,'LP 11'!D36,'LP 12'!D36,'LP 13'!D36,'LP 14'!D36,'LP 15'!D36,)","v":0},{"$f":"SUM('LP 1'!E36,'LP 2'!E36,'LP 3'!E36,'LP 4'!E36,'LP 5'!E36,'LP 6'!E36,'LP 7'!E36,'LP 8'!E36,'LP 9'!E36,'LP 10'!E36,'LP 11'!E36,'LP 12'!E36,'LP 13'!E36,'LP 14'!E36,'LP 15'!E36,)","v":0},null,null,null,{"$f":"'LP 1'!I36","v":0},{"$f":"'LP 2'!I36","v":0},{"$f":"'LP 3'!I36","v":0},{"$f":"'LP 4'!I36","v":0},{"$f":"'LP 5'!I36","v":0},{"$f":"'LP 6'!I36","v":0},{"$f":"'LP 7'!I36","v":0},{"$f":"'LP 8'!I36","v":0},{"$f":"'LP 9'!I36","v":0},{"$f":"'LP 10'!I36","v":0},{"$f":"'LP 11'!I36","v":0},{"$f":"'LP 12'!I36","v":0},{"$f":"'LP 13'!I36","v":0},{"$f":"'LP 14'!I36","v":0},{"$f":"'LP 15'!I36","v":0}]
["M3 Indikator 7",{"$f":"SUM('LP 1'!B37,'LP 2'!B37,'LP 3'!B37,'LP 4'!B37,'LP 5'!B37,'LP 6'!B37,'LP 7'!B37,'LP 8'!B37,'LP 9'!B37,'LP 10'!B37,'LP 11'!B37,'LP 12'!B37,'LP 13'!B37,'LP 14'!B37,'LP 15'!B37,)","v":0},{"$f":"SUM('LP 1'!C37,'LP 2'!C37,'LP 3'!C37,'LP 4'!C37,'LP 5'!C37,'LP 6'!C37,'LP 7'!C37,'LP 8'!C37,'LP 9'!C37,'LP 10'!C37,'LP 11'!C37,'LP 12'!C37,'LP 13'!C37,'LP 14'!C37,'LP 15'!C37,)","v":0},{"$f":"SUM('LP 1'!D37,'LP 2'!D37,'LP 3'!D37,'LP 4'!D37,'LP 5'!D37,'LP 6'!D37,'LP 7'!D37,'LP 8'!D37,'LP 9'!D37,'LP 10'!D37,'LP 11'!D37,'LP 12'!D37,'LP 13'!D37,'LP 14'!D37,'LP 15'!D37,)","v":0},{"$f":"SUM('LP 1'!E37,'LP 2'!E37,'LP 3'!E37,'LP 4'!E37,'LP 5'!E37,'LP 6'!E37,'LP 7'!E37,'LP 8'!E37,'LP 9'!E37,'LP 10'!E37,'LP 11'!E37,'LP 12'!E37,'LP 13'!E37,'LP 14'!E37,'LP 15'!E37,)","v":0},null,null,null,{"$f":"'LP 1'!I37","v":0},{"$f":"'LP 2'!I37","v":0},{"$f":"'LP 3'!I37","v":0},{"$f":"'LP 4'!I37","v":0},{"$f":"'LP 5'!I37","v":0},{"$f":"'LP 6'!I37","v":0},{"$f":"'LP 7'!I37","v":0},{"$f":"'LP 8'!I37","v":0},{"$f":"'LP 9'!I37","v":0},{"$f":"'LP 10'!I37","v":0},{"$f":"'LP 11'!I37","v":0},{"$f":"'LP 12'!I37","v":0},{"$f":"'LP 13'!I37","v":0},{"$f":"'LP 14'!I37","v":0},{"$f":"'LP 15'!I37","v":0}]
["M3 Indikator 8",{"$f":"SUM('LP 1'!B38,'LP 2'!B38,'LP 3'!B38,'LP 4'!B38,'LP 5'!B38,'LP 6'!B38,'LP 7'!B38,'LP 8'!B38,'LP 9'!B38,'LP 10'!B38,'LP 11'!B38,'LP 12'!B38,'LP 13'!B38,'LP 14'!B38,'LP 15'!B38,)","v":0},{"$f":"SUM('LP 1'!C38,'LP 2'!C38,'LP 3'!C38,'LP 4'!C38,'LP 5'!C38,'LP 6'!C38,'LP 7'!C38,'LP 8'!C38,'LP 9'!C38,'LP 10'!C38,'LP 11'!C38,'LP 12'!C38,'LP 13'!C38,'LP 14'!C38,'LP 15'!C38,)","v":0},{"$f":"SUM('LP 1'!D38,'LP 2'!D38,'LP 3'!D38,'LP 4'!D38,'LP 5'!D38,'LP 6'!D38,'LP 7'!D38,'LP 8'!D38,'LP 9'!D38,'LP 10'!D38,'LP 11'!D38,'LP 12'!D38,'LP 13'!D38,'LP 14'!D38,'LP 15'!D38,)","v":0},{"$f":"SUM('LP 1'!E38,'LP 2'!E38,'LP 3'!E38,'LP 4'!E38,'LP 5'!E38,'LP 6'!E38,'LP 7'!E38,'LP 8'!E38,'LP 9'!E38,'LP 10'!E38,'LP 11'!E38,'LP 12'!E38,'LP 13'!E38,'LP 14'!E38,'LP 15'!E38,)","v":0},null,null,null,{"$f":"'LP 1'!I38","v":0},{"$f":"'LP 2'!I38","v":0},{"$f":"'LP 3'!I38","v":0},{"$f":"'LP 4'!I38","v":0},{"$f":"'LP 5'!I38","v":0},{"$f":"'LP 6'!I38","v":0},{"$f":"'LP 7'!I38","v":0},{"$f":"'LP 8'!I38","v":0},{"$f":"'LP 9'!I38","v":0},{"$f":"'LP 10'!I38","v":0},{"$f":"'LP 11'!I38","v":0},{"$f":"'LP 12'!I38","v":0},{"$f":"'LP 13'!I38","v":0},{"$f":"'LP 14'!I38","v":0},{"$f":"'LP 15'!I38","v":0}]
["M3 Indikator 9",{"$f":"SUM('LP 1'!B39,'LP 2'!B39,'LP 3'!B39,'LP 4'!B39,'LP 5'!B39,'LP 6'!B39,'LP 7'!B39,'LP 8'!B39,'LP 9'!B39,'LP 10'!B39,'LP 11'!B39,'LP 12'!B39,'LP 13'!B39,'LP 14'!B39,'LP 15'!B39,)","v":0},{"$f":"SUM('LP 1'!C39,'LP 2'!C39,'LP 3'!C39,'LP 4'!C39,'LP 5'!C39,'LP 6'!C39,'LP 7'!C39,'LP 8'!C39,'LP 9'!C39,'LP 10'!C39,'LP 11'!C39,'LP 12'!C39,'LP 13'!C39,'LP 14'!C39,'LP 15'!C39,)","v":0},{"$f":"SUM('LP 1'!D39,'LP 2'!D39,'LP 3'!D39,'LP 4'!D39,'LP 5'!D39,'LP 6'!D39,'LP 7'!D39,'LP 8'!D39,'LP 9'!D39,'LP 10'!D39,'LP 11'!D39,'LP 12'!D39,'LP 13'!D39,'LP 14'!D39,'LP 15'!D39,)","v":0},{"$f":"SUM('LP 1'!E39,'LP 2'!E39,'LP 3'!E39,'LP 4'!E39,'LP 5'!E39,'LP 6'!E39,'LP 7'!E39,'LP 8'!E39,'LP 9'!E39,'LP 10'!E39,'LP 11'!E39,'LP 12'!E39,'LP 13'!E39,'LP 14'!E39,'LP 15'!E39,)","v":0},null,null,null,{"$f":"'LP 1'!I39","v":0},{"$f":"'LP 2'!I39","v":0},{"$f":"'LP 3'!I39","v":0},{"$f":"'LP 4'!I39","v":0},{"$f":"'LP 5'!I39","v":0},{"$f":"'LP 6'!I39","v":0},{"$f":"'LP 7'!I39","v":0},{"$f":"'LP 8'!I39","v":0},{"$f":"'LP 9'!I39","v":0},{"$f":"'LP 10'!I39","v":0},{"$f":"'LP 11'!I39","v":0},{"$f":"'LP 12'!I39","v":0},{"$f":"'LP 13'!I39","v":0},{"$f":"'LP 14'!I39","v":0},{"$f":"'LP 15'!I39","v":0}]
["M3 Indikator 10",{"$f":"SUM('LP 1'!B40,'LP 2'!B40,'LP 3'!B40,'LP 4'!B40,'LP 5'!B40,'LP 6'!B40,'LP 7'!B40,'LP 8'!B40,'LP 9'!B40,'LP 10'!B40,'LP 11'!B40,'LP 12'!B40,'LP 13'!B40,'LP 14'!B40,'LP 15'!B40,)","v":0},{"$f":"SUM('LP 1'!C40,'LP 2'!C40,'LP 3'!C40,'LP 4'!C40,'LP 5'!C40,'LP 6'!C40,'LP 7'!C40,'LP 8'!C40,'LP 9'!C40,'LP 10'!C40,'LP 11'!C40,'LP 12'!C40,'LP 13'!C40,'LP 14'!C40,'LP 15'!C40,)","v":0},{"$f":"SUM('LP 1'!D40,'LP 2'!D40,'LP 3'!D40,'LP 4'!D40,'LP 5'!D40,'LP 6'!D40,'LP 7'!D40,'LP 8'!D40,'LP 9'!D40,'LP 10'!D40,'LP 11'!D40,'LP 12'!D40,'LP 13'!D40,'LP 14'!D40,'LP 15'!D40,)","v":0},{"$f":"SUM('LP 1'!E40,'LP 2'!E40,'LP 3'!E40,'LP 4'!E40,'LP 5'!E40,'LP 6'!E40,'LP 7'!E40,'LP 8'!E40,'LP 9'!E40,'LP 10'!E40,'LP 11'!E40,'LP 12'!E40,'LP 13'!E40,'LP 14'!E40,'LP 15'!E40,)","v":0},null,null,null,{"$f":"'LP 1'!I40","v":0},{"$f":"'LP 2'!I40","v":0},{"$f":"'LP 3'!I40","v":0},{"$f":"'LP 4'!I40","v":0},{"$f":"'LP 5'!I40","v":0},{"$f":"'LP 6'!I40","v":0},{"$f":"'LP 7'!I40","v":0},{"$f":"'LP 8'!I40","v":0},{"$f":"'LP 9'!I40","v":0},{"$f":"'LP 10'!I40","v":0},{"$f":"'LP 11'!I40","v":0},{"$f":"'LP 12'!I40","v":0},{"$f":"'LP 13'!I40","v":0},{"$f":"'LP 14'!I40","v":0},{"$f":"'LP 15'!I40","v":0}]
["Merkmal"," +++"," ++"," +"," -"," --"," ---"," ?","Auswertung"]
["Merkmal 4",{"$f":"SUM('LP 1'!B42,'LP 2'!B42,'LP 3'!B42,'LP 4'!B42,'LP 5'!B42,'LP 6'!B42,'LP 7'!B42,'LP 8'!B42,'LP 9'!B42,'LP 10'!B42,'LP 11'!B42,'LP 12'!B42,'LP 13'!B42,'LP 14'!B42,'LP 15'!B42,)","v":0},{"$f":"SUM('LP 1'!C42,'LP 2'!C42,'LP 3'!C42,'LP 4'!C42,'LP 5'!C42,'LP 6'!C42,'LP 7'!C42,'LP 8'!C42,'LP 9'!C42,'LP 10'!C42,'LP 11'!C42,'LP 12'!C42,'LP 13'!C42,'LP 14'!C42,'LP 15'!C42,)","v":0},{"$f":"SUM('LP 1'!D42,'LP 2'!D42,'LP 3'!D42,'LP 4'!D42,'LP 5'!D42,'LP 6'!D42,'LP 7'!D42,'LP 8'!D42,'LP 9'!D42,'LP 10'!D42,'LP 11'!D42,'LP 12'!D42,'LP 13'!D42,'LP 14'!D42,'LP 15'!D42,)","v":0},{"$f":"SUM('LP 1'!E42,'LP 2'!E42,'LP 3'!E42,'LP 4'!E42,'LP 5'!E42,'LP 6'!E42,'LP 7'!E42,'LP 8'!E42,'LP 9'!E42,'LP 10'!E42,'LP 11'!E42,'LP 12'!E42,'LP 13'!E42,'LP 14'!E42,'LP 15'!E42,)","v":0},{"$f":"SUM('LP 1'!F42,'LP 2'!F42,'LP 3'!F42,'LP 4'!F42,'LP 5'!F42,'LP 6'!F42,'LP 7'!F42,'LP 8'!F42,'LP 9'!F42,'LP 10'!F42,'LP 11'!F42,'LP 12'!F42,'LP 13'!F42,'LP 14'!F42,'LP 15'!F42,)","v":0},{"$f":"SUM('LP 1'!G42,'LP 2'!G42,'LP 3'!G42,'LP 4'!G42,'LP 5'!G42,'LP 6'!G42,'LP 7'!G42,'LP 8'!G42,'LP 9'!G42,'LP 10'!G42,'LP 11'!G42,'LP 12'!G42,'LP 13'!G42,'LP 14'!G42,'LP 15'!G42,)","v":0},{"$f":"SUM('LP 1'!H42,'LP 2'!H42,'LP 3'!H42,'LP 4'!H42,'LP 5'!H42,'LP 6'!H42,'LP 7'!H42,'LP 8'!H42,'LP 9'!H42,'LP 10'!H42,'LP 11'!H42,'LP 12'!H42,'LP 13'!H42,'LP 14'!H42,'LP 15'!H42,)","v":0}]
[null,null,null,null,null,null,null,null,{"$f":"'LP 1'!I42","v":0},{"$f":"'LP 2'!I42","v":0},{"$f":"'LP 3'!I42","v":0},{"$f":"'LP 4'!I42","v":0},{"$f":"'LP 5'!I42","v":0},{"$f":"'LP 6'!I42","v":0},{"$f":"'LP 7'!I42","v":0},{"$f":"'LP 8'!I42","v":0},{"$f":"'LP 9'!I42","v":0},{"$f":"'LP 10'!I42","v":0},{"$f":"'LP 11'!I42","v":0},{"$f":"'LP 12'!I42","v":0},{"$f":"'LP 13'!I42","v":0},{"$f":"'LP 14'!I42","v":0},{"$f":"'LP 15'!I42","v":0}]
["Indikatoren","ja","teils","nein","?",null,null,null,{"$f":"I40","v":"LP 1"},{"$f":"J40","v":"LP 2"},"LP 3","LP 4","LP 5","LP 6","LP 7","LP 8","LP 9","LP 10","LP 11","LP 12","LP 13","LP 14","LP 15"]
["M4 Indikator 1",{"$f":"SUM('LP 1'!B44,'LP 2'!B44,'LP 3'!B44,'LP 4'!B44,'LP 5'!B44,'LP 6'!B44,'LP 7'!B44,'LP 8'!B44,'LP 9'!B44,'LP 10'!B44,'LP 11'!B44,'LP 12'!B44,'LP 13'!B44,'LP 14'!B44,'LP 15'!B44,)","v":0},{"$f":"SUM('LP 1'!C44,'LP 2'!C44,'LP 3'!C44,'LP 4'!C44,'LP 5'!C44,'LP 6'!C44,'LP 7'!C44,'LP 8'!C44,'LP 9'!C44,'LP 10'!C44,'LP 11'!C44,'LP 12'!C44,'LP 13'!C44,'LP 14'!C44,'LP 15'!C44,)","v":0},{"$f":"SUM('LP 1'!D44,'LP 2'!D44,'LP 3'!D44,'LP 4'!D44,'LP 5'!D44,'LP 6'!D44,'LP 7'!D44,'LP 8'!D44,'LP 9'!D44,'LP 10'!D44,'LP 11'!D44,'LP 12'!D44,'LP 13'!D44,'LP 14'!D44,'LP 15'!D44,)","v":0},{"$f":"SUM('LP 1'!E44,'LP 2'!E44,'LP 3'!E44,'LP 4'!E44,'LP 5'!E44,'LP 6'!E44,'LP 7'!E44,'LP 8'!E44,'LP 9'!E44,'LP 10'!E44,'LP 11'!E44,'LP 12'!E44,'LP 13'!E44,'LP 14'!E44,'LP 15'!E44,)","v":0},null,null,null,{"$f":"'LP 1'!I44","v":0},{"$f":"'LP 2'!I44","v":0},{"$f":"'LP 3'!I44","v":0},{"$f":"'LP 4'!I44","v":0},{"$f":"'LP 5'!I44","v":0},{"$f":"'LP 6'!I44","v":0},{"$f":"'LP 7'!I44","v":0},{"$f":"'LP 8'!I44","v":0},{"$f":"'LP 9'!I44","v":0},{"$f":"'LP 10'!I44","v":0},{"$f":"'LP 11'!I44","v":0},{"$f":"'LP 12'!I44","v":0},{"$f":"'LP 13'!I44","v":0},{"$f":"'LP 14'!I44","v":0},{"$f":"'LP 15'!I44","v":0}]
["M4 Indikator 2",{"$f":"SUM('LP 1'!B45,'LP 2'!B45,'LP 3'!B45,'LP 4'!B45,'LP 5'!B45,'LP 6'!B45,'LP 7'!B45,'LP 8'!B45,'LP 9'!B45,'LP 10'!B45,'LP 11'!B45,'LP 12'!B45,'LP 13'!B45,'LP 14'!B45,'LP 15'!B45,)","v":0},{"$f":"SUM('LP 1'!C45,'LP 2'!C45,'LP 3'!C45,'LP 4'!C45,'LP 5'!C45,'LP 6'!C45,'LP 7'!C45,'LP 8'!C45,'LP 9'!C45,'LP 10'!C45,'LP 11'!C45,'LP 12'!C45,'LP 13'!C45,'LP 14'!C45,'LP 15'!C45,)","v":0},{"$f":"SUM('LP 1'!D45,'LP 2'!D45,'LP 3'!D45,'LP 4'!D45,'LP 5'!D45,'LP 6'!D45,'LP 7'!D45,'LP 8'!D45,'LP 9'!D45,'LP 10'!D45,'LP 11'!D45,'LP 12'!D45,'LP 13'!D45,'LP 14'!D45,'LP 15'!D45,)","v":0},{"$f":"SUM('LP 1'!E45,'LP 2'!E45,'LP 3'!E45,'LP 4'!E45,'LP 5'!E45,'LP 6'!E45,'LP 7'!E45,'LP 8'!E45,'LP 9'!E45,'LP 10'!E45,'LP 11'!E45,'LP 12'!E45,'LP 13'!E45,'LP 14'!E45,'LP 15'!E45,)","v":0},null,null,null,{"$f":"'LP 1'!I45","v":0},{"$f":"'LP 2'!I45","v":0},{"$f":"'LP 3'!I45","v":0},{"$f":"'LP 4'!I45","v":0},{"$f":"'LP 5'!I45","v":0},{"$f":"'LP 6'!I45","v":0},{"$f":"'LP 7'!I45","v":0},{"$f":"'LP 8'!I45","v":0},{"$f":"'LP 9'!I45","v":0},{"$f":"'LP 10'!I45","v":0},{"$f":"'LP 11'!I45","v":0},{"$f":"'LP 12'!I45","v":0},{"$f":"'LP 13'!I45","v":0},{"$f":"'LP 14'!I45","v":0},{"$f":"'LP 15'!I45","v":0}]
["M4 Indikator 3",{"$f":"SUM('LP 1'!B46,'LP 2'!B46,'LP 3'!B46,'LP 4'!B46,'LP 5'!B46,'LP 6'!B46,'LP 7'!B46,'LP 8'!B46,'LP 9'!B46,'LP 10'!B46,'LP 11'!B46,'LP 12'!B46,'LP 13'!B46,'LP 14'!B46,'LP 15'!B46,)","v":0},{"$f":"SUM('LP 1'!C46,'LP 2'!C46,'LP 3'!C46,'LP 4'!C46,'LP 5'!C46,'LP 6'!C46,'LP 7'!C46,'LP 8'!C46,'LP 9'!C46,'LP 10'!C46,'LP 11'!C46,'LP 12'!C46,'LP 13'!C46,'LP 14'!C46,'LP 15'!C46,)","v":0},{"$f":"SUM('LP 1'!D46,'LP 2'!D46,'LP 3'!D46,'LP 4'!D46,'LP 5'!D46,'LP 6'!D46,'LP 7'!D46,'LP 8'!D46,'LP 9'!D46,'LP 10'!D46,'LP 11'!D46,'LP 12'!D46,'LP 13'!D46,'LP 14'!D46,'LP 15'!D46,)","v":0},{"$f":"SUM('LP 1'!E46,'LP 2'!E46,'LP 3'!E46,'LP 4'!E46,'LP 5'!E46,'LP 6'!E46,'LP 7'!E46,'LP 8'!E46,'LP 9'!E46,'LP 10'!E46,'LP 11'!E46,'LP 12'!E46,'LP 13'!E46,'LP 14'!E46,'LP 15'!E46,)","v":0},null,null,null,{"$f":"'LP 1'!I46","v":0},{"$f":"'LP 2'!I46","v":0},{"$f":"'LP 3'!I46","v":0},{"$f":"'LP 4'!I46","v":0},{"$f":"'LP 5'!I46","v":0},{"$f":"'LP 6'!I46","v":0},{"$f":"'LP 7'!I46","v":0},{"$f":"'LP 8'!I46","v":0},{"$f":"'LP 9'!I46","v":0},{"$f":"'LP 10'!I46","v":0},{"$f":"'LP 11'!I46","v":0},{"$f":"'LP 12'!I46","v":0},{"$f":"'LP 13'!I46","v":0},{"$f":"'LP 14'!I46","v":0},{"$f":"'LP 15'!I46","v":0}]
["M4 Indikator 4",{"$f":"SUM('LP 1'!B47,'LP 2'!B47,'LP 3'!B47,'LP 4'!B47,'LP 5'!B47,'LP 6'!B47,'LP 7'!B47,'LP 8'!B47,'LP 9'!B47,'LP 10'!B47,'LP 11'!B47,'LP 12'!B47,'LP 13'!B47,'LP 14'!B47,'LP 15'!B47,)","v":0},{"$f":"SUM('LP 1'!C47,'LP 2'!C47,'LP 3'!C47,'LP 4'!C47,'LP 5'!C47,'LP 6'!C47,'LP 7'!C47,'LP 8'!C47,'LP 9'!C47,'LP 10'!C47,'LP 11'!C47,'LP 12'!C47,'LP 13'!C47,'LP 14'!C47,'LP 15'!C47,)","v":0},{"$f":"SUM('LP 1'!D47,'LP 2'!D47,'LP 3'!D47,'LP 4'!D47,'LP 5'!D47,'LP 6'!D47,'LP 7'!D47,'LP 8'!D47,'LP 9'!D47,'LP 10'!D47,'LP 11'!D47,'LP 12'!D47,'LP 13'!D47,'LP 14'!D47,'LP 15'!D47,)","v":0},{"$f":"SUM('LP 1'!E47,'LP 2'!E47,'LP 3'!E47,'LP 4'!E47,'LP 5'!E47,'LP 6'!E47,'LP 7'!E47,'LP 8'!E47,'LP 9'!E47,'LP 10'!E47,'LP 11'!E47,'LP 12'!E47,'LP 13'!E47,'LP 14'!E47,'LP 15'!E47,)","v":0},null,null,null,{"$f":"'LP 1'!I47","v":0},{"$f":"'LP 2'!I47","v":0},{"$f":"'LP 3'!I47","v":0},{"$f":"'LP 4'!I47","v":0},{"$f":"'LP 5'!I47","v":0},{"$f":"'LP 6'!I47","v":0},{"$f":"'LP 7'!I47","v":0},{"$f":"'LP 8'!I47","v":0},{"$f":"'LP 9'!I47","v":0},{"$f":"'LP 10'!I47","v":0},{"$f":"'LP 11'!I47","v":0},{"$f":"'LP 12'!I47","v":0},{"$f":"'LP 13'!I47","v":0},{"$f":"'LP 14'!I47","v":0},{"$f":"'LP 15'!I47","v":0}]
["M4 Indikator 5",{"$f":"SUM('LP 1'!B48,'LP 2'!B48,'LP 3'!B48,'LP 4'!B48,'LP 5'!B48,'LP 6'!B48,'LP 7'!B48,'LP 8'!B48,'LP 9'!B48,'LP 10'!B48,'LP 11'!B48,'LP 12'!B48,'LP 13'!B48,'LP 14'!B48,'LP 15'!B48,)","v":0},{"$f":"SUM('LP 1'!C48,'LP 2'!C48,'LP 3'!C48,'LP 4'!C48,'LP 5'!C48,'LP 6'!C48,'LP 7'!C48,'LP 8'!C48,'LP 9'!C48,'LP 10'!C48,'LP 11'!C48,'LP 12'!C48,'LP 13'!C48,'LP 14'!C48,'LP 15'!C48,)","v":0},{"$f":"SUM('LP 1'!D48,'LP 2'!D48,'LP 3'!D48,'LP 4'!D48,'LP 5'!D48,'LP 6'!D48,'LP 7'!D48,'LP 8'!D48,'LP 9'!D48,'LP 10'!D48,'LP 11'!D48,'LP 12'!D48,'LP 13'!D48,'LP 14'!D48,'LP 15'!D48,)","v":0},{"$f":"SUM('LP 1'!E48,'LP 2'!E48,'LP 3'!E48,'LP 4'!E48,'LP 5'!E48,'LP 6'!E48,'LP 7'!E48,'LP 8'!E48,'LP 9'!E48,'LP 10'!E48,'LP 11'!E48,'LP 12'!E48,'LP 13'!E48,'LP 14'!E48,'LP 15'!E48,)","v":0},null,null,null,{"$f":"'LP 1'!I48","v":0},{"$f":"'LP 2'!I48","v":0},{"$f":"'LP 3'!I48","v":0},{"$f":"'LP 4'!I48","v":0},{"$f":"'LP 5'!I48","v":0},{"$f":"'LP 6'!I48","v":0},{"$f":"'LP 7'!I48","v":0},{"$f":"'LP 8'!I48","v":0},{"$f":"'LP 9'!I48","v":0},{"$f":"'LP 10'!I48","v":0},{"$f":"'LP 11'!I48","v":0},{"$f":"'LP 12'!I48","v":0},{"$f":"'LP 13'!I48","v":0},{"$f":"'LP 14'!I48","v":0},{"$f":"'LP 15'!I48","v":0}]
["M4 Indikator 6",{"$f":"SUM('LP 1'!B49,'LP 2'!B49,'LP 3'!B49,'LP 4'!B49,'LP 5'!B49,'LP 6'!B49,'LP 7'!B49,'LP 8'!B49,'LP 9'!B49,'LP 10'!B49,'LP 11'!B49,'LP 12'!B49,'LP 13'!B49,'LP 14'!B49,'LP 15'!B49,)","v":0},{"$f":"SUM('LP 1'!C49,'LP 2'!C49,'LP 3'!C49,'LP 4'!C49,'LP 5'!C49,'LP 6'!C49,'LP 7'!C49,'LP 8'!C49,'LP 9'!C49,'LP 10'!C49,'LP 11'!C49,'LP 12'!C49,'LP 13'!C49,'LP 14'!C49,'LP 15'!C49,)","v":0},{"$f":"SUM('LP 1'!D49,'LP 2'!D49,'LP 3'!D49,'LP 4'!D49,'LP 5'!D49,'LP 6'!D49,'LP 7'!D49,'LP 8'!D49,'LP 9'!D49,'LP 10'!D49,'LP 11'!D49,'LP 12'!D49,'LP 13'!D49,'LP 14'!D49,'LP 15'!D49,)","v":0},{"$f":"SUM('LP 1'!E49,'LP 2'!E49,'LP 3'!E49,'LP 4'!E49,'LP 5'!E49,'LP 6'!E49,'LP 7'!E49,'LP 8'!E49,'LP 9'!E49,'LP 10'!E49,'LP 11'!E49,'LP 12'!E49,'LP 13'!E49,'LP 14'!E49,'LP 15'!E49,)","v":0},null,null,null,{"$f":"'LP 1'!I49","v":0},{"$f":"'LP 2'!I49","v":0},{"$f":"'LP 3'!I49","v":0},{"$f":"'LP 4'!I49","v":0},{"$f":"'LP 5'!I49","v":0},{"$f":"'LP 6'!I49","v":0},{"$f":"'LP 7'!I49","v":0},{"$f":"'LP 8'!I49","v":0},{"$f":"'LP 9'!I49","v":0},{"$f":"'LP 10'!I49","v":0},{"$f":"'LP 11'!I49","v":0},{"$f":"'LP 12'!I49","v":0},{"$f":"'LP 13'!I49","v":0},{"$f":"'LP 14'!I49","v":0},{"$f":"'LP 15'!I49","v":0}]
["M4 Indikator 7",{"$f":"SUM('LP 1'!B50,'LP 2'!B50,'LP 3'!B50,'LP 4'!B50,'LP 5'!B50,'LP 6'!B50,'LP 7'!B50,'LP 8'!B50,'LP 9'!B50,'LP 10'!B50,'LP 11'!B50,'LP 12'!B50,'LP 13'!B50,'LP 14'!B50,'LP 15'!B50,)","v":0},{"$f":"SUM('LP 1'!C50,'LP 2'!C50,'LP 3'!C50,'LP 4'!C50,'LP 5'!C50,'LP 6'!C50,'LP 7'!C50,'LP 8'!C50,'LP 9'!C50,'LP 10'!C50,'LP 11'!C50,'LP 12'!C50,'LP 13'!C50,'LP 14'!C50,'LP 15'!C50,)","v":0},{"$f":"SUM('LP 1'!D50,'LP 2'!D50,'LP 3'!D50,'LP 4'!D50,'LP 5'!D50,'LP 6'!D50,'LP 7'!D50,'LP 8'!D50,'LP 9'!D50,'LP 10'!D50,'LP 11'!D50,'LP 12'!D50,'LP 13'!D50,'LP 14'!D50,'LP 15'!D50,)","v":0},{"$f":"SUM('LP 1'!E50,'LP 2'!E50,'LP 3'!E50,'LP 4'!E50,'LP 5'!E50,'LP 6'!E50,'LP 7'!E50,'LP 8'!E50,'LP 9'!E50,'LP 10'!E50,'LP 11'!E50,'LP 12'!E50,'LP 13'!E50,'LP 14'!E50,'LP 15'!E50,)","v":0},null,null,null,{"$f":"'LP 1'!I50","v":0},{"$f":"'LP 2'!I50","v":0},{"$f":"'LP 3'!I50","v":0},{"$f":"'LP 4'!I50","v":0},{"$f":"'LP 5'!I50","v":0},{"$f":"'LP 6'!I50","v":0},{"$f":"'LP 7'!I50","v":0},{"$f":"'LP 8'!I50","v":0},{"$f":"'LP 9'!I50","v":0},{"$f":"'LP 10'!I50","v":0},{"$f":"'LP 11'!I50","v":0},{"$f":"'LP 12'!I50","v":0},{"$f":"'LP 13'!I50","v":0},{"$f":"'LP 14'!I50","v":0},{"$f":"'LP 15'!I50","v":0}]
["M4 Indikator 8",{"$f":"SUM('LP 1'!B51,'LP 2'!B51,'LP 3'!B51,'LP 4'!B51,'LP 5'!B51,'LP 6'!B51,'LP 7'!B51,'LP 8'!B51,'LP 9'!B51,'LP 10'!B51,'LP 11'!B51,'LP 12'!B51,'LP 13'!B51,'LP 14'!B51,'LP 15'!B51,)","v":0},{"$f":"SUM('LP 1'!C51,'LP 2'!C51,'LP 3'!C51,'LP 4'!C51,'LP 5'!C51,'LP 6'!C51,'LP 7'!C51,'LP 8'!C51,'LP 9'!C51,'LP 10'!C51,'LP 11'!C51,'LP 12'!C51,'LP 13'!C51,'LP 14'!C51,'LP 15'!C51,)","v":0},{"$f":"SUM('LP 1'!D51,'LP 2'!D51,'LP 3'!D51,'LP 4'!D51,'LP 5'!D51,'LP 6'!D51,'LP 7'!D51,'LP 8'!D51,'LP 9'!D51,'LP 10'!D51,'LP 11'!D51,'LP 12'!D51,'LP 13'!D51,'LP 14'!D51,'LP 15'!D51,)","v":0},{"$f":"SUM('LP 1'!E51,'LP 2'!E51,'LP 3'!E51,'LP 4'!E51,'LP 5'!E51,'LP 6'!E51,'LP 7'!E51,'LP 8'!E51,'LP 9'!E51,'LP 10'!E51,'LP 11'!E51,'LP 12'!E51,'LP 13'!E51,'LP 14'!E51,'LP 15'!E51,)","v":0},null,null,null,{"$f":"'LP 1'!I51","v":0},{"$f":"'LP 2'!I51","v":0},{"$f":"'LP 3'!I51","v":0},{"$f":"'LP 4'!I51","v":0},{"$f":"'LP 5'!I51","v":0},{"$f":"'LP 6'!I51","v":0},{"$f":"'LP 7'!I51","v":0},{"$f":"'LP 8'!I51","v":0},{"$f":"'LP 9'!I51","v":0},{"$f":"'LP 10'!I51","v":0},{"$f":"'LP 11'!I51","v":0},{"$f":"'LP 12'!I51","v":0},{"$f":"'LP 13'!I51","v":0},{"$f":"'LP 14'!I51","v":0},{"$f":"'LP 15'!I51","v":0}]
["M4 Indikator 9",{"$f":"SUM('LP 1'!B52,'LP 2'!B52,'LP 3'!B52,'LP 4'!B52,'LP 5'!B52,'LP 6'!B52,'LP 7'!B52,'LP 8'!B52,'LP 9'!B52,'LP 10'!B52,'LP 11'!B52,'LP 12'!B52,'LP 13'!B52,'LP 14'!B52,'LP 15'!B52,)","v":0},{"$f":"SUM('LP 1'!C52,'LP 2'!C52,'LP 3'!C52,'LP 4'!C52,'LP 5'!C52,'LP 6'!C52,'LP 7'!C52,'LP 8'!C52,'LP 9'!C52,'LP 10'!C52,'LP 11'!C52,'LP 12'!C52,'LP 13'!C52,'LP 14'!C52,'LP 15'!C52,)","v":0},{"$f":"SUM('LP 1'!D52,'LP 2'!D52,'LP 3'!D52,'LP 4'!D52,'LP 5'!D52,'LP 6'!D52,'LP 7'!D52,'LP 8'!D52,'LP 9'!D52,'LP 10'!D52,'LP 11'!D52,'LP 12'!D52,'LP 13'!D52,'LP 14'!D52,'LP 15'!D52,)","v":0},{"$f":"SUM('LP 1'!E52,'LP 2'!E52,'LP 3'!E52,'LP 4'!E52,'LP 5'!E52,'LP 6'!E52,'LP 7'!E52,'LP 8'!E52,'LP 9'!E52,'LP 10'!E52,'LP 11'!E52,'LP 12'!E52,'LP 13'!E52,'LP 14'!E52,'LP 15'!E52,)","v":0},null,null,null,{"$f":"'LP 1'!I52","v":0},{"$f":"'LP 2'!I52","v":0},{"$f":"'LP 3'!I52","v":0},{"$f":"'LP 4'!I52","v":0},{"$f":"'LP 5'!I52","v":0},{"$f":"'LP 6'!I52","v":0},{"$f":"'LP 7'!I52","v":0},{"$f":"'LP 8'!I52","v":0},{"$f":"'LP 9'!I52","v":0},{"$f":"'LP 10'!I52","v":0},{"$f":"'LP 11'!I52","v":0},{"$f":"'LP 12'!I52","v":0},{"$f":"'LP 13'!I52","v":0},{"$f":"'LP 14'!I52","v":0},{"$f":"'LP 15'!I52","v":0}]
["M4 Indikator 10",{"$f":"SUM('LP 1'!B53,'LP 2'!B53,'LP 3'!B53,'LP 4'!B53,'LP 5'!B53,'LP 6'!B53,'LP 7'!B53,'LP 8'!B53,'LP 9'!B53,'LP 10'!B53,'LP 11'!B53,'LP 12'!B53,'LP 13'!B53,'LP 14'!B53,'LP 15'!B53,)","v":0},{"$f":"SUM('LP 1'!C53,'LP 2'!C53,'LP 3'!C53,'LP 4'!C53,'LP 5'!C53,'LP 6'!C53,'LP 7'!C53,'LP 8'!C53,'LP 9'!C53,'LP 10'!C53,'LP 11'!C53,'LP 12'!C53,'LP 13'!C53,'LP 14'!C53,'LP 15'!C53,)","v":0},{"$f":"SUM('LP 1'!D53,'LP 2'!D53,'LP 3'!D53,'LP 4'!D53,'LP 5'!D53,'LP 6'!D53,'LP 7'!D53,'LP 8'!D53,'LP 9'!D53,'LP 10'!D53,'LP 11'!D53,'LP 12'!D53,'LP 13'!D53,'LP 14'!D53,'LP 15'!D53,)","v":0},{"$f":"SUM('LP 1'!E53,'LP 2'!E53,'LP 3'!E53,'LP 4'!E53,'LP 5'!E53,'LP 6'!E53,'LP 7'!E53,'LP 8'!E53,'LP 9'!E53,'LP 10'!E53,'LP 11'!E53,'LP 12'!E53,'LP 13'!E53,'LP 14'!E53,'LP 15'!E53,)","v":0},null,null,null,{"$f":"'LP 1'!I53","v":0},{"$f":"'LP 2'!I53","v":0},{"$f":"'LP 3'!I53","v":0},{"$f":"'LP 4'!I53","v":0},{"$f":"'LP 5'!I53","v":0},{"$f":"'LP 6'!I53","v":0},{"$f":"'LP 7'!I53","v":0},{"$f":"'LP 8'!I53","v":0},{"$f":"'LP 9'!I53","v":0},{"$f":"'LP 10'!I53","v":0},{"$f":"'LP 11'!I53","v":0},{"$f":"'LP 12'!I53","v":0},{"$f":"'LP 13'!I53","v":0},{"$f":"'LP 14'!I53","v":0},{"$f":"'LP 15'!I53","v":0}]
["Merkmal"," +++"," ++"," +"," -"," --"," ---"," ?","Auswertung"]
["Merkmal 5",{"$f":"SUM('LP 1'!B55,'LP 2'!B55,'LP 3'!B55,'LP 4'!B55,'LP 5'!B55,'LP 6'!B55,'LP 7'!B55,'LP 8'!B55,'LP 9'!B55,'LP 10'!B55,'LP 11'!B55,'LP 12'!B55,'LP 13'!B55,'LP 14'!B55,'LP 15'!B55,)","v":0},{"$f":"SUM('LP 1'!C55,'LP 2'!C55,'LP 3'!C55,'LP 4'!C55,'LP 5'!C55,'LP 6'!C55,'LP 7'!C55,'LP 8'!C55,'LP 9'!C55,'LP 10'!C55,'LP 11'!C55,'LP 12'!C55,'LP 13'!C55,'LP 14'!C55,'LP 15'!C55,)","v":0},{"$f":"SUM('LP 1'!D55,'LP 2'!D55,'LP 3'!D55,'LP 4'!D55,'LP 5'!D55,'LP 6'!D55,'LP 7'!D55,'LP 8'!D55,'LP 9'!D55,'LP 10'!D55,'LP 11'!D55,'LP 12'!D55,'LP 13'!D55,'LP 14'!D55,'LP 15'!D55,)","v":0},{"$f":"SUM('LP 1'!E55,'LP 2'!E55,'LP 3'!E55,'LP 4'!E55,'LP 5'!E55,'LP 6'!E55,'LP 7'!E55,'LP 8'!E55,'LP 9'!E55,'LP 10'!E55,'LP 11'!E55,'LP 12'!E55,'LP 13'!E55,'LP 14'!E55,'LP 15'!E55,)","v":0},{"$f":"SUM('LP 1'!F55,'LP 2'!F55,'LP 3'!F55,'LP 4'!F55,'LP 5'!F55,'LP 6'!F55,'LP 7'!F55,'LP 8'!F55,'LP 9'!F55,'LP 10'!F55,'LP 11'!F55,'LP 12'!F55,'LP 13'!F55,'LP 14'!F55,'LP 15'!F55,)","v":0},{"$f":"SUM('LP 1'!G55,'LP 2'!G55,'LP 3'!G55,'LP 4'!G55,'LP 5'!G55,'LP 6'!G55,'LP 7'!G55,'LP 8'!G55,'LP 9'!G55,'LP 10'!G55,'LP 11'!G55,'LP 12'!G55,'LP 13'!G55,'LP 14'!G55,'LP 15'!G55,)","v":0},{"$f":"SUM('LP 1'!H55,'LP 2'!H55,'LP 3'!H55,'LP 4'!H55,'LP 5'!H55,'LP 6'!H55,'LP 7'!H55,'LP 8'!H55,'LP 9'!H55,'LP 10'!H55,'LP 11'!H55,'LP 12'!H55,'LP 13'!H55,'LP 14'!H55,'LP 15'!H55,)","v":0}]
[null,null,null,null,null,null,null,null,{"$f":"'LP 1'!I55","v":0},{"$f":"'LP 2'!I55","v":0},{"$f":"'LP 3'!I55","v":0},{"$f":"'LP 4'!I55","v":0},{"$f":"'LP 5'!I55","v":0},{"$f":"'LP 6'!I55","v":0},{"$f":"'LP 7'!I55","v":0},{"$f":"'LP 8'!I55","v":0},{"$f":"'LP 9'!I55","v":0},{"$f":"'LP 10'!I55","v":0},{"$f":"'LP 11'!I55","v":0},{"$f":"'LP 12'!I55","v":0},{"$f":"'LP 13'!I55","v":0},{"$f":"'LP 14'!I55","v":0},{"$f":"'LP 15'!I55","v":0}]
["Indikatoren","ja","teils","nein","?",null,null,null,{"$f":"I40","v":"LP 1"},{"$f":"J40","v":"LP 2"},"LP 3","LP 4","LP 5","LP 6","LP 7","LP 8","LP 9","LP 10","LP 11","LP 12","LP 13","LP 14","LP 15"]
["M5 Indikator 1",{"$f":"SUM('LP 1'!B57,'LP 2'!B57,'LP 3'!B57,'LP 4'!B57,'LP 5'!B57,'LP 6'!B57,'LP 7'!B57,'LP 8'!B57,'LP 9'!B57,'LP 10'!B57,'LP 11'!B57,'LP 12'!B57,'LP 13'!B57,'LP 14'!B57,'LP 15'!B57,)","v":0},{"$f":"SUM('LP 1'!C57,'LP 2'!C57,'LP 3'!C57,'LP 4'!C57,'LP 5'!C57,'LP 6'!C57,'LP 7'!C57,'LP 8'!C57,'LP 9'!C57,'LP 10'!C57,'LP 11'!C57,'LP 12'!C57,'LP 13'!C57,'LP 14'!C57,'LP 15'!C57,)","v":0},{"$f":"SUM('LP 1'!D57,'LP 2'!D57,'LP 3'!D57,'LP 4'!D57,'LP 5'!D57,'LP 6'!D57,'LP 7'!D57,'LP 8'!D57,'LP 9'!D57,'LP 10'!D57,'LP 11'!D57,'LP 12'!D57,'LP 13'!D57,'LP 14'!D57,'LP 15'!D57,)","v":0},{"$f":"SUM('LP 1'!E57,'LP 2'!E57,'LP 3'!E57,'LP 4'!E57,'LP 5'!E57,'LP 6'!E57,'LP 7'!E57,'LP 8'!E57,'LP 9'!E57,'LP 10'!E57,'LP 11'!E57,'LP 12'!E57,'LP 13'!E57,'LP 14'!E57,'LP 15'!E57,)","v":0},null,null,null,{"$f":"'LP 1'!I57","v":0},{"$f":"'LP 2'!I57","v":0},{"$f":"'LP 3'!I57","v":0},{"$f":"'LP 4'!I57","v":0},{"$f":"'LP 5'!I57","v":0},{"$f":"'LP 6'!I57","v":0},{"$f":"'LP 7'!I57","v":0},{"$f":"'LP 8'!I57","v":0},{"$f":"'LP 9'!I57","v":0},{"$f":"'LP 10'!I57","v":0},{"$f":"'LP 11'!I57","v":0},{"$f":"'LP 12'!I57","v":0},{"$f":"'LP 13'!I57","v":0},{"$f":"'LP 14'!I57","v":0},{"$f":"'LP 15'!I57","v":0}]
["M5 Indikator 2",{"$f":"SUM('LP 1'!B58,'LP 2'!B58,'LP 3'!B58,'LP 4'!B58,'LP 5'!B58,'LP 6'!B58,'LP 7'!B58,'LP 8'!B58,'LP 9'!B58,'LP 10'!B58,'LP 11'!B58,'LP 12'!B58,'LP 13'!B58,'LP 14'!B58,'LP 15'!B58,)","v":0},{"$f":"SUM('LP 1'!C58,'LP 2'!C58,'LP 3'!C58,'LP 4'!C58,'LP 5'!C58,'LP 6'!C58,'LP 7'!C58,'LP 8'!C58,'LP 9'!C58,'LP 10'!C58,'LP 11'!C58,'LP 12'!C58,'LP 13'!C58,'LP 14'!C58,'LP 15'!C58,)","v":0},{"$f":"SUM('LP 1'!D58,'LP 2'!D58,'LP 3'!D58,'LP 4'!D58,'LP 5'!D58,'LP 6'!D58,'LP 7'!D58,'LP 8'!D58,'LP 9'!D58,'LP 10'!D58,'LP 11'!D58,'LP 12'!D58,'LP 13'!D58,'LP 14'!D58,'LP 15'!D58,)","v":0},{"$f":"SUM('LP 1'!E58,'LP 2'!E58,'LP 3'!E58,'LP 4'!E58,'LP 5'!E58,'LP 6'!E58,'LP 7'!E58,'LP 8'!E58,'LP 9'!E58,'LP 10'!E58,'LP 11'!E58,'LP 12'!E58,'LP 13'!E58,'LP 14'!E58,'LP 15'!E58,)","v":0},null,null,null,{"$f":"'LP 1'!I58","v":0},{"$f":"'LP 2'!I58","v":0},{"$f":"'LP 3'!I58","v":0},{"$f":"'LP 4'!I58","v":0},{"$f":"'LP 5'!I58","v":0},{"$f":"'LP 6'!I58","v":0},{"$f":"'LP 7'!I58","v":0},{"$f":"'LP 8'!I58","v":0},{"$f":"'LP 9'!I58","v":0},{"$f":"'LP 10'!I58","v":0},{"$f":"'LP 11'!I58","v":0},{"$f":"'LP 12'!I58","v":0},{"$f":"'LP 13'!I58","v":0},{"$f":"'LP 14'!I58","v":0},{"$f":"'LP 15'!I58","v":0}]
["M5 Indikator 3",{"$f":"SUM('LP 1'!B59,'LP 2'!B59,'LP 3'!B59,'LP 4'!B59,'LP 5'!B59,'LP 6'!B59,'LP 7'!B59,'LP 8'!B59,'LP 9'!B59,'LP 10'!B59,'LP 11'!B59,'LP 12'!B59,'LP 13'!B59,'LP 14'!B59,'LP 15'!B59,)","v":0},{"$f":"SUM('LP 1'!C59,'LP 2'!C59,'LP 3'!C59,'LP 4'!C59,'LP 5'!C59,'LP 6'!C59,'LP 7'!C59,'LP 8'!C59,'LP 9'!C59,'LP 10'!C59,'LP 11'!C59,'LP 12'!C59,'LP 13'!C59,'LP 14'!C59,'LP 15'!C59,)","v":0},{"$f":"SUM('LP 1'!D59,'LP 2'!D59,'LP 3'!D59,'LP 4'!D59,'LP 5'!D59,'LP 6'!D59,'LP 7'!D59,'LP 8'!D59,'LP 9'!D59,'LP 10'!D59,'LP 11'!D59,'LP 12'!D59,'LP 13'!D59,'LP 14'!D59,'LP 15'!D59,)","v":0},{"$f":"SUM('LP 1'!E59,'LP 2'!E59,'LP 3'!E59,'LP 4'!E59,'LP 5'!E59,'LP 6'!E59,'LP 7'!E59,'LP 8'!E59,'LP 9'!E59,'LP 10'!E59,'LP 11'!E59,'LP 12'!E59,'LP 13'!E59,'LP 14'!E59,'LP 15'!E59,)","v":0},null,null,null,{"$f":"'LP 1'!I59","v":0},{"$f":"'LP 2'!I59","v":0},{"$f":"'LP 3'!I59","v":0},{"$f":"'LP 4'!I59","v":0},{"$f":"'LP 5'!I59","v":0},{"$f":"'LP 6'!I59","v":0},{"$f":"'LP 7'!I59","v":0},{"$f":"'LP 8'!I59","v":0},{"$f":"'LP 9'!I59","v":0},{"$f":"'LP 10'!I59","v":0},{"$f":"'LP 11'!I59","v":0},{"$f":"'LP 12'!I59","v":0},{"$f":"'LP 13'!I59","v":0},{"$f":"'LP 14'!I59","v":0},{"$f":"'LP 15'!I59","v":0}]
["M5 Indikator 4",{"$f":"SUM('LP 1'!B60,'LP 2'!B60,'LP 3'!B60,'LP 4'!B60,'LP 5'!B60,'LP 6'!B60,'LP 7'!B60,'LP 8'!B60,'LP 9'!B60,'LP 10'!B60,'LP 11'!B60,'LP 12'!B60,'LP 13'!B60,'LP 14'!B60,'LP 15'!B60,)","v":0},{"$f":"SUM('LP 1'!C60,'LP 2'!C60,'LP 3'!C60,'LP 4'!C60,'LP 5'!C60,'LP 6'!C60,'LP 7'!C60,'LP 8'!C60,'LP 9'!C60,'LP 10'!C60,'LP 11'!C60,'LP 12'!C60,'LP 13'!C60,'LP 14'!C60,'LP 15'!C60,)","v":0},{"$f":"SUM('LP 1'!D60,'LP 2'!D60,'LP 3'!D60,'LP 4'!D60,'LP 5'!D60,'LP 6'!D60,'LP 7'!D60,'LP 8'!D60,'LP 9'!D60,'LP 10'!D60,'LP 11'!D60,'LP 12'!D60,'LP 13'!D60,'LP 14'!D60,'LP 15'!D60,)","v":0},{"$f":"SUM('LP 1'!E60,'LP 2'!E60,'LP 3'!E60,'LP 4'!E60,'LP 5'!E60,'LP 6'!E60,'LP 7'!E60,'LP 8'!E60,'LP 9'!E60,'LP 10'!E60,'LP 11'!E60,'LP 12'!E60,'LP 13'!E60,'LP 14'!E60,'LP 15'!E60,)","v":0},null,null,null,{"$f":"'LP 1'!I60","v":0},{"$f":"'LP 2'!I60","v":0},{"$f":"'LP 3'!I60","v":0},{"$f":"'LP 4'!I60","v":0},{"$f":"'LP 5'!I60","v":0},{"$f":"'LP 6'!I60","v":0},{"$f":"'LP 7'!I60","v":0},{"$f":"'LP 8'!I60","v":0},{"$f":"'LP 9'!I60","v":0},{"$f":"'LP 10'!I60","v":0},{"$f":"'LP 11'!I60","v":0},{"$f":"'LP 12'!I60","v":0},{"$f":"'LP 13'!I60","v":0},{"$f":"'LP 14'!I60","v":0},{"$f":"'LP 15'!I60","v":0}]
["M5 Indikator 5",{"$f":"SUM('LP 1'!B61,'LP 2'!B61,'LP 3'!B61,'LP 4'!B61,'LP 5'!B61,'LP 6'!B61,'LP 7'!B61,'LP 8'!B61,'LP 9'!B61,'LP 10'!B61,'LP 11'!B61,'LP 12'!B61,'LP 13'!B61,'LP 14'!B61,'LP 15'!B61,)","v":0},{"$f":"SUM('LP 1'!C61,'LP 2'!C61,'LP 3'!C61,'LP 4'!C61,'LP 5'!C61,'LP 6'!C61,'LP 7'!C61,'LP 8'!C61,'LP 9'!C61,'LP 10'!C61,'LP 11'!C61,'LP 12'!C61,'LP 13'!C61,'LP 14'!C61,'LP 15'!C61,)","v":0},{"$f":"SUM('LP 1'!D61,'LP 2'!D61,'LP 3'!D61,'LP 4'!D61,'LP 5'!D61,'LP 6'!D61,'LP 7'!D61,'LP 8'!D61,'LP 9'!D61,'LP 10'!D61,'LP 11'!D61,'LP 12'!D61,'LP 13'!D61,'LP 14'!D61,'LP 15'!D61,)","v":0},{"$f":"SUM('LP 1'!E61,'LP 2'!E61,'LP 3'!E61,'LP 4'!E61,'LP 5'!E61,'LP 6'!E61,'LP 7'!E61,'LP 8'!E61,'LP 9'!E61,'LP 10'!E61,'LP 11'!E61,'LP 12'!E61,'LP 13'!E61,'LP 14'!E61,'LP 15'!E61,)","v":0},null,null,null,{"$f":"'LP 1'!I61","v":0},{"$f":"'LP 2'!I61","v":0},{"$f":"'LP 3'!I61","v":0},{"$f":"'LP 4'!I61","v":0},{"$f":"'LP 5'!I61","v":0},{"$f":"'LP 6'!I61","v":0},{"$f":"'LP 7'!I61","v":0},{"$f":"'LP 8'!I61","v":0},{"$f":"'LP 9'!I61","v":0},{"$f":"'LP 10'!I61","v":0},{"$f":"'LP 11'!I61","v":0},{"$f":"'LP 12'!I61","v":0},{"$f":"'LP 13'!I61","v":0},{"$f":"'LP 14'!I61","v":0},{"$f":"'LP 15'!I61","v":0}]
["M5 Indikator 6",{"$f":"SUM('LP 1'!B62,'LP 2'!B62,'LP 3'!B62,'LP 4'!B62,'LP 5'!B62,'LP 6'!B62,'LP 7'!B62,'LP 8'!B62,'LP 9'!B62,'LP 10'!B62,'LP 11'!B62,'LP 12'!B62,'LP 13'!B62,'LP 14'!B62,'LP 15'!B62,)","v":0},{"$f":"SUM('LP 1'!C62,'LP 2'!C62,'LP 3'!C62,'LP 4'!C62,'LP 5'!C62,'LP 6'!C62,'LP 7'!C62,'LP 8'!C62,'LP 9'!C62,'LP 10'!C62,'LP 11'!C62,'LP 12'!C62,'LP 13'!C62,'LP 14'!C62,'LP 15'!C62,)","v":0},{"$f":"SUM('LP 1'!D62,'LP 2'!D62,'LP 3'!D62,'LP 4'!D62,'LP 5'!D62,'LP 6'!D62,'LP 7'!D62,'LP 8'!D62,'LP 9'!D62,'LP 10'!D62,'LP 11'!D62,'LP 12'!D62,'LP 13'!D62,'LP 14'!D62,'LP 15'!D62,)","v":0},{"$f":"SUM('LP 1'!E62,'LP 2'!E62,'LP 3'!E62,'LP 4'!E62,'LP 5'!E62,'LP 6'!E62,'LP 7'!E62,'LP 8'!E62,'LP 9'!E62,'LP 10'!E62,'LP 11'!E62,'LP 12'!E62,'LP 13'!E62,'LP 14'!E62,'LP 15'!E62,)","v":0},null,null,null,{"$f":"'LP 1'!I62","v":0},{"$f":"'LP 2'!I62","v":0},{"$f":"'LP 3'!I62","v":0},{"$f":"'LP 4'!I62","v":0},{"$f":"'LP 5'!I62","v":0},{"$f":"'LP 6'!I62","v":0},{"$f":"'LP 7'!I62","v":0},{"$f":"'LP 8'!I62","v":0},{"$f":"'LP 9'!I62","v":0},{"$f":"'LP 10'!I62","v":0},{"$f":"'LP 11'!I62","v":0},{"$f":"'LP 12'!I62","v":0},{"$f":"'LP 13'!I62","v":0},{"$f":"'LP 14'!I62","v":0},{"$f":"'LP 15'!I62","v":0}]
["M5 Indikator 7",{"$f":"SUM('LP 1'!B63,'LP 2'!B63,'LP 3'!B63,'LP 4'!B63,'LP 5'!B63,'LP 6'!B63,'LP 7'!B63,'LP 8'!B63,'LP 9'!B63,'LP 10'!B63,'LP 11'!B63,'LP 12'!B63,'LP 13'!B63,'LP 14'!B63,'LP 15'!B63,)","v":0},{"$f":"SUM('LP 1'!C63,'LP 2'!C63,'LP 3'!C63,'LP 4'!C63,'LP 5'!C63,'LP 6'!C63,'LP 7'!C63,'LP 8'!C63,'LP 9'!C63,'LP 10'!C63,'LP 11'!C63,'LP 12'!C63,'LP 13'!C63,'LP 14'!C63,'LP 15'!C63,)","v":0},{"$f":"SUM('LP 1'!D63,'LP 2'!D63,'LP 3'!D63,'LP 4'!D63,'LP 5'!D63,'LP 6'!D63,'LP 7'!D63,'LP 8'!D63,'LP 9'!D63,'LP 10'!D63,'LP 11'!D63,'LP 12'!D63,'LP 13'!D63,'LP 14'!D63,'LP 15'!D63,)","v":0},{"$f":"SUM('LP 1'!E63,'LP 2'!E63,'LP 3'!E63,'LP 4'!E63,'LP 5'!E63,'LP 6'!E63,'LP 7'!E63,'LP 8'!E63,'LP 9'!E63,'LP 10'!E63,'LP 11'!E63,'LP 12'!E63,'LP 13'!E63,'LP 14'!E63,'LP 15'!E63,)","v":0},null,null,null,{"$f":"'LP 1'!I63","v":0},{"$f":"'LP 2'!I63","v":0},{"$f":"'LP 3'!I63","v":0},{"$f":"'LP 4'!I63","v":0},{"$f":"'LP 5'!I63","v":0},{"$f":"'LP 6'!I63","v":0},{"$f":"'LP 7'!I63","v":0},{"$f":"'LP 8'!I63","v":0},{"$f":"'LP 9'!I63","v":0},{"$f":"'LP 10'!I63","v":0},{"$f":"'LP 11'!I63","v":0},{"$f":"'LP 12'!I63","v":0},{"$f":"'LP 13'!I63","v":0},{"$f":"'LP 14'!I63","v":0},{"$f":"'LP 15'!I63","v":0}]
["M5 Indikator 8",{"$f":"SUM('LP 1'!B64,'LP 2'!B64,'LP 3'!B64,'LP 4'!B64,'LP 5'!B64,'LP 6'!B64,'LP 7'!B64,'LP 8'!B64,'LP 9'!B64,'LP 10'!B64,'LP 11'!B64,'LP 12'!B64,'LP 13'!B64,'LP 14'!B64,'LP 15'!B64,)","v":0},{"$f":"SUM('LP 1'!C64,'LP 2'!C64,'LP 3'!C64,'LP 4'!C64,'LP 5'!C64,'LP 6'!C64,'LP 7'!C64,'LP 8'!C64,'LP 9'!C64,'LP 10'!C64,'LP 11'!C64,'LP 12'!C64,'LP 13'!C64,'LP 14'!C64,'LP 15'!C64,)","v":0},{"$f":"SUM('LP 1'!D64,'LP 2'!D64,'LP 3'!D64,'LP 4'!D64,'LP 5'!D64,'LP 6'!D64,'LP 7'!D64,'LP 8'!D64,'LP 9'!D64,'LP 10'!D64,'LP 11'!D64,'LP 12'!D64,'LP 13'!D64,'LP 14'!D64,'LP 15'!D64,)","v":0},{"$f":"SUM('LP 1'!E64,'LP 2'!E64,'LP 3'!E64,'LP 4'!E64,'LP 5'!E64,'LP 6'!E64,'LP 7'!E64,'LP 8'!E64,'LP 9'!E64,'LP 10'!E64,'LP 11'!E64,'LP 12'!E64,'LP 13'!E64,'LP 14'!E64,'LP 15'!E64,)","v":0},null,null,null,{"$f":"'LP 1'!I64","v":0},{"$f":"'LP 2'!I64","v":0},{"$f":"'LP 3'!I64","v":0},{"$f":"'LP 4'!I64","v":0},{"$f":"'LP 5'!I64","v":0},{"$f":"'LP 6'!I64","v":0},{"$f":"'LP 7'!I64","v":0},{"$f":"'LP 8'!I64","v":0},{"$f":"'LP 9'!I64","v":0},{"$f":"'LP 10'!I64","v":0},{"$f":"'LP 11'!I64","v":0},{"$f":"'LP 12'!I64","v":0},{"$f":"'LP 13'!I64","v":0},{"$f":"'LP 14'!I64","v":0},{"$f":"'LP 15'!I64","v":0}]
["M5 Indikator 9",{"$f":"SUM('LP 1'!B65,'LP 2'!B65,'LP 3'!B65,'LP 4'!B65,'LP 5'!B65,'LP 6'!B65,'LP 7'!B65,'LP 8'!B65,'LP 9'!B65,'LP 10'!B65,'LP 11'!B65,'LP 12'!B65,'LP 13'!B65,'LP 14'!B65,'LP 15'!B65,)","v":0},{"$f":"SUM('LP 1'!C65,'LP 2'!C65,'LP 3'!C65,'LP 4'!C65,'LP 5'!C65,'LP 6'!C65,'LP 7'!C65,'LP 8'!C65,'LP 9'!C65,'LP 10'!C65,'LP 11'!C65,'LP 12'!C65,'LP 13'!C65,'LP 14'!C65,'LP 15'!C65,)","v":0},{"$f":"SUM('LP 1'!D65,'LP 2'!D65,'LP 3'!D65,'LP 4'!D65,'LP 5'!D65,'LP 6'!D65,'LP 7'!D65,'LP 8'!D65,'LP 9'!D65,'LP 10'!D65,'LP 11'!D65,'LP 12'!D65,'LP 13'!D65,'LP 14'!D65,'LP 15'!D65,)","v":0},{"$f":"SUM('LP 1'!E65,'LP 2'!E65,'LP 3'!E65,'LP 4'!E65,'LP 5'!E65,'LP 6'!E65,'LP 7'!E65,'LP 8'!E65,'LP 9'!E65,'LP 10'!E65,'LP 11'!E65,'LP 12'!E65,'LP 13'!E65,'LP 14'!E65,'LP 15'!E65,)","v":0},null,null,null,{"$f":"'LP 1'!I65","v":0},{"$f":"'LP 2'!I65","v":0},{"$f":"'LP 3'!I65","v":0},{"$f":"'LP 4'!I65","v":0},{"$f":"'LP 5'!I65","v":0},{"$f":"'LP 6'!I65","v":0},{"$f":"'LP 7'!I65","v":0},{"$f":"'LP 8'!I65","v":0},{"$f":"'LP 9'!I65","v":0},{"$f":"'LP 10'!I65","v":0},{"$f":"'LP 11'!I65","v":0},{"$f":"'LP 12'!I65","v":0},{"$f":"'LP 13'!I65","v":0},{"$f":"'LP 14'!I65","v":0},{"$f":"'LP 15'!I65","v":0}]
["M5 Indikator 10",{"$f":"SUM('LP 1'!B66,'LP 2'!B66,'LP 3'!B66,'LP 4'!B66,'LP 5'!B66,'LP 6'!B66,'LP 7'!B66,'LP 8'!B66,'LP 9'!B66,'LP 10'!B66,'LP 11'!B66,'LP 12'!B66,'LP 13'!B66,'LP 14'!B66,'LP 15'!B66,)","v":0},{"$f":"SUM('LP 1'!C66,'LP 2'!C66,'LP 3'!C66,'LP 4'!C66,'LP 5'!C66,'LP 6'!C66,'LP 7'!C66,'LP 8'!C66,'LP 9'!C66,'LP 10'!C66,'LP 11'!C66,'LP 12'!C66,'LP 13'!C66,'LP 14'!C66,'LP 15'!C66,)","v":0},{"$f":"SUM('LP 1'!D66,'LP 2'!D66,'LP 3'!D66,'LP 4'!D66,'LP 5'!D66,'LP 6'!D66,'LP 7'!D66,'LP 8'!D66,'LP 9'!D66,'LP 10'!D66,'LP 11'!D66,'LP 12'!D66,'LP 13'!D66,'LP 14'!D66,'LP 15'!D66,)","v":0},{"$f":"SUM('LP 1'!E66,'LP 2'!E66,'LP 3'!E66,'LP 4'!E66,'LP 5'!E66,'LP 6'!E66,'LP 7'!E66,'LP 8'!E66,'LP 9'!E66,'LP 10'!E66,'LP 11'!E66,'LP 12'!E66,'LP 13'!E66,'LP 14'!E66,'LP 15'!E66,)","v":0},null,null,null,{"$f":"'LP 1'!I66","v":0},{"$f":"'LP 2'!I66","v":0},{"$f":"'LP 3'!I66","v":0},{"$f":"'LP 4'!I66","v":0},{"$f":"'LP 5'!I66","v":0},{"$f":"'LP 6'!I66","v":0},{"$f":"'LP 7'!I66","v":0},{"$f":"'LP 8'!I66","v":0},{"$f":"'LP 9'!I66","v":0},{"$f":"'LP 10'!I66","v":0},{"$f":"'LP 11'!I66","v":0},{"$f":"'LP 12'!I66","v":0},{"$f":"'LP 13'!I66","v":0},{"$f":"'LP 14'!I66","v":0},{"$f":"'LP 15'!I66","v":0}]
["Merkmal"," +++"," ++"," +"," -"," --"," ---"," ?","Auswertung"]
["Merkmal 6",{"$f":"SUM('LP 1'!B68,'LP 2'!B68,'LP 3'!B68,'LP 4'!B68,'LP 5'!B68,'LP 6'!B68,'LP 7'!B68,'LP 8'!B68,'LP 9'!B68,'LP 10'!B68,'LP 11'!B68,'LP 12'!B68,'LP 13'!B68,'LP 14'!B68,'LP 15'!B68,)","v":0},{"$f":"SUM('LP 1'!C68,'LP 2'!C68,'LP 3'!C68,'LP 4'!C68,'LP 5'!C68,'LP 6'!C68,'LP 7'!C68,'LP 8'!C68,'LP 9'!C68,'LP 10'!C68,'LP 11'!C68,'LP 12'!C68,'LP 13'!C68,'LP 14'!C68,'LP 15'!C68,)","v":0},{"$f":"SUM('LP 1'!D68,'LP 2'!D68,'LP 3'!D68,'LP 4'!D68,'LP 5'!D68,'LP 6'!D68,'LP 7'!D68,'LP 8'!D68,'LP 9'!D68,'LP 10'!D68,'LP 11'!D68,'LP 12'!D68,'LP 13'!D68,'LP 14'!D68,'LP 15'!D68,)","v":0},{"$f":"SUM('LP 1'!E68,'LP 2'!E68,'LP 3'!E68,'LP 4'!E68,'LP 5'!E68,'LP 6'!E68,'LP 7'!E68,'LP 8'!E68,'LP 9'!E68,'LP 10'!E68,'LP 11'!E68,'LP 12'!E68,'LP 13'!E68,'LP 14'!E68,'LP 15'!E68,)","v":0},{"$f":"SUM('LP 1'!F68,'LP 2'!F68,'LP 3'!F68,'LP 4'!F68,'LP 5'!F68,'LP 6'!F68,'LP 7'!F68,'LP 8'!F68,'LP 9'!F68,'LP 10'!F68,'LP 11'!F68,'LP 12'!F68,'LP 13'!F68,'LP 14'!F68,'LP 15'!F68,)","v":0},{"$f":"SUM('LP 1'!G68,'LP 2'!G68,'LP 3'!G68,'LP 4'!G68,'LP 5'!G68,'LP 6'!G68,'LP 7'!G68,'LP 8'!G68,'LP 9'!G68,'LP 10'!G68,'LP 11'!G68,'LP 12'!G68,'LP 13'!G68,'LP 14'!G68,'LP 15'!G68,)","v":0},{"$f":"SUM('LP 1'!H68,'LP 2'!H68,'LP 3'!H68,'LP 4'!H68,'LP 5'!H68,'LP 6'!H68,'LP 7'!H68,'LP 8'!H68,'LP 9'!H68,'LP 10'!H68,'LP 11'!H68,'LP 12'!H68,'LP 13'!H68,'LP 14'!H68,'LP 15'!H68,)","v":0}]
[null,null,null,null,null,null,null,null,{"$f":"'LP 1'!I68","v":0},{"$f":"'LP 2'!I68","v":0},{"$f":"'LP 3'!I68","v":0},{"$f":"'LP 4'!I68","v":0},{"$f":"'LP 5'!I68","v":0},{"$f":"'LP 6'!I68","v":0},{"$f":"'LP 7'!I68","v":0},{"$f":"'LP 8'!I68","v":0},{"$f":"'LP 9'!I68","v":0},{"$f":"'LP 10'!I68","v":0},{"$f":"'LP 11'!I68","v":0},{"$f":"'LP 12'!I68","v":0},{"$f":"'LP 13'!I68","v":0},{"$f":"'LP 14'!I68","v":0},{"$f":"'LP 15'!I68","v":0}]
["Indikatoren","ja","teils","nein","?",null,null,null,{"$f":"I40","v":"LP 1"},{"$f":"J40","v":"LP 2"},"LP 3","LP 4","LP 5","LP 6","LP 7","LP 8","LP 9","LP 10","LP 11","LP 12","LP 13","LP 14","LP 15"]
["M6 Indikator 1",{"$f":"SUM('LP 1'!B70,'LP 2'!B70,'LP 3'!B70,'LP 4'!B70,'LP 5'!B70,'LP 6'!B70,'LP 7'!B70,'LP 8'!B70,'LP 9'!B70,'LP 10'!B70,'LP 11'!B70,'LP 12'!B70,'LP 13'!B70,'LP 14'!B70,'LP 15'!B70,)","v":0},{"$f":"SUM('LP 1'!C70,'LP 2'!C70,'LP 3'!C70,'LP 4'!C70,'LP 5'!C70,'LP 6'!C70,'LP 7'!C70,'LP 8'!C70,'LP 9'!C70,'LP 10'!C70,'LP 11'!C70,'LP 12'!C70,'LP 13'!C70,'LP 14'!C70,'LP 15'!C70,)","v":0},{"$f":"SUM('LP 1'!D70,'LP 2'!D70,'LP 3'!D70,'LP 4'!D70,'LP 5'!D70,'LP 6'!D70,'LP 7'!D70,'LP 8'!D70,'LP 9'!D70,'LP 10'!D70,'LP 11'!D70,'LP 12'!D70,'LP 13'!D70,'LP 14'!D70,'LP 15'!D70,)","v":0},{"$f":"SUM('LP 1'!E70,'LP 2'!E70,'LP 3'!E70,'LP 4'!E70,'LP 5'!E70,'LP 6'!E70,'LP 7'!E70,'LP 8'!E70,'LP 9'!E70,'LP 10'!E70,'LP 11'!E70,'LP 12'!E70,'LP 13'!E70,'LP 14'!E70,'LP 15'!E70,)","v":0},null,null,null,{"$f":"'LP 1'!I70","v":0},{"$f":"'LP 2'!I70","v":0},{"$f":"'LP 3'!I70","v":0},{"$f":"'LP 4'!I70","v":0},{"$f":"'LP 5'!I70","v":0},{"$f":"'LP 6'!I70","v":0},{"$f":"'LP 7'!I70","v":0},{"$f":"'LP 8'!I70","v":0},{"$f":"'LP 9'!I70","v":0},{"$f":"'LP 10'!I70","v":0},{"$f":"'LP 11'!I70","v":0},{"$f":"'LP 12'!I70","v":0},{"$f":"'LP 13'!I70","v":0},{"$f":"'LP 14'!I70","v":0},{"$f":"'LP 15'!I70","v":0}]
["M6 Indikator 2",{"$f":"SUM('LP 1'!B71,'LP 2'!B71,'LP 3'!B71,'LP 4'!B71,'LP 5'!B71,'LP 6'!B71,'LP 7'!B71,'LP 8'!B71,'LP 9'!B71,'LP 10'!B71,'LP 11'!B71,'LP 12'!B71,'LP 13'!B71,'LP 14'!B71,'LP 15'!B71,)","v":0},{"$f":"SUM('LP 1'!C71,'LP 2'!C71,'LP 3'!C71,'LP 4'!C71,'LP 5'!C71,'LP 6'!C71,'LP 7'!C71,'LP 8'!C71,'LP 9'!C71,'LP 10'!C71,'LP 11'!C71,'LP 12'!C71,'LP 13'!C71,'LP 14'!C71,'LP 15'!C71,)","v":0},{"$f":"SUM('LP 1'!D71,'LP 2'!D71,'LP 3'!D71,'LP 4'!D71,'LP 5'!D71,'LP 6'!D71,'LP 7'!D71,'LP 8'!D71,'LP 9'!D71,'LP 10'!D71,'LP 11'!D71,'LP 12'!D71,'LP 13'!D71,'LP 14'!D71,'LP 15'!D71,)","v":0},{"$f":"SUM('LP 1'!E71,'LP 2'!E71,'LP 3'!E71,'LP 4'!E71,'LP 5'!E71,'LP 6'!E71,'LP 7'!E71,'LP 8'!E71,'LP 9'!E71,'LP 10'!E71,'LP 11'!E71,'LP 12'!E71,'LP 13'!E71,'LP 14'!E71,'LP 15'!E71,)","v":0},null,null,null,{"$f":"'LP 1'!I71","v":0},{"$f":"'LP 2'!I71","v":0},{"$f":"'LP 3'!I71","v":0},{"$f":"'LP 4'!I71","v":0},{"$f":"'LP 5'!I71","v":0},{"$f":"'LP 6'!I71","v":0},{"$f":"'LP 7'!I71","v":0},{"$f":"'LP 8'!I71","v":0},{"$f":"'LP 9'!I71","v":0},{"$f":"'LP 10'!I71","v":0},{"$f":"'LP 11'!I71","v":0},{"$f":"'LP 12'!I71","v":0},{"$f":"'LP 13'!I71","v":0},{"$f":"'LP 14'!I71","v":0},{"$f":"'LP 15'!I71","v":0}]
["M6 Indikator 3",{"$f":"SUM('LP 1'!B72,'LP 2'!B72,'LP 3'!B72,'LP 4'!B72,'LP 5'!B72,'LP 6'!B72,'LP 7'!B72,'LP 8'!B72,'LP 9'!B72,'LP 10'!B72,'LP 11'!B72,'LP 12'!B72,'LP 13'!B72,'LP 14'!B72,'LP 15'!B72,)","v":0},{"$f":"SUM('LP 1'!C72,'LP 2'!C72,'LP 3'!C72,'LP 4'!C72,'LP 5'!C72,'LP 6'!C72,'LP 7'!C72,'LP 8'!C72,'LP 9'!C72,'LP 10'!C72,'LP 11'!C72,'LP 12'!C72,'LP 13'!C72,'LP 14'!C72,'LP 15'!C72,)","v":0},{"$f":"SUM('LP 1'!D72,'LP 2'!D72,'LP 3'!D72,'LP 4'!D72,'LP 5'!D72,'LP 6'!D72,'LP 7'!D72,'LP 8'!D72,'LP 9'!D72,'LP 10'!D72,'LP 11'!D72,'LP 12'!D72,'LP 13'!D72,'LP 14'!D72,'LP 15'!D72,)","v":0},{"$f":"SUM('LP 1'!E72,'LP 2'!E72,'LP 3'!E72,'LP 4'!E72,'LP 5'!E72,'LP 6'!E72,'LP 7'!E72,'LP 8'!E72,'LP 9'!E72,'LP 10'!E72,'LP 11'!E72,'LP 12'!E72,'LP 13'!E72,'LP 14'!E72,'LP 15'!E72,)","v":0},null,null,null,{"$f":"'LP 1'!I72","v":0},{"$f":"'LP 2'!I72","v":0},{"$f":"'LP 3'!I72","v":0},{"$f":"'LP 4'!I72","v":0},{"$f":"'LP 5'!I72","v":0},{"$f":"'LP 6'!I72","v":0},{"$f":"'LP 7'!I72","v":0},{"$f":"'LP 8'!I72","v":0},{"$f":"'LP 9'!I72","v":0},{"$f":"'LP 10'!I72","v":0},{"$f":"'LP 11'!I72","v":0},{"$f":"'LP 12'!I72","v":0},{"$f":"'LP 13'!I72","v":0},{"$f":"'LP 14'!I72","v":0},{"$f":"'LP 15'!I72","v":0}]
["M6 Indikator 4",{"$f":"SUM('LP 1'!B73,'LP 2'!B73,'LP 3'!B73,'LP 4'!B73,'LP 5'!B73,'LP 6'!B73,'LP 7'!B73,'LP 8'!B73,'LP 9'!B73,'LP 10'!B73,'LP 11'!B73,'LP 12'!B73,'LP 13'!B73,'LP 14'!B73,'LP 15'!B73,)","v":0},{"$f":"SUM('LP 1'!C73,'LP 2'!C73,'LP 3'!C73,'LP 4'!C73,'LP 5'!C73,'LP 6'!C73,'LP 7'!C73,'LP 8'!C73,'LP 9'!C73,'LP 10'!C73,'LP 11'!C73,'LP 12'!C73,'LP 13'!C73,'LP 14'!C73,'LP 15'!C73,)","v":0},{"$f":"SUM('LP 1'!D73,'LP 2'!D73,'LP 3'!D73,'LP 4'!D73,'LP 5'!D73,'LP 6'!D73,'LP 7'!D73,'LP 8'!D73,'LP 9'!D73,'LP 10'!D73,'LP 11'!D73,'LP 12'!D73,'LP 13'!D73,'LP 14'!D73,'LP 15'!D73,)","v":0},{"$f":"SUM('LP 1'!E73,'LP 2'!E73,'LP 3'!E73,'LP 4'!E73,'LP 5'!E73,'LP 6'!E73,'LP 7'!E73,'LP 8'!E73,'LP 9'!E73,'LP 10'!E73,'LP 11'!E73,'LP 12'!E73,'LP 13'!E73,'LP 14'!E73,'LP 15'!E73,)","v":0},null,null,null,{"$f":"'LP 1'!I73","v":0},{"$f":"'LP 2'!I73","v":0},{"$f":"'LP 3'!I73","v":0},{"$f":"'LP 4'!I73","v":0},{"$f":"'LP 5'!I73","v":0},{"$f":"'LP 6'!I73","v":0},{"$f":"'LP 7'!I73","v":0},{"$f":"'LP 8'!I73","v":0},{"$f":"'LP 9'!I73","v":0},{"$f":"'LP 10'!I73","v":0},{"$f":"'LP 11'!I73","v":0},{"$f":"'LP 12'!I73","v":0},{"$f":"'LP 13'!I73","v":0},{"$f":"'LP 14'!I73","v":0},{"$f":"'LP 15'!I73","v":0}]
["M6 Indikator 5",{"$f":"SUM('LP 1'!B74,'LP 2'!B74,'LP 3'!B74,'LP 4'!B74,'LP 5'!B74,'LP 6'!B74,'LP 7'!B74,'LP 8'!B74,'LP 9'!B74,'LP 10'!B74,'LP 11'!B74,'LP 12'!B74,'LP 13'!B74,'LP 14'!B74,'LP 15'!B74,)","v":0},{"$f":"SUM('LP 1'!C74,'LP 2'!C74,'LP 3'!C74,'LP 4'!C74,'LP 5'!C74,'LP 6'!C74,'LP 7'!C74,'LP 8'!C74,'LP 9'!C74,'LP 10'!C74,'LP 11'!C74,'LP 12'!C74,'LP 13'!C74,'LP 14'!C74,'LP 15'!C74,)","v":0},{"$f":"SUM('LP 1'!D74,'LP 2'!D74,'LP 3'!D74,'LP 4'!D74,'LP 5'!D74,'LP 6'!D74,'LP 7'!D74,'LP 8'!D74,'LP 9'!D74,'LP 10'!D74,'LP 11'!D74,'LP 12'!D74,'LP 13'!D74,'LP 14'!D74,'LP 15'!D74,)","v":0},{"$f":"SUM('LP 1'!E74,'LP 2'!E74,'LP 3'!E74,'LP 4'!E74,'LP 5'!E74,'LP 6'!E74,'LP 7'!E74,'LP 8'!E74,'LP 9'!E74,'LP 10'!E74,'LP 11'!E74,'LP 12'!E74,'LP 13'!E74,'LP 14'!E74,'LP 15'!E74,)","v":0},null,null,null,{"$f":"'LP 1'!I74","v":0},{"$f":"'LP 2'!I74","v":0},{"$f":"'LP 3'!I74","v":0},{"$f":"'LP 4'!I74","v":0},{"$f":"'LP 5'!I74","v":0},{"$f":"'LP 6'!I74","v":0},{"$f":"'LP 7'!I74","v":0},{"$f":"'LP 8'!I74","v":0},{"$f":"'LP 9'!I74","v":0},{"$f":"'LP 10'!I74","v":0},{"$f":"'LP 11'!I74","v":0},{"$f":"'LP 12'!I74","v":0},{"$f":"'LP 13'!I74","v":0},{"$f":"'LP 14'!I74","v":0},{"$f":"'LP 15'!I74","v":0}]
["M6 Indikator 6",{"$f":"SUM('LP 1'!B75,'LP 2'!B75,'LP 3'!B75,'LP 4'!B75,'LP 5'!B75,'LP 6'!B75,'LP 7'!B75,'LP 8'!B75,'LP 9'!B75,'LP 10'!B75,'LP 11'!B75,'LP 12'!B75,'LP 13'!B75,'LP 14'!B75,'LP 15'!B75,)","v":0},{"$f":"SUM('LP 1'!C75,'LP 2'!C75,'LP 3'!C75,'LP 4'!C75,'LP 5'!C75,'LP 6'!C75,'LP 7'!C75,'LP 8'!C75,'LP 9'!C75,'LP 10'!C75,'LP 11'!C75,'LP 12'!C75,'LP 13'!C75,'LP 14'!C75,'LP 15'!C75,)","v":0},{"$f":"SUM('LP 1'!D75,'LP 2'!D75,'LP 3'!D75,'LP 4'!D75,'LP 5'!D75,'LP 6'!D75,'LP 7'!D75,'LP 8'!D75,'LP 9'!D75,'LP 10'!D75,'LP 11'!D75,'LP 12'!D75,'LP 13'!D75,'LP 14'!D75,'LP 15'!D75,)","v":0},{"$f":"SUM('LP 1'!E75,'LP 2'!E75,'LP 3'!E75,'LP 4'!E75,'LP 5'!E75,'LP 6'!E75,'LP 7'!E75,'LP 8'!E75,'LP 9'!E75,'LP 10'!E75,'LP 11'!E75,'LP 12'!E75,'LP 13'!E75,'LP 14'!E75,'LP 15'!E75,)","v":0},null,null,null,{"$f":"'LP 1'!I75","v":0},{"$f":"'LP 2'!I75","v":0},{"$f":"'LP 3'!I75","v":0},{"$f":"'LP 4'!I75","v":0},{"$f":"'LP 5'!I75","v":0},{"$f":"'LP 6'!I75","v":0},{"$f":"'LP 7'!I75","v":0},{"$f":"'LP 8'!I75","v":0},{"$f":"'LP 9'!I75","v":0},{"$f":"'LP 10'!I75","v":0},{"$f":"'LP 11'!I75","v":0},{"$f":"'LP 12'!I75","v":0},{"$f":"'LP 13'!I75","v":0},{"$f":"'LP 14'!I75","v":0},{"$f":"'LP 15'!I75","v":0}]
["M6 Indikator 7",{"$f":"SUM('LP 1'!B76,'LP 2'!B76,'LP 3'!B76,'LP 4'!B76,'LP 5'!B76,'LP 6'!B76,'LP 7'!B76,'LP 8'!B76,'LP 9'!B76,'LP 10'!B76,'LP 11'!B76,'LP 12'!B76,'LP 13'!B76,'LP 14'!B76,'LP 15'!B76,)","v":0},{"$f":"SUM('LP 1'!C76,'LP 2'!C76,'LP 3'!C76,'LP 4'!C76,'LP 5'!C76,'LP 6'!C76,'LP 7'!C76,'LP 8'!C76,'LP 9'!C76,'LP 10'!C76,'LP 11'!C76,'LP 12'!C76,'LP 13'!C76,'LP 14'!C76,'LP 15'!C76,)","v":0},{"$f":"SUM('LP 1'!D76,'LP 2'!D76,'LP 3'!D76,'LP 4'!D76,'LP 5'!D76,'LP 6'!D76,'LP 7'!D76,'LP 8'!D76,'LP 9'!D76,'LP 10'!D76,'LP 11'!D76,'LP 12'!D76,'LP 13'!D76,'LP 14'!D76,'LP 15'!D76,)","v":0},{"$f":"SUM('LP 1'!E76,'LP 2'!E76,'LP 3'!E76,'LP 4'!E76,'LP 5'!E76,'LP 6'!E76,'LP 7'!E76,'LP 8'!E76,'LP 9'!E76,'LP 10'!E76,'LP 11'!E76,'LP 12'!E76,'LP 13'!E76,'LP 14'!E76,'LP 15'!E76,)","v":0},null,null,null,{"$f":"'LP 1'!I76","v":0},{"$f":"'LP 2'!I76","v":0},{"$f":"'LP 3'!I76","v":0},{"$f":"'LP 4'!I76","v":0},{"$f":"'LP 5'!I76","v":0},{"$f":"'LP 6'!I76","v":0},{"$f":"'LP 7'!I76","v":0},{"$f":"'LP 8'!I76","v":0},{"$f":"'LP 9'!I76","v":0},{"$f":"'LP 10'!I76","v":0},{"$f":"'LP 11'!I76","v":0},{"$f":"'LP 12'!I76","v":0},{"$f":"'LP 13'!I76","v":0},{"$f":"'LP 14'!I76","v":0},{"$f":"'LP 15'!I76","v":0}]
["M6 Indikator 8",{"$f":"SUM('LP 1'!B77,'LP 2'!B77,'LP 3'!B77,'LP 4'!B77,'LP 5'!B77,'LP 6'!B77,'LP 7'!B77,'LP 8'!B77,'LP 9'!B77,'LP 10'!B77,'LP 11'!B77,'LP 12'!B77,'LP 13'!B77,'LP 14'!B77,'LP 15'!B77,)","v":0},{"$f":"SUM('LP 1'!C77,'LP 2'!C77,'LP 3'!C77,'LP 4'!C77,'LP 5'!C77,'LP 6'!C77,'LP 7'!C77,'LP 8'!C77,'LP 9'!C77,'LP 10'!C77,'LP 11'!C77,'LP 12'!C77,'LP 13'!C77,'LP 14'!C77,'LP 15'!C77,)","v":0},{"$f":"SUM('LP 1'!D77,'LP 2'!D77,'LP 3'!D77,'LP 4'!D77,'LP 5'!D77,'LP 6'!D77,'LP 7'!D77,'LP 8'!D77,'LP 9'!D77,'LP 10'!D77,'LP 11'!D77,'LP 12'!D77,'LP 13'!D77,'LP 14'!D77,'LP 15'!D77,)","v":0},{"$f":"SUM('LP 1'!E77,'LP 2'!E77,'LP 3'!E77,'LP 4'!E77,'LP 5'!E77,'LP 6'!E77,'LP 7'!E77,'LP 8'!E77,'LP 9'!E77,'LP 10'!E77,'LP 11'!E77,'LP 12'!E77,'LP 13'!E77,'LP 14'!E77,'LP 15'!E77,)","v":0},null,null,null,{"$f":"'LP 1'!I77","v":0},{"$f":"'LP 2'!I77","v":0},{"$f":"'LP 3'!I77","v":0},{"$f":"'LP 4'!I77","v":0},{"$f":"'LP 5'!I77","v":0},{"$f":"'LP 6'!I77","v":0},{"$f":"'LP 7'!I77","v":0},{"$f":"'LP 8'!I77","v":0},{"$f":"'LP 9'!I77","v":0},{"$f":"'LP 10'!I77","v":0},{"$f":"'LP 11'!I77","v":0},{"$f":"'LP 12'!I77","v":0},{"$f":"'LP 13'!I77","v":0},{"$f":"'LP 14'!I77","v":0},{"$f":"'LP 15'!I77","v":0}]
["M6 Indikator 9",{"$f":"SUM('LP 1'!B78,'LP 2'!B78,'LP 3'!B78,'LP 4'!B78,'LP 5'!B78,'LP 6'!B78,'LP 7'!B78,'LP 8'!B78,'LP 9'!B78,'LP 10'!B78,'LP 11'!B78,'LP 12'!B78,'LP 13'!B78,'LP 14'!B78,'LP 15'!B78,)","v":0},{"$f":"SUM('LP 1'!C78,'LP 2'!C78,'LP 3'!C78,'LP 4'!C78,'LP 5'!C78,'LP 6'!C78,'LP 7'!C78,'LP 8'!C78,'LP 9'!C78,'LP 10'!C78,'LP 11'!C78,'LP 12'!C78,'LP 13'!C78,'LP 14'!C78,'LP 15'!C78,)","v":0},{"$f":"SUM('LP 1'!D78,'LP 2'!D78,'LP 3'!D78,'LP 4'!D78,'LP 5'!D78,'LP 6'!D78,'LP 7'!D78,'LP 8'!D78,'LP 9'!D78,'LP 10'!D78,'LP 11'!D78,'LP 12'!D78,'LP 13'!D78,'LP 14'!D78,'LP 15'!D78,)","v":0},{"$f":"SUM('LP 1'!E78,'LP 2'!E78,'LP 3'!E78,'LP 4'!E78,'LP 5'!E78,'LP 6'!E78,'LP 7'!E78,'LP 8'!E78,'LP 9'!E78,'LP 10'!E78,'LP 11'!E78,'LP 12'!E78,'LP 13'!E78,'LP 14'!E78,'LP 15'!E78,)","v":0},null,null,null,{"$f":"'LP 1'!I78","v":0},{"$f":"'LP 2'!I78","v":0},{"$f":"'LP 3'!I78","v":0},{"$f":"'LP 4'!I78","v":0},{"$f":"'LP 5'!I78","v":0},{"$f":"'LP 6'!I78","v":0},{"$f":"'LP 7'!I78","v":0},{"$f":"'LP 8'!I78","v":0},{"$f":"'LP 9'!I78","v":0},{"$f":"'LP 10'!I78","v":0},{"$f":"'LP 11'!I78","v":0},{"$f":"'LP 12'!I78","v":0},{"$f":"'LP 13'!I78","v":0},{"$f":"'LP 14'!I78","v":0},{"$f":"'LP 15'!I78","v":0}]
["M6 Indikator 10",{"$f":"SUM('LP 1'!B79,'LP 2'!B79,'LP 3'!B79,'LP 4'!B79,'LP 5'!B79,'LP 6'!B79,'LP 7'!B79,'LP 8'!B79,'LP 9'!B79,'LP 10'!B79,'LP 11'!B79,'LP 12'!B79,'LP 13'!B79,'LP 14'!B79,'LP 15'!B79,)","v":0},{"$f":"SUM('LP 1'!C79,'LP 2'!C79,'LP 3'!C79,'LP 4'!C79,'LP 5'!C79,'LP 6'!C79,'LP 7'!C79,'LP 8'!C79,'LP 9'!C79,'LP 10'!C79,'LP 11'!C79,'LP 12'!C79,'LP 13'!C79,'LP 14'!C79,'LP 15'!C79,)","v":0},{"$f":"SUM('LP 1'!D79,'LP 2'!D79,'LP 3'!D79,'LP 4'!D79,'LP 5'!D79,'LP 6'!D79,'LP 7'!D79,'LP 8'!D79,'LP 9'!D79,'LP 10'!D79,'LP 11'!D79,'LP 12'!D79,'LP 13'!D79,'LP 14'!D79,'LP 15'!D79,)","v":0},{"$f":"SUM('LP 1'!E79,'LP 2'!E79,'LP 3'!E79,'LP 4'!E79,'LP 5'!E79,'LP 6'!E79,'LP 7'!E79,'LP 8'!E79,'LP 9'!E79,'LP 10'!E79,'LP 11'!E79,'LP 12'!E79,'LP 13'!E79,'LP 14'!E79,'LP 15'!E79,)","v":0},null,null,null,{"$f":"'LP 1'!I79","v":0},{"$f":"'LP 2'!I79","v":0},{"$f":"'LP 3'!I79","v":0},{"$f":"'LP 4'!I79","v":0},{"$f":"'LP 5'!I79","v":0},{"$f":"'LP 6'!I79","v":0},{"$f":"'LP 7'!I79","v":0},{"$f":"'LP 8'!I79","v":0},{"$f":"'LP 9'!I79","v":0},{"$f":"'LP 10'!I79","v":0},{"$f":"'LP 11'!I79","v":0},{"$f":"'LP 12'!I79","v":0},{"$f":"'LP 13'!I79","v":0},{"$f":"'LP 14'!I79","v":0},{"$f":"'LP 15'!I79","v":0}]
["Merkmal"," +++"," ++"," +"," -"," --"," ---"," ?","Auswertung"]
["Merkmal 7",{"$f":"SUM('LP 1'!B81,'LP 2'!B81,'LP 3'!B81,'LP 4'!B81,'LP 5'!B81,'LP 6'!B81,'LP 7'!B81,'LP 8'!B81,'LP 9'!B81,'LP 10'!B81,'LP 11'!B81,'LP 12'!B81,'LP 13'!B81,'LP 14'!B81,'LP 15'!B81,)","v":0},{"$f":"SUM('LP 1'!C81,'LP 2'!C81,'LP 3'!C81,'LP 4'!C81,'LP 5'!C81,'LP 6'!C81,'LP 7'!C81,'LP 8'!C81,'LP 9'!C81,'LP 10'!C81,'LP 11'!C81,'LP 12'!C81,'LP 13'!C81,'LP 14'!C81,'LP 15'!C81,)","v":0},{"$f":"SUM('LP 1'!D81,'LP 2'!D81,'LP 3'!D81,'LP 4'!D81,'LP 5'!D81,'LP 6'!D81,'LP 7'!D81,'LP 8'!D81,'LP 9'!D81,'LP 10'!D81,'LP 11'!D81,'LP 12'!D81,'LP 13'!D81,'LP 14'!D81,'LP 15'!D81,)","v":0},{"$f":"SUM('LP 1'!E81,'LP 2'!E81,'LP 3'!E81,'LP 4'!E81,'LP 5'!E81,'LP 6'!E81,'LP 7'!E81,'LP 8'!E81,'LP 9'!E81,'LP 10'!E81,'LP 11'!E81,'LP 12'!E81,'LP 13'!E81,'LP 14'!E81,'LP 15'!E81,)","v":0},{"$f":"SUM('LP 1'!F81,'LP 2'!F81,'LP 3'!F81,'LP 4'!F81,'LP 5'!F81,'LP 6'!F81,'LP 7'!F81,'LP 8'!F81,'LP 9'!F81,'LP 10'!F81,'LP 11'!F81,'LP 12'!F81,'LP 13'!F81,'LP 14'!F81,'LP 15'!F81,)","v":0},{"$f":"SUM('LP 1'!G81,'LP 2'!G81,'LP 3'!G81,'LP 4'!G81,'LP 5'!G81,'LP 6'!G81,'LP 7'!G81,'LP 8'!G81,'LP 9'!G81,'LP 10'!G81,'LP 11'!G81,'LP 12'!G81,'LP 13'!G81,'LP 14'!G81,'LP 15'!G81,)","v":0},{"$f":"SUM('LP 1'!H81,'LP 2'!H81,'LP 3'!H81,'LP 4'!H81,'LP 5'!H81,'LP 6'!H81,'LP 7'!H81,'LP 8'!H81,'LP 9'!H81,'LP 10'!H81,'LP 11'!H81,'LP 12'!H81,'LP 13'!H81,'LP 14'!H81,'LP 15'!H81,)","v":0}]
[null,null,null,null,null,null,null,null,{"$f":"'LP 1'!I81","v":0},{"$f":"'LP 2'!I81","v":0},{"$f":"'LP 3'!I81","v":0},{"$f":"'LP 4'!I81","v":0},{"$f":"'LP 5'!I81","v":0},{"$f":"'LP 6'!I81","v":0},{"$f":"'LP 7'!I81","v":0},{"$f":"'LP 8'!I81","v":0},{"$f":"'LP 9'!I81","v":0},{"$f":"'LP 10'!I81","v":0},{"$f":"'LP 11'!I81","v":0},{"$f":"'LP 12'!I81","v":0},{"$f":"'LP 13'!I81","v":0},{"$f":"'LP 14'!I81","v":0},{"$f":"'LP 15'!I81","v":0}]
["Indikatoren","ja","teils","nein","?",null,null,null,{"$f":"I40","v":"LP 1"},{"$f":"J40","v":"LP 2"},"LP 3","LP 4","LP 5","LP 6","LP 7","LP 8","LP 9","LP 10","LP 11","LP 12","LP 13","LP 14","LP 15"]
["M7 Indikator 1",{"$f":"SUM('LP 1'!B83,'LP 2'!B83,'LP 3'!B83,'LP 4'!B83,'LP 5'!B83,'LP 6'!B83,'LP 7'!B83,'LP 8'!B83,'LP 9'!B83,'LP 10'!B83,'LP 11'!B83,'LP 12'!B83,'LP 13'!B83,'LP 14'!B83,'LP 15'!B83,)","v":0},{"$f":"SUM('LP 1'!C83,'LP 2'!C83,'LP 3'!C83,'LP 4'!C83,'LP 5'!C83,'LP 6'!C83,'LP 7'!C83,'LP 8'!C83,'LP 9'!C83,'LP 10'!C83,'LP 11'!C83,'LP 12'!C83,'LP 13'!C83,'LP 14'!C83,'LP 15'!C83,)","v":0},{"$f":"SUM('LP 1'!D83,'LP 2'!D83,'LP 3'!D83,'LP 4'!D83,'LP 5'!D83,'LP 6'!D83,'LP 7'!D83,'LP 8'!D83,'LP 9'!D83,'LP 10'!D83,'LP 11'!D83,'LP 12'!D83,'LP 13'!D83,'LP 14'!D83,'LP 15'!D83,)","v":0},{"$f":"SUM('LP 1'!E83,'LP 2'!E83,'LP 3'!E83,'LP 4'!E83,'LP 5'!E83,'LP 6'!E83,'LP 7'!E83,'LP 8'!E83,'LP 9'!E83,'LP 10'!E83,'LP 11'!E83,'LP 12'!E83,'LP 13'!E83,'LP 14'!E83,'LP 15'!E83,)","v":0},null,null,null,{"$f":"'LP 1'!I83","v":0},{"$f":"'LP 2'!I83","v":0},{"$f":"'LP 3'!I83","v":0},{"$f":"'LP 4'!I83","v":0},{"$f":"'LP 5'!I83","v":0},{"$f":"'LP 6'!I83","v":0},{"$f":"'LP 7'!I83","v":0},{"$f":"'LP 8'!I83","v":0},{"$f":"'LP 9'!I83","v":0},{"$f":"'LP 10'!I83","v":0},{"$f":"'LP 11'!I83","v":0},{"$f":"'LP 12'!I83","v":0},{"$f":"'LP 13'!I83","v":0},{"$f":"'LP 14'!I83","v":0},{"$f":"'LP 15'!I83","v":0}]
["M7 Indikator 2",{"$f":"SUM('LP 1'!B84,'LP 2'!B84,'LP 3'!B84,'LP 4'!B84,'LP 5'!B84,'LP 6'!B84,'LP 7'!B84,'LP 8'!B84,'LP 9'!B84,'LP 10'!B84,'LP 11'!B84,'LP 12'!B84,'LP 13'!B84,'LP 14'!B84,'LP 15'!B84,)","v":0},{"$f":"SUM('LP 1'!C84,'LP 2'!C84,'LP 3'!C84,'LP 4'!C84,'LP 5'!C84,'LP 6'!C84,'LP 7'!C84,'LP 8'!C84,'LP 9'!C84,'LP 10'!C84,'LP 11'!C84,'LP 12'!C84,'LP 13'!C84,'LP 14'!C84,'LP 15'!C84,)","v":0},{"$f":"SUM('LP 1'!D84,'LP 2'!D84,'LP 3'!D84,'LP 4'!D84,'LP 5'!D84,'LP 6'!D84,'LP 7'!D84,'LP 8'!D84,'LP 9'!D84,'LP 10'!D84,'LP 11'!D84,'LP 12'!D84,'LP 13'!D84,'LP 14'!D84,'LP 15'!D84,)","v":0},{"$f":"SUM('LP 1'!E84,'LP 2'!E84,'LP 3'!E84,'LP 4'!E84,'LP 5'!E84,'LP 6'!E84,'LP 7'!E84,'LP 8'!E84,'LP 9'!E84,'LP 10'!E84,'LP 11'!E84,'LP 12'!E84,'LP 13'!E84,'LP 14'!E84,'LP 15'!E84,)","v":0},null,null,null,{"$f":"'LP 1'!I84","v":0},{"$f":"'LP 2'!I84","v":0},{"$f":"'LP 3'!I84","v":0},{"$f":"'LP 4'!I84","v":0},{"$f":"'LP 5'!I84","v":0},{"$f":"'LP 6'!I84","v":0},{"$f":"'LP 7'!I84","v":0},{"$f":"'LP 8'!I84","v":0},{"$f":"'LP 9'!I84","v":0},{"$f":"'LP 10'!I84","v":0},{"$f":"'LP 11'!I84","v":0},{"$f":"'LP 12'!I84","v":0},{"$f":"'LP 13'!I84","v":0},{"$f":"'LP 14'!I84","v":0},{"$f":"'LP 15'!I84","v":0}]
["M7 Indikator 3",{"$f":"SUM('LP 1'!B85,'LP 2'!B85,'LP 3'!B85,'LP 4'!B85,'LP 5'!B85,'LP 6'!B85,'LP 7'!B85,'LP 8'!B85,'LP 9'!B85,'LP 10'!B85,'LP 11'!B85,'LP 12'!B85,'LP 13'!B85,'LP 14'!B85,'LP 15'!B85,)","v":0},{"$f":"SUM('LP 1'!C85,'LP 2'!C85,'LP 3'!C85,'LP 4'!C85,'LP 5'!C85,'LP 6'!C85,'LP 7'!C85,'LP 8'!C85,'LP 9'!C85,'LP 10'!C85,'LP 11'!C85,'LP 12'!C85,'LP 13'!C85,'LP 14'!C85,'LP 15'!C85,)","v":0},{"$f":"SUM('LP 1'!D85,'LP 2'!D85,'LP 3'!D85,'LP 4'!D85,'LP 5'!D85,'LP 6'!D85,'LP 7'!D85,'LP 8'!D85,'LP 9'!D85,'LP 10'!D85,'LP 11'!D85,'LP 12'!D85,'LP 13'!D85,'LP 14'!D85,'LP 15'!D85,)","v":0},{"$f":"SUM('LP 1'!E85,'LP 2'!E85,'LP 3'!E85,'LP 4'!E85,'LP 5'!E85,'LP 6'!E85,'LP 7'!E85,'LP 8'!E85,'LP 9'!E85,'LP 10'!E85,'LP 11'!E85,'LP 12'!E85,'LP 13'!E85,'LP 14'!E85,'LP 15'!E85,)","v":0},null,null,null,{"$f":"'LP 1'!I85","v":0},{"$f":"'LP 2'!I85","v":0},{"$f":"'LP 3'!I85","v":0},{"$f":"'LP 4'!I85","v":0},{"$f":"'LP 5'!I85","v":0},{"$f":"'LP 6'!I85","v":0},{"$f":"'LP 7'!I85","v":0},{"$f":"'LP 8'!I85","v":0},{"$f":"'LP 9'!I85","v":0},{"$f":"'LP 10'!I85","v":0},{"$f":"'LP 11'!I85","v":0},{"$f":"'LP 12'!I85","v":0},{"$f":"'LP 13'!I85","v":0},{"$f":"'LP 14'!I85","v":0},{"$f":"'LP 15'!I85","v":0}]
["M7 Indikator 4",{"$f":"SUM('LP 1'!B86,'LP 2'!B86,'LP 3'!B86,'LP 4'!B86,'LP 5'!B86,'LP 6'!B86,'LP 7'!B86,'LP 8'!B86,'LP 9'!B86,'LP 10'!B86,'LP 11'!B86,'LP 12'!B86,'LP 13'!B86,'LP 14'!B86,'LP 15'!B86,)","v":0},{"$f":"SUM('LP 1'!C86,'LP 2'!C86,'LP 3'!C86,'LP 4'!C86,'LP 5'!C86,'LP 6'!C86,'LP 7'!C86,'LP 8'!C86,'LP 9'!C86,'LP 10'!C86,'LP 11'!C86,'LP 12'!C86,'LP 13'!C86,'LP 14'!C86,'LP 15'!C86,)","v":0},{"$f":"SUM('LP 1'!D86,'LP 2'!D86,'LP 3'!D86,'LP 4'!D86,'LP 5'!D86,'LP 6'!D86,'LP 7'!D86,'LP 8'!D86,'LP 9'!D86,'LP 10'!D86,'LP 11'!D86,'LP 12'!D86,'LP 13'!D86,'LP 14'!D86,'LP 15'!D86,)","v":0},{"$f":"SUM('LP 1'!E86,'LP 2'!E86,'LP 3'!E86,'LP 4'!E86,'LP 5'!E86,'LP 6'!E86,'LP 7'!E86,'LP 8'!E86,'LP 9'!E86,'LP 10'!E86,'LP 11'!E86,'LP 12'!E86,'LP 13'!E86,'LP 14'!E86,'LP 15'!E86,)","v":0},null,null,null,{"$f":"'LP 1'!I86","v":0},{"$f":"'LP 2'!I86","v":0},{"$f":"'LP 3'!I86","v":0},{"$f":"'LP 4'!I86","v":0},{"$f":"'LP 5'!I86","v":0},{"$f":"'LP 6'!I86","v":0},{"$f":"'LP 7'!I86","v":0},{"$f":"'LP 8'!I86","v":0},{"$f":"'LP 9'!I86","v":0},{"$f":"'LP 10'!I86","v":0},{"$f":"'LP 11'!I86","v":0},{"$f":"'LP 12'!I86","v":0},{"$f":"'LP 13'!I86","v":0},{"$f":"'LP 14'!I86","v":0},{"$f":"'LP 15'!I86","v":0}]
["M7 Indikator 5",{"$f":"SUM('LP 1'!B87,'LP 2'!B87,'LP 3'!B87,'LP 4'!B87,'LP 5'!B87,'LP 6'!B87,'LP 7'!B87,'LP 8'!B87,'LP 9'!B87,'LP 10'!B87,'LP 11'!B87,'LP 12'!B87,'LP 13'!B87,'LP 14'!B87,'LP 15'!B87,)","v":0},{"$f":"SUM('LP 1'!C87,'LP 2'!C87,'LP 3'!C87,'LP 4'!C87,'LP 5'!C87,'LP 6'!C87,'LP 7'!C87,'LP 8'!C87,'LP 9'!C87,'LP 10'!C87,'LP 11'!C87,'LP 12'!C87,'LP 13'!C87,'LP 14'!C87,'LP 15'!C87,)","v":0},{"$f":"SUM('LP 1'!D87,'LP 2'!D87,'LP 3'!D87,'LP 4'!D87,'LP 5'!D87,'LP 6'!D87,'LP 7'!D87,'LP 8'!D87,'LP 9'!D87,'LP 10'!D87,'LP 11'!D87,'LP 12'!D87,'LP 13'!D87,'LP 14'!D87,'LP 15'!D87,)","v":0},{"$f":"SUM('LP 1'!E87,'LP 2'!E87,'LP 3'!E87,'LP 4'!E87,'LP 5'!E87,'LP 6'!E87,'LP 7'!E87,'LP 8'!E87,'LP 9'!E87,'LP 10'!E87,'LP 11'!E87,'LP 12'!E87,'LP 13'!E87,'LP 14'!E87,'LP 15'!E87,)","v":0},null,null,null,{"$f":"'LP 1'!I87","v":0},{"$f":"'LP 2'!I87","v":0},{"$f":"'LP 3'!I87","v":0},{"$f":"'LP 4'!I87","v":0},{"$f":"'LP 5'!I87","v":0},{"$f":"'LP 6'!I87","v":0},{"$f":"'LP 7'!I87","v":0},{"$f":"'LP 8'!I87","v":0},{"$f":"'LP 9'!I87","v":0},{"$f":"'LP 10'!I87","v":0},{"$f":"'LP 11'!I87","v":0},{"$f":"'LP 12'!I87","v":0},{"$f":"'LP 13'!I87","v":0},{"$f":"'LP 14'!I87","v":0},{"$f":"'LP 15'!I87","v":0}]
["M7 Indikator 6",{"$f":"SUM('LP 1'!B88,'LP 2'!B88,'LP 3'!B88,'LP 4'!B88,'LP 5'!B88,'LP 6'!B88,'LP 7'!B88,'LP 8'!B88,'LP 9'!B88,'LP 10'!B88,'LP 11'!B88,'LP 12'!B88,'LP 13'!B88,'LP 14'!B88,'LP 15'!B88,)","v":0},{"$f":"SUM('LP 1'!C88,'LP 2'!C88,'LP 3'!C88,'LP 4'!C88,'LP 5'!C88,'LP 6'!C88,'LP 7'!C88,'LP 8'!C88,'LP 9'!C88,'LP 10'!C88,'LP 11'!C88,'LP 12'!C88,'LP 13'!C88,'LP 14'!C88,'LP 15'!C88,)","v":0},{"$f":"SUM('LP 1'!D88,'LP 2'!D88,'LP 3'!D88,'LP 4'!D88,'LP 5'!D88,'LP 6'!D88,'LP 7'!D88,'LP 8'!D88,'LP 9'!D88,'LP 10'!D88,'LP 11'!D88,'LP 12'!D88,'LP 13'!D88,'LP 14'!D88,'LP 15'!D88,)","v":0},{"$f":"SUM('LP 1'!E88,'LP 2'!E88,'LP 3'!E88,'LP 4'!E88,'LP 5'!E88,'LP 6'!E88,'LP 7'!E88,'LP 8'!E88,'LP 9'!E88,'LP 10'!E88,'LP 11'!E88,'LP 12'!E88,'LP 13'!E88,'LP 14'!E88,'LP 15'!E88,)","v":0},null,null,null,{"$f":"'LP 1'!I88","v":0},{"$f":"'LP 2'!I88","v":0},{"$f":"'LP 3'!I88","v":0},{"$f":"'LP 4'!I88","v":0},{"$f":"'LP 5'!I88","v":0},{"$f":"'LP 6'!I88","v":0},{"$f":"'LP 7'!I88","v":0},{"$f":"'LP 8'!I88","v":0},{"$f":"'LP 9'!I88","v":0},{"$f":"'LP 10'!I88","v":0},{"$f":"'LP 11'!I88","v":0},{"$f":"'LP 12'!I88","v":0},{"$f":"'LP 13'!I88","v":0},{"$f":"'LP 14'!I88","v":0},{"$f":"'LP 15'!I88","v":0}]
["M7 Indikator 7",{"$f":"SUM('LP 1'!B89,'LP 2'!B89,'LP 3'!B89,'LP 4'!B89,'LP 5'!B89,'LP 6'!B89,'LP 7'!B89,'LP 8'!B89,'LP 9'!B89,'LP 10'!B89,'LP 11'!B89,'LP 12'!B89,'LP 13'!B89,'LP 14'!B89,'LP 15'!B89,)","v":0},{"$f":"SUM('LP 1'!C89,'LP 2'!C89,'LP 3'!C89,'LP 4'!C89,'LP 5'!C89,'LP 6'!C89,'LP 7'!C89,'LP 8'!C89,'LP 9'!C89,'LP 10'!C89,'LP 11'!C89,'LP 12'!C89,'LP 13'!C89,'LP 14'!C89,'LP 15'!C89,)","v":0},{"$f":"SUM('LP 1'!D89,'LP 2'!D89,'LP 3'!D89,'LP 4'!D89,'LP 5'!D89,'LP 6'!D89,'LP 7'!D89,'LP 8'!D89,'LP 9'!D89,'LP 10'!D89,'LP 11'!D89,'LP 12'!D89,'LP 13'!D89,'LP 14'!D89,'LP 15'!D89,)","v":0},{"$f":"SUM('LP 1'!E89,'LP 2'!E89,'LP 3'!E89,'LP 4'!E89,'LP 5'!E89,'LP 6'!E89,'LP 7'!E89,'LP 8'!E89,'LP 9'!E89,'LP 10'!E89,'LP 11'!E89,'LP 12'!E89,'LP 13'!E89,'LP 14'!E89,'LP 15'!E89,)","v":0},null,null,null,{"$f":"'LP 1'!I89","v":0},{"$f":"'LP 2'!I89","v":0},{"$f":"'LP 3'!I89","v":0},{"$f":"'LP 4'!I89","v":0},{"$f":"'LP 5'!I89","v":0},{"$f":"'LP 6'!I89","v":0},{"$f":"'LP 7'!I89","v":0},{"$f":"'LP 8'!I89","v":0},{"$f":"'LP 9'!I89","v":0},{"$f":"'LP 10'!I89","v":0},{"$f":"'LP 11'!I89","v":0},{"$f":"'LP 12'!I89","v":0},{"$f":"'LP 13'!I89","v":0},{"$f":"'LP 14'!I89","v":0},{"$f":"'LP 15'!I89","v":0}]
["M7 Indikator 8",{"$f":"SUM('LP 1'!B90,'LP 2'!B90,'LP 3'!B90,'LP 4'!B90,'LP 5'!B90,'LP 6'!B90,'LP 7'!B90,'LP 8'!B90,'LP 9'!B90,'LP 10'!B90,'LP 11'!B90,'LP 12'!B90,'LP 13'!B90,'LP 14'!B90,'LP 15'!B90,)","v":0},{"$f":"SUM('LP 1'!C90,'LP 2'!C90,'LP 3'!C90,'LP 4'!C90,'LP 5'!C90,'LP 6'!C90,'LP 7'!C90,'LP 8'!C90,'LP 9'!C90,'LP 10'!C90,'LP 11'!C90,'LP 12'!C90,'LP 13'!C90,'LP 14'!C90,'LP 15'!C90,)","v":0},{"$f":"SUM('LP 1'!D90,'LP 2'!D90,'LP 3'!D90,'LP 4'!D90,'LP 5'!D90,'LP 6'!D90,'LP 7'!D90,'LP 8'!D90,'LP 9'!D90,'LP 10'!D90,'LP 11'!D90,'LP 12'!D90,'LP 13'!D90,'LP 14'!D90,'LP 15'!D90,)","v":0},{"$f":"SUM('LP 1'!E90,'LP 2'!E90,'LP 3'!E90,'LP 4'!E90,'LP 5'!E90,'LP 6'!E90,'LP 7'!E90,'LP 8'!E90,'LP 9'!E90,'LP 10'!E90,'LP 11'!E90,'LP 12'!E90,'LP 13'!E90,'LP 14'!E90,'LP 15'!E90,)","v":0},null,null,null,{"$f":"'LP 1'!I90","v":0},{"$f":"'LP 2'!I90","v":0},{"$f":"'LP 3'!I90","v":0},{"$f":"'LP 4'!I90","v":0},{"$f":"'LP 5'!I90","v":0},{"$f":"'LP 6'!I90","v":0},{"$f":"'LP 7'!I90","v":0},{"$f":"'LP 8'!I90","v":0},{"$f":"'LP 9'!I90","v":0},{"$f":"'LP 10'!I90","v":0},{"$f":"'LP 11'!I90","v":0},{"$f":"'LP 12'!I90","v":0},{"$f":"'LP 13'!I90","v":0},{"$f":"'LP 14'!I90","v":0},{"$f":"'LP 15'!I90","v":0}]
["M7 Indikator 9",{"$f":"SUM('LP 1'!B91,'LP 2'!B91,'LP 3'!B91,'LP 4'!B91,'LP 5'!B91,'LP 6'!B91,'LP 7'!B91,'LP 8'!B91,'LP 9'!B91,'LP 10'!B91,'LP 11'!B91,'LP 12'!B91,'LP 13'!B91,'LP 14'!B91,'LP 15'!B91,)","v":0},{"$f":"SUM('LP 1'!C91,'LP 2'!C91,'LP 3'!C91,'LP 4'!C91,'LP 5'!C91,'LP 6'!C91,'LP 7'!C91,'LP 8'!C91,'LP 9'!C91,'LP 10'!C91,'LP 11'!C91,'LP 12'!C91,'LP 13'!C91,'LP 14'!C91,'LP 15'!C91,)","v":0},{"$f":"SUM('LP 1'!D91,'LP 2'!D91,'LP 3'!D91,'LP 4'!D91,'LP 5'!D91,'LP 6'!D91,'LP 7'!D91,'LP 8'!D91,'LP 9'!D91,'LP 10'!D91,'LP 11'!D91,'LP 12'!D91,'LP 13'!D91,'LP 14'!D91,'LP 15'!D91,)","v":0},{"$f":"SUM('LP 1'!E91,'LP 2'!E91,'LP 3'!E91,'LP 4'!E91,'LP 5'!E91,'LP 6'!E91,'LP 7'!E91,'LP 8'!E91,'LP 9'!E91,'LP 10'!E91,'LP 11'!E91,'LP 12'!E91,'LP 13'!E91,'LP 14'!E91,'LP 15'!E91,)","v":0},null,null,null,{"$f":"'LP 1'!I91","v":0},{"$f":"'LP 2'!I91","v":0},{"$f":"'LP 3'!I91","v":0},{"$f":"'LP 4'!I91","v":0},{"$f":"'LP 5'!I91","v":0},{"$f":"'LP 6'!I91","v":0},{"$f":"'LP 7'!I91","v":0},{"$f":"'LP 8'!I91","v":0},{"$f":"'LP 9'!I91","v":0},{"$f":"'LP 10'!I91","v":0},{"$f":"'LP 11'!I91","v":0},{"$f":"'LP 12'!I91","v":0},{"$f":"'LP 13'!I91","v":0},{"$f":"'LP 14'!I91","v":0},{"$f":"'LP 15'!I91","v":0}]
["M7 Indikator 10",{"$f":"SUM('LP 1'!B92,'LP 2'!B92,'LP 3'!B92,'LP 4'!B92,'LP 5'!B92,'LP 6'!B92,'LP 7'!B92,'LP 8'!B92,'LP 9'!B92,'LP 10'!B92,'LP 11'!B92,'LP 12'!B92,'LP 13'!B92,'LP 14'!B92,'LP 15'!B92,)","v":0},{"$f":"SUM('LP 1'!C92,'LP 2'!C92,'LP 3'!C92,'LP 4'!C92,'LP 5'!C92,'LP 6'!C92,'LP 7'!C92,'LP 8'!C92,'LP 9'!C92,'LP 10'!C92,'LP 11'!C92,'LP 12'!C92,'LP 13'!C92,'LP 14'!C92,'LP 15'!C92,)","v":0},{"$f":"SUM('LP 1'!D92,'LP 2'!D92,'LP 3'!D92,'LP 4'!D92,'LP 5'!D92,'LP 6'!D92,'LP 7'!D92,'LP 8'!D92,'LP 9'!D92,'LP 10'!D92,'LP 11'!D92,'LP 12'!D92,'LP 13'!D92,'LP 14'!D92,'LP 15'!D92,)","v":0},{"$f":"SUM('LP 1'!E92,'LP 2'!E92,'LP 3'!E92,'LP 4'!E92,'LP 5'!E92,'LP 6'!E92,'LP 7'!E92,'LP 8'!E92,'LP 9'!E92,'LP 10'!E92,'LP 11'!E92,'LP 12'!E92,'LP 13'!E92,'LP 14'!E92,'LP 15'!E92,)","v":0},null,null,null,{"$f":"'LP 1'!I92","v":0},{"$f":"'LP 2'!I92","v":0},{"$f":"'LP 3'!I92","v":0},{"$f":"'LP 4'!I92","v":0},{"$f":"'LP 5'!I92","v":0},{"$f":"'LP 6'!I92","v":0},{"$f":"'LP 7'!I92","v":0},{"$f":"'LP 8'!I92","v":0},{"$f":"'LP 9'!I92","v":0},{"$f":"'LP 10'!I92","v":0},{"$f":"'LP 11'!I92","v":0},{"$f":"'LP 12'!I92","v":0},{"$f":"'LP 13'!I92","v":0},{"$f":"'LP 14'!I92","v":0},{"$f":"'LP 15'!I92","v":0}]
["Merkmal"," +++"," ++"," +"," -"," --"," ---"," ?","Auswertung"]
["Merkmal 8",{"$f":"SUM('LP 1'!B94,'LP 2'!B94,'LP 3'!B94,'LP 4'!B94,'LP 5'!B94,'LP 6'!B94,'LP 7'!B94,'LP 8'!B94,'LP 9'!B94,'LP 10'!B94,'LP 11'!B94,'LP 12'!B94,'LP 13'!B94,'LP 14'!B94,'LP 15'!B94,)","v":0},{"$f":"SUM('LP 1'!C94,'LP 2'!C94,'LP 3'!C94,'LP 4'!C94,'LP 5'!C94,'LP 6'!C94,'LP 7'!C94,'LP 8'!C94,'LP 9'!C94,'LP 10'!C94,'LP 11'!C94,'LP 12'!C94,'LP 13'!C94,'LP 14'!C94,'LP 15'!C94,)","v":0},{"$f":"SUM('LP 1'!D94,'LP 2'!D94,'LP 3'!D94,'LP 4'!D94,'LP 5'!D94,'LP 6'!D94,'LP 7'!D94,'LP 8'!D94,'LP 9'!D94,'LP 10'!D94,'LP 11'!D94,'LP 12'!D94,'LP 13'!D94,'LP 14'!D94,'LP 15'!D94,)","v":0},{"$f":"SUM('LP 1'!E94,'LP 2'!E94,'LP 3'!E94,'LP 4'!E94,'LP 5'!E94,'LP 6'!E94,'LP 7'!E94,'LP 8'!E94,'LP 9'!E94,'LP 10'!E94,'LP 11'!E94,'LP 12'!E94,'LP 13'!E94,'LP 14'!E94,'LP 15'!E94,)","v":0},{"$f":"SUM('LP 1'!F94,'LP 2'!F94,'LP 3'!F94,'LP 4'!F94,'LP 5'!F94,'LP 6'!F94,'LP 7'!F94,'LP 8'!F94,'LP 9'!F94,'LP 10'!F94,'LP 11'!F94,'LP 12'!F94,'LP 13'!F94,'LP 14'!F94,'LP 15'!F94,)","v":0},{"$f":"SUM('LP 1'!G94,'LP 2'!G94,'LP 3'!G94,'LP 4'!G94,'LP 5'!G94,'LP 6'!G94,'LP 7'!G94,'LP 8'!G94,'LP 9'!G94,'LP 10'!G94,'LP 11'!G94,'LP 12'!G94,'LP 13'!G94,'LP 14'!G94,'LP 15'!G94,)","v":0},{"$f":"SUM('LP 1'!H94,'LP 2'!H94,'LP 3'!H94,'LP 4'!H94,'LP 5'!H94,'LP 6'!H94,'LP 7'!H94,'LP 8'!H94,'LP 9'!H94,'LP 10'!H94,'LP 11'!H94,'LP 12'!H94,'LP 13'!H94,'LP 14'!H94,'LP 15'!H94,)","v":0}]
[null,null,null,null,null,null,null,null,{"$f":"'LP 1'!I94","v":0},{"$f":"'LP 2'!I94","v":0},{"$f":"'LP 3'!I94","v":0},{"$f":"'LP 4'!I94","v":0},{"$f":"'LP 5'!I94","v":0},{"$f":"'LP 6'!I94","v":0},{"$f":"'LP 7'!I94","v":0},{"$f":"'LP 8'!I94","v":0},{"$f":"'LP 9'!I94","v":0},{"$f":"'LP 10'!I94","v":0},{"$f":"'LP 11'!I94","v":0},{"$f":"'LP 12'!I94","v":0},{"$f":"'LP 13'!I94","v":0},{"$f":"'LP 14'!I94","v":0},{"$f":"'LP 15'!I94","v":0}]
["Indikatoren","ja","teils","nein","?",null,null,null,{"$f":"I40","v":"LP 1"},{"$f":"J40","v":"LP 2"},"LP 3","LP 4","LP 5","LP 6","LP 7","LP 8","LP 9","LP 10","LP 11","LP 12","LP 13","LP 14","LP 15"]
["M8 Indikator 1",{"$f":"SUM('LP 1'!B96,'LP 2'!B96,'LP 3'!B96,'LP 4'!B96,'LP 5'!B96,'LP 6'!B96,'LP 7'!B96,'LP 8'!B96,'LP 9'!B96,'LP 10'!B96,'LP 11'!B96,'LP 12'!B96,'LP 13'!B96,'LP 14'!B96,'LP 15'!B96,)","v":0},{"$f":"SUM('LP 1'!C96,'LP 2'!C96,'LP 3'!C96,'LP 4'!C96,'LP 5'!C96,'LP 6'!C96,'LP 7'!C96,'LP 8'!C96,'LP 9'!C96,'LP 10'!C96,'LP 11'!C96,'LP 12'!C96,'LP 13'!C96,'LP 14'!C96,'LP 15'!C96,)","v":0},{"$f":"SUM('LP 1'!D96,'LP 2'!D96,'LP 3'!D96,'LP 4'!D96,'LP 5'!D96,'LP 6'!D96,'LP 7'!D96,'LP 8'!D96,'LP 9'!D96,'LP 10'!D96,'LP 11'!D96,'LP 12'!D96,'LP 13'!D96,'LP 14'!D96,'LP 15'!D96,)","v":0},{"$f":"SUM('LP 1'!E96,'LP 2'!E96,'LP 3'!E96,'LP 4'!E96,'LP 5'!E96,'LP 6'!E96,'LP 7'!E96,'LP 8'!E96,'LP 9'!E96,'LP 10'!E96,'LP 11'!E96,'LP 12'!E96,'LP 13'!E96,'LP 14'!E96,'LP 15'!E96,)","v":0},null,null,null,{"$f":"'LP 1'!I96","v":0},{"$f":"'LP 2'!I96","v":0},{"$f":"'LP 3'!I96","v":0},{"$f":"'LP 4'!I96","v":0},{"$f":"'LP 5'!I96","v":0},{"$f":"'LP 6'!I96","v":0},{"$f":"'LP 7'!I96","v":0},{"$f":"'LP 8'!I96","v":0},{"$f":"'LP 9'!I96","v":0},{"$f":"'LP 10'!I96","v":0},{"$f":"'LP 11'!I96","v":0},{"$f":"'LP 12'!I96","v":0},{"$f":"'LP 13'!I96","v":0},{"$f":"'LP 14'!I96","v":0},{"$f":"'LP 15'!I96","v":0}]
["M8 Indikator 2",{"$f":"SUM('LP 1'!B97,'LP 2'!B97,'LP 3'!B97,'LP 4'!B97,'LP 5'!B97,'LP 6'!B97,'LP 7'!B97,'LP 8'!B97,'LP 9'!B97,'LP 10'!B97,'LP 11'!B97,'LP 12'!B97,'LP 13'!B97,'LP 14'!B97,'LP 15'!B97,)","v":0},{"$f":"SUM('LP 1'!C97,'LP 2'!C97,'LP 3'!C97,'LP 4'!C97,'LP 5'!C97,'LP 6'!C97,'LP 7'!C97,'LP 8'!C97,'LP 9'!C97,'LP 10'!C97,'LP 11'!C97,'LP 12'!C97,'LP 13'!C97,'LP 14'!C97,'LP 15'!C97,)","v":0},{"$f":"SUM('LP 1'!D97,'LP 2'!D97,'LP 3'!D97,'LP 4'!D97,'LP 5'!D97,'LP 6'!D97,'LP 7'!D97,'LP 8'!D97,'LP 9'!D97,'LP 10'!D97,'LP 11'!D97,'LP 12'!D97,'LP 13'!D97,'LP 14'!D97,'LP 15'!D97,)","v":0},{"$f":"SUM('LP 1'!E97,'LP 2'!E97,'LP 3'!E97,'LP 4'!E97,'LP 5'!E97,'LP 6'!E97,'LP 7'!E97,'LP 8'!E97,'LP 9'!E97,'LP 10'!E97,'LP 11'!E97,'LP 12'!E97,'LP 13'!E97,'LP 14'!E97,'LP 15'!E97,)","v":0},null,null,null,{"$f":"'LP 1'!I97","v":0},{"$f":"'LP 2'!I97","v":0},{"$f":"'LP 3'!I97","v":0},{"$f":"'LP 4'!I97","v":0},{"$f":"'LP 5'!I97","v":0},{"$f":"'LP 6'!I97","v":0},{"$f":"'LP 7'!I97","v":0},{"$f":"'LP 8'!I97","v":0},{"$f":"'LP 9'!I97","v":0},{"$f":"'LP 10'!I97","v":0},{"$f":"'LP 11'!I97","v":0},{"$f":"'LP 12'!I97","v":0},{"$f":"'LP 13'!I97","v":0},{"$f":"'LP 14'!I97","v":0},{"$f":"'LP 15'!I97","v":0}]
["M8 Indikator 3",{"$f":"SUM('LP 1'!B98,'LP 2'!B98,'LP 3'!B98,'LP 4'!B98,'LP 5'!B98,'LP 6'!B98,'LP 7'!B98,'LP 8'!B98,'LP 9'!B98,'LP 10'!B98,'LP 11'!B98,'LP 12'!B98,'LP 13'!B98,'LP 14'!B98,'LP 15'!B98,)","v":0},{"$f":"SUM('LP 1'!C98,'LP 2'!C98,'LP 3'!C98,'LP 4'!C98,'LP 5'!C98,'LP 6'!C98,'LP 7'!C98,'LP 8'!C98,'LP 9'!C98,'LP 10'!C98,'LP 11'!C98,'LP 12'!C98,'LP 13'!C98,'LP 14'!C98,'LP 15'!C98,)","v":0},{"$f":"SUM('LP 1'!D98,'LP 2'!D98,'LP 3'!D98,'LP 4'!D98,'LP 5'!D98,'LP 6'!D98,'LP 7'!D98,'LP 8'!D98,'LP 9'!D98,'LP 10'!D98,'LP 11'!D98,'LP 12'!D98,'LP 13'!D98,'LP 14'!D98,'LP 15'!D98,)","v":0},{"$f":"SUM('LP 1'!E98,'LP 2'!E98,'LP 3'!E98,'LP 4'!E98,'LP 5'!E98,'LP 6'!E98,'LP 7'!E98,'LP 8'!E98,'LP 9'!E98,'LP 10'!E98,'LP 11'!E98,'LP 12'!E98,'LP 13'!E98,'LP 14'!E98,'LP 15'!E98,)","v":0},null,null,null,{"$f":"'LP 1'!I98","v":0},{"$f":"'LP 2'!I98","v":0},{"$f":"'LP 3'!I98","v":0},{"$f":"'LP 4'!I98","v":0},{"$f":"'LP 5'!I98","v":0},{"$f":"'LP 6'!I98","v":0},{"$f":"'LP 7'!I98","v":0},{"$f":"'LP 8'!I98","v":0},{"$f":"'LP 9'!I98","v":0},{"$f":"'LP 10'!I98","v":0},{"$f":"'LP 11'!I98","v":0},{"$f":"'LP 12'!I98","v":0},{"$f":"'LP 13'!I98","v":0},{"$f":"'LP 14'!I98","v":0},{"$f":"'LP 15'!I98","v":0}]
["M8 Indikator 4",{"$f":"SUM('LP 1'!B99,'LP 2'!B99,'LP 3'!B99,'LP 4'!B99,'LP 5'!B99,'LP 6'!B99,'LP 7'!B99,'LP 8'!B99,'LP 9'!B99,'LP 10'!B99,'LP 11'!B99,'LP 12'!B99,'LP 13'!B99,'LP 14'!B99,'LP 15'!B99,)","v":0},{"$f":"SUM('LP 1'!C99,'LP 2'!C99,'LP 3'!C99,'LP 4'!C99,'LP 5'!C99,'LP 6'!C99,'LP 7'!C99,'LP 8'!C99,'LP 9'!C99,'LP 10'!C99,'LP 11'!C99,'LP 12'!C99,'LP 13'!C99,'LP 14'!C99,'LP 15'!C99,)","v":0},{"$f":"SUM('LP 1'!D99,'LP 2'!D99,'LP 3'!D99,'LP 4'!D99,'LP 5'!D99,'LP 6'!D99,'LP 7'!D99,'LP 8'!D99,'LP 9'!D99,'LP 10'!D99,'LP 11'!D99,'LP 12'!D99,'LP 13'!D99,'LP 14'!D99,'LP 15'!D99,)","v":0},{"$f":"SUM('LP 1'!E99,'LP 2'!E99,'LP 3'!E99,'LP 4'!E99,'LP 5'!E99,'LP 6'!E99,'LP 7'!E99,'LP 8'!E99,'LP 9'!E99,'LP 10'!E99,'LP 11'!E99,'LP 12'!E99,'LP 13'!E99,'LP 14'!E99,'LP 15'!E99,)","v":0},null,null,null,{"$f":"'LP 1'!I99","v":0},{"$f":"'LP 2'!I99","v":0},{"$f":"'LP 3'!I99","v":0},{"$f":"'LP 4'!I99","v":0},{"$f":"'LP 5'!I99","v":0},{"$f":"'LP 6'!I99","v":0},{"$f":"'LP 7'!I99","v":0},{"$f":"'LP 8'!I99","v":0},{"$f":"'LP 9'!I99","v":0},{"$f":"'LP 10'!I99","v":0},{"$f":"'LP 11'!I99","v":0},{"$f":"'LP 12'!I99","v":0},{"$f":"'LP 13'!I99","v":0},{"$f":"'LP 14'!I99","v":0},{"$f":"'LP 15'!I99","v":0}]
["M8 Indikator 5",{"$f":"SUM('LP 1'!B100,'LP 2'!B100,'LP 3'!B100,'LP 4'!B100,'LP 5'!B100,'LP 6'!B100,'LP 7'!B100,'LP 8'!B100,'LP 9'!B100,'LP 10'!B100,'LP 11'!B100,'LP 12'!B100,'LP 13'!B100,'LP 14'!B100,'LP 15'!B100,)","v":0},{"$f":"SUM('LP 1'!C100,'LP 2'!C100,'LP 3'!C100,'LP 4'!C100,'LP 5'!C100,'LP 6'!C100,'LP 7'!C100,'LP 8'!C100,'LP 9'!C100,'LP 10'!C100,'LP 11'!C100,'LP 12'!C100,'LP 13'!C100,'LP 14'!C100,'LP 15'!C100,)","v":0},{"$f":"SUM('LP 1'!D100,'LP 2'!D100,'LP 3'!D100,'LP 4'!D100,'LP 5'!D100,'LP 6'!D100,'LP 7'!D100,'LP 8'!D100,'LP 9'!D100,'LP 10'!D100,'LP 11'!D100,'LP 12'!D100,'LP 13'!D100,'LP 14'!D100,'LP 15'!D100,)","v":0},{"$f":"SUM('LP 1'!E100,'LP 2'!E100,'LP 3'!E100,'LP 4'!E100,'LP 5'!E100,'LP 6'!E100,'LP 7'!E100,'LP 8'!E100,'LP 9'!E100,'LP 10'!E100,'LP 11'!E100,'LP 12'!E100,'LP 13'!E100,'LP 14'!E100,'LP 15'!E100,)","v":0},null,null,null,{"$f":"'LP 1'!I100","v":0},{"$f":"'LP 2'!I100","v":0},{"$f":"'LP 3'!I100","v":0},{"$f":"'LP 4'!I100","v":0},{"$f":"'LP 5'!I100","v":0},{"$f":"'LP 6'!I100","v":0},{"$f":"'LP 7'!I100","v":0},{"$f":"'LP 8'!I100","v":0},{"$f":"'LP 9'!I100","v":0},{"$f":"'LP 10'!I100","v":0},{"$f":"'LP 11'!I100","v":0},{"$f":"'LP 12'!I100","v":0},{"$f":"'LP 13'!I100","v":0},{"$f":"'LP 14'!I100","v":0},{"$f":"'LP 15'!I100","v":0}]
["M8 Indikator 6",{"$f":"SUM('LP 1'!B101,'LP 2'!B101,'LP 3'!B101,'LP 4'!B101,'LP 5'!B101,'LP 6'!B101,'LP 7'!B101,'LP 8'!B101,'LP 9'!B101,'LP 10'!B101,'LP 11'!B101,'LP 12'!B101,'LP 13'!B101,'LP 14'!B101,'LP 15'!B101,)","v":0},{"$f":"SUM('LP 1'!C101,'LP 2'!C101,'LP 3'!C101,'LP 4'!C101,'LP 5'!C101,'LP 6'!C101,'LP 7'!C101,'LP 8'!C101,'LP 9'!C101,'LP 10'!C101,'LP 11'!C101,'LP 12'!C101,'LP 13'!C101,'LP 14'!C101,'LP 15'!C101,)","v":0},{"$f":"SUM('LP 1'!D101,'LP 2'!D101,'LP 3'!D101,'LP 4'!D101,'LP 5'!D101,'LP 6'!D101,'LP 7'!D101,'LP 8'!D101,'LP 9'!D101,'LP 10'!D101,'LP 11'!D101,'LP 12'!D101,'LP 13'!D101,'LP 14'!D101,'LP 15'!D101,)","v":0},{"$f":"SUM('LP 1'!E101,'LP 2'!E101,'LP 3'!E101,'LP 4'!E101,'LP 5'!E101,'LP 6'!E101,'LP 7'!E101,'LP 8'!E101,'LP 9'!E101,'LP 10'!E101,'LP 11'!E101,'LP 12'!E101,'LP 13'!E101,'LP 14'!E101,'LP 15'!E101,)","v":0},null,null,null,{"$f":"'LP 1'!I101","v":0},{"$f":"'LP 2'!I101","v":0},{"$f":"'LP 3'!I101","v":0},{"$f":"'LP 4'!I101","v":0},{"$f":"'LP 5'!I101","v":0},{"$f":"'LP 6'!I101","v":0},{"$f":"'LP 7'!I101","v":0},{"$f":"'LP 8'!I101","v":0},{"$f":"'LP 9'!I101","v":0},{"$f":"'LP 10'!I101","v":0},{"$f":"'LP 11'!I101","v":0},{"$f":"'LP 12'!I101","v":0},{"$f":"'LP 13'!I101","v":0},{"$f":"'LP 14'!I101","v":0},{"$f":"'LP 15'!I101","v":0}]
["M8 Indikator 7",{"$f":"SUM('LP 1'!B102,'LP 2'!B102,'LP 3'!B102,'LP 4'!B102,'LP 5'!B102,'LP 6'!B102,'LP 7'!B102,'LP 8'!B102,'LP 9'!B102,'LP 10'!B102,'LP 11'!B102,'LP 12'!B102,'LP 13'!B102,'LP 14'!B102,'LP 15'!B102,)","v":0},{"$f":"SUM('LP 1'!C102,'LP 2'!C102,'LP 3'!C102,'LP 4'!C102,'LP 5'!C102,'LP 6'!C102,'LP 7'!C102,'LP 8'!C102,'LP 9'!C102,'LP 10'!C102,'LP 11'!C102,'LP 12'!C102,'LP 13'!C102,'LP 14'!C102,'LP 15'!C102,)","v":0},{"$f":"SUM('LP 1'!D102,'LP 2'!D102,'LP 3'!D102,'LP 4'!D102,'LP 5'!D102,'LP 6'!D102,'LP 7'!D102,'LP 8'!D102,'LP 9'!D102,'LP 10'!D102,'LP 11'!D102,'LP 12'!D102,'LP 13'!D102,'LP 14'!D102,'LP 15'!D102,)","v":0},{"$f":"SUM('LP 1'!E102,'LP 2'!E102,'LP 3'!E102,'LP 4'!E102,'LP 5'!E102,'LP 6'!E102,'LP 7'!E102,'LP 8'!E102,'LP 9'!E102,'LP 10'!E102,'LP 11'!E102,'LP 12'!E102,'LP 13'!E102,'LP 14'!E102,'LP 15'!E102,)","v":0},null,null,null,{"$f":"'LP 1'!I102","v":0},{"$f":"'LP 2'!I102","v":0},{"$f":"'LP 3'!I102","v":0},{"$f":"'LP 4'!I102","v":0},{"$f":"'LP 5'!I102","v":0},{"$f":"'LP 6'!I102","v":0},{"$f":"'LP 7'!I102","v":0},{"$f":"'LP 8'!I102","v":0},{"$f":"'LP 9'!I102","v":0},{"$f":"'LP 10'!I102","v":0},{"$f":"'LP 11'!I102","v":0},{"$f":"'LP 12'!I102","v":0},{"$f":"'LP 13'!I102","v":0},{"$f":"'LP 14'!I102","v":0},{"$f":"'LP 15'!I102","v":0}]
["M8 Indikator 8",{"$f":"SUM('LP 1'!B103,'LP 2'!B103,'LP 3'!B103,'LP 4'!B103,'LP 5'!B103,'LP 6'!B103,'LP 7'!B103,'LP 8'!B103,'LP 9'!B103,'LP 10'!B103,'LP 11'!B103,'LP 12'!B103,'LP 13'!B103,'LP 14'!B103,'LP 15'!B103,)","v":0},{"$f":"SUM('LP 1'!C103,'LP 2'!C103,'LP 3'!C103,'LP 4'!C103,'LP 5'!C103,'LP 6'!C103,'LP 7'!C103,'LP 8'!C103,'LP 9'!C103,'LP 10'!C103,'LP 11'!C103,'LP 12'!C103,'LP 13'!C103,'LP 14'!C103,'LP 15'!C103,)","v":0},{"$f":"SUM('LP 1'!D103,'LP 2'!D103,'LP 3'!D103,'LP 4'!D103,'LP 5'!D103,'LP 6'!D103,'LP 7'!D103,'LP 8'!D103,'LP 9'!D103,'LP 10'!D103,'LP 11'!D103,'LP 12'!D103,'LP 13'!D103,'LP 14'!D103,'LP 15'!D103,)","v":0},{"$f":"SUM('LP 1'!E103,'LP 2'!E103,'LP 3'!E103,'LP 4'!E103,'LP 5'!E103,'LP 6'!E103,'LP 7'!E103,'LP 8'!E103,'LP 9'!E103,'LP 10'!E103,'LP 11'!E103,'LP 12'!E103,'LP 13'!E103,'LP 14'!E103,'LP 15'!E103,)","v":0},null,null,null,{"$f":"'LP 1'!I103","v":0},{"$f":"'LP 2'!I103","v":0},{"$f":"'LP 3'!I103","v":0},{"$f":"'LP 4'!I103","v":0},{"$f":"'LP 5'!I103","v":0},{"$f":"'LP 6'!I103","v":0},{"$f":"'LP 7'!I103","v":0},{"$f":"'LP 8'!I103","v":0},{"$f":"'LP 9'!I103","v":0},{"$f":"'LP 10'!I103","v":0},{"$f":"'LP 11'!I103","v":0},{"$f":"'LP 12'!I103","v":0},{"$f":"'LP 13'!I103","v":0},{"$f":"'LP 14'!I103","v":0},{"$f":"'LP 15'!I103","v":0}]
["M8 Indikator 9",{"$f":"SUM('LP 1'!B104,'LP 2'!B104,'LP 3'!B104,'LP 4'!B104,'LP 5'!B104,'LP 6'!B104,'LP 7'!B104,'LP 8'!B104,'LP 9'!B104,'LP 10'!B104,'LP 11'!B104,'LP 12'!B104,'LP 13'!B104,'LP 14'!B104,'LP 15'!B104,)","v":0},{"$f":"SUM('LP 1'!C104,'LP 2'!C104,'LP 3'!C104,'LP 4'!C104,'LP 5'!C104,'LP 6'!C104,'LP 7'!C104,'LP 8'!C104,'LP 9'!C104,'LP 10'!C104,'LP 11'!C104,'LP 12'!C104,'LP 13'!C104,'LP 14'!C104,'LP 15'!C104,)","v":0},{"$f":"SUM('LP 1'!D104,'LP 2'!D104,'LP 3'!D104,'LP 4'!D104,'LP 5'!D104,'LP 6'!D104,'LP 7'!D104,'LP 8'!D104,'LP 9'!D104,'LP 10'!D104,'LP 11'!D104,'LP 12'!D104,'LP 13'!D104,'LP 14'!D104,'LP 15'!D104,)","v":0},{"$f":"SUM('LP 1'!E104,'LP 2'!E104,'LP 3'!E104,'LP 4'!E104,'LP 5'!E104,'LP 6'!E104,'LP 7'!E104,'LP 8'!E104,'LP 9'!E104,'LP 10'!E104,'LP 11'!E104,'LP 12'!E104,'LP 13'!E104,'LP 14'!E104,'LP 15'!E104,)","v":0},null,null,null,{"$f":"'LP 1'!I104","v":0},{"$f":"'LP 2'!I104","v":0},{"$f":"'LP 3'!I104","v":0},{"$f":"'LP 4'!I104","v":0},{"$f":"'LP 5'!I104","v":0},{"$f":"'LP 6'!I104","v":0},{"$f":"'LP 7'!I104","v":0},{"$f":"'LP 8'!I104","v":0},{"$f":"'LP 9'!I104","v":0},{"$f":"'LP 10'!I104","v":0},{"$f":"'LP 11'!I104","v":0},{"$f":"'LP 12'!I104","v":0},{"$f":"'LP 13'!I104","v":0},{"$f":"'LP 14'!I104","v":0},{"$f":"'LP 15'!I104","v":0}]
["M8 Indikator 10",{"$f":"SUM('LP 1'!B105,'LP 2'!B105,'LP 3'!B105,'LP 4'!B105,'LP 5'!B105,'LP 6'!B105,'LP 7'!B105,'LP 8'!B105,'LP 9'!B105,'LP 10'!B105,'LP 11'!B105,'LP 12'!B105,'LP 13'!B105,'LP 14'!B105,'LP 15'!B105,)","v":0},{"$f":"SUM('LP 1'!C105,'LP 2'!C105,'LP 3'!C105,'LP 4'!C105,'LP 5'!C105,'LP 6'!C105,'LP 7'!C105,'LP 8'!C105,'LP 9'!C105,'LP 10'!C105,'LP 11'!C105,'LP 12'!C105,'LP 13'!C105,'LP 14'!C105,'LP 15'!C105,)","v":0},{"$f":"SUM('LP 1'!D105,'LP 2'!D105,'LP 3'!D105,'LP 4'!D105,'LP 5'!D105,'LP 6'!D105,'LP 7'!D105,'LP 8'!D105,'LP 9'!D105,'LP 10'!D105,'LP 11'!D105,'LP 12'!D105,'LP 13'!D105,'LP 14'!D105,'LP 15'!D105,)","v":0},{"$f":"SUM('LP 1'!E105,'LP 2'!E105,'LP 3'!E105,'LP 4'!E105,'LP 5'!E105,'LP 6'!E105,'LP 7'!E105,'LP 8'!E105,'LP 9'!E105,'LP 10'!E105,'LP 11'!E105,'LP 12'!E105,'LP 13'!E105,'LP 14'!E105,'LP 15'!E105,)","v":0},null,null,null,{"$f":"'LP 1'!I105","v":0},{"$f":"'LP 2'!I105","v":0},{"$f":"'LP 3'!I105","v":0},{"$f":"'LP 4'!I105","v":0},{"$f":"'LP 5'!I105","v":0},{"$f":"'LP 6'!I105","v":0},{"$f":"'LP 7'!I105","v":0},{"$f":"'LP 8'!I105","v":0},{"$f":"'LP 9'!I105","v":0},{"$f":"'LP 10'!I105","v":0},{"$f":"'LP 11'!I105","v":0},{"$f":"'LP 12'!I105","v":0},{"$f":"'LP 13'!I105","v":0},{"$f":"'LP 14'!I105","v":0},{"$f":"'LP 15'!I105","v":0}]
["Merkmal"," +++"," ++"," +"," -"," --"," ---"," ?","Auswertung"]
["Merkmal 9",{"$f":"SUM('LP 1'!B107,'LP 2'!B107,'LP 3'!B107,'LP 4'!B107,'LP 5'!B107,'LP 6'!B107,'LP 7'!B107,'LP 8'!B107,'LP 9'!B107,'LP 10'!B107,'LP 11'!B107,'LP 12'!B107,'LP 13'!B107,'LP 14'!B107,'LP 15'!B107,)","v":0},{"$f":"SUM('LP 1'!C107,'LP 2'!C107,'LP 3'!C107,'LP 4'!C107,'LP 5'!C107,'LP 6'!C107,'LP 7'!C107,'LP 8'!C107,'LP 9'!C107,'LP 10'!C107,'LP 11'!C107,'LP 12'!C107,'LP 13'!C107,'LP 14'!C107,'LP 15'!C107,)","v":0},{"$f":"SUM('LP 1'!D107,'LP 2'!D107,'LP 3'!D107,'LP 4'!D107,'LP 5'!D107,'LP 6'!D107,'LP 7'!D107,'LP 8'!D107,'LP 9'!D107,'LP 10'!D107,'LP 11'!D107,'LP 12'!D107,'LP 13'!D107,'LP 14'!D107,'LP 15'!D107,)","v":0},{"$f":"SUM('LP 1'!E107,'LP 2'!E107,'LP 3'!E107,'LP 4'!E107,'LP 5'!E107,'LP 6'!E107,'LP 7'!E107,'LP 8'!E107,'LP 9'!E107,'LP 10'!E107,'LP 11'!E107,'LP 12'!E107,'LP 13'!E107,'LP 14'!E107,'LP 15'!E107,)","v":0},{"$f":"SUM('LP 1'!F107,'LP 2'!F107,'LP 3'!F107,'LP 4'!F107,'LP 5'!F107,'LP 6'!F107,'LP 7'!F107,'LP 8'!F107,'LP 9'!F107,'LP 10'!F107,'LP 11'!F107,'LP 12'!F107,'LP 13'!F107,'LP 14'!F107,'LP 15'!F107,)","v":0},{"$f":"SUM('LP 1'!G107,'LP 2'!G107,'LP 3'!G107,'LP 4'!G107,'LP 5'!G107,'LP 6'!G107,'LP 7'!G107,'LP 8'!G107,'LP 9'!G107,'LP 10'!G107,'LP 11'!G107,'LP 12'!G107,'LP 13'!G107,'LP 14'!G107,'LP 15'!G107,)","v":0},{"$f":"SUM('LP 1'!H107,'LP 2'!H107,'LP 3'!H107,'LP 4'!H107,'LP 5'!H107,'LP 6'!H107,'LP 7'!H107,'LP 8'!H107,'LP 9'!H107,'LP 10'!H107,'LP 11'!H107,'LP 12'!H107,'LP 13'!H107,'LP 14'!H107,'LP 15'!H107,)","v":0}]
[null,null,null,null,null,null,null,null,{"$f":"'LP 1'!I107","v":0},{"$f":"'LP 2'!I107","v":0},{"$f":"'LP 3'!I107","v":0},{"$f":"'LP 4'!I107","v":0},{"$f":"'LP 5'!I107","v":0},{"$f":"'LP 6'!I107","v":0},{"$f":"'LP 7'!I107","v":0},{"$f":"'LP 8'!I107","v":0},{"$f":"'LP 9'!I107","v":0},{"$f":"'LP 10'!I107","v":0},{"$f":"'LP 11'!I107","v":0},{"$f":"'LP 12'!I107","v":0},{"$f":"'LP 13'!I107","v":0},{"$f":"'LP 14'!I107","v":0},{"$f":"'LP 15'!I107","v":0}]
["Indikatoren","ja","teils","nein","?",null,null,null,{"$f":"I40","v":"LP 1"},{"$f":"J40","v":"LP 2"},"LP 3","LP 4","LP 5","LP 6","LP 7","LP 8","LP 9","LP 10","LP 11","LP 12","LP 13","LP 14","LP 15"]
["M9 Indikator 1",{"$f":"SUM('LP 1'!B109,'LP 2'!B109,'LP 3'!B109,'LP 4'!B109,'LP 5'!B109,'LP 6'!B109,'LP 7'!B109,'LP 8'!B109,'LP 9'!B109,'LP 10'!B109,'LP 11'!B109,'LP 12'!B109,'LP 13'!B109,'LP 14'!B109,'LP 15'!B109,)","v":0},{"$f":"SUM('LP 1'!C109,'LP 2'!C109,'LP 3'!C109,'LP 4'!C109,'LP 5'!C109,'LP 6'!C109,'LP 7'!C109,'LP 8'!C109,'LP 9'!C109,'LP 10'!C109,'LP 11'!C109,'LP 12'!C109,'LP 13'!C109,'LP 14'!C109,'LP 15'!C109,)","v":0},{"$f":"SUM('LP 1'!D109,'LP 2'!D109,'LP 3'!D109,'LP 4'!D109,'LP 5'!D109,'LP 6'!D109,'LP 7'!D109,'LP 8'!D109,'LP 9'!D109,'LP 10'!D109,'LP 11'!D109,'LP 12'!D109,'LP 13'!D109,'LP 14'!D109,'LP 15'!D109,)","v":0},{"$f":"SUM('LP 1'!E109,'LP 2'!E109,'LP 3'!E109,'LP 4'!E109,'LP 5'!E109,'LP 6'!E109,'LP 7'!E109,'LP 8'!E109,'LP 9'!E109,'LP 10'!E109,'LP 11'!E109,'LP 12'!E109,'LP 13'!E109,'LP 14'!E109,'LP 15'!E109,)","v":0},null,null,null,{"$f":"'LP 1'!I109","v":0},{"$f":"'LP 2'!I109","v":0},{"$f":"'LP 3'!I109","v":0},{"$f":"'LP 4'!I109","v":0},{"$f":"'LP 5'!I109","v":0},{"$f":"'LP 6'!I109","v":0},{"$f":"'LP 7'!I109","v":0},{"$f":"'LP 8'!I109","v":0},{"$f":"'LP 9'!I109","v":0},{"$f":"'LP 10'!I109","v":0},{"$f":"'LP 11'!I109","v":0},{"$f":"'LP 12'!I109","v":0},{"$f":"'LP 13'!I109","v":0},{"$f":"'LP 14'!I109","v":0},{"$f":"'LP 15'!I109","v":0}]
["M9 Indikator 2",{"$f":"SUM('LP 1'!B110,'LP 2'!B110,'LP 3'!B110,'LP 4'!B110,'LP 5'!B110,'LP 6'!B110,'LP 7'!B110,'LP 8'!B110,'LP 9'!B110,'LP 10'!B110,'LP 11'!B110,'LP 12'!B110,'LP 13'!B110,'LP 14'!B110,'LP 15'!B110,)","v":0},{"$f":"SUM('LP 1'!C110,'LP 2'!C110,'LP 3'!C110,'LP 4'!C110,'LP 5'!C110,'LP 6'!C110,'LP 7'!C110,'LP 8'!C110,'LP 9'!C110,'LP 10'!C110,'LP 11'!C110,'LP 12'!C110,'LP 13'!C110,'LP 14'!C110,'LP 15'!C110,)","v":0},{"$f":"SUM('LP 1'!D110,'LP 2'!D110,'LP 3'!D110,'LP 4'!D110,'LP 5'!D110,'LP 6'!D110,'LP 7'!D110,'LP 8'!D110,'LP 9'!D110,'LP 10'!D110,'LP 11'!D110,'LP 12'!D110,'LP 13'!D110,'LP 14'!D110,'LP 15'!D110,)","v":0},{"$f":"SUM('LP 1'!E110,'LP 2'!E110,'LP 3'!E110,'LP 4'!E110,'LP 5'!E110,'LP 6'!E110,'LP 7'!E110,'LP 8'!E110,'LP 9'!E110,'LP 10'!E110,'LP 11'!E110,'LP 12'!E110,'LP 13'!E110,'LP 14'!E110,'LP 15'!E110,)","v":0},null,null,null,{"$f":"'LP 1'!I110","v":0},{"$f":"'LP 2'!I110","v":0},{"$f":"'LP 3'!I110","v":0},{"$f":"'LP 4'!I110","v":0},{"$f":"'LP 5'!I110","v":0},{"$f":"'LP 6'!I110","v":0},{"$f":"'LP 7'!I110","v":0},{"$f":"'LP 8'!I110","v":0},{"$f":"'LP 9'!I110","v":0},{"$f":"'LP 10'!I110","v":0},{"$f":"'LP 11'!I110","v":0},{"$f":"'LP 12'!I110","v":0},{"$f":"'LP 13'!I110","v":0},{"$f":"'LP 14'!I110","v":0},{"$f":"'LP 15'!I110","v":0}]
["M9 Indikator 3",{"$f":"SUM('LP 1'!B111,'LP 2'!B111,'LP 3'!B111,'LP 4'!B111,'LP 5'!B111,'LP 6'!B111,'LP 7'!B111,'LP 8'!B111,'LP 9'!B111,'LP 10'!B111,'LP 11'!B111,'LP 12'!B111,'LP 13'!B111,'LP 14'!B111,'LP 15'!B111,)","v":0},{"$f":"SUM('LP 1'!C111,'LP 2'!C111,'LP 3'!C111,'LP 4'!C111,'LP 5'!C111,'LP 6'!C111,'LP 7'!C111,'LP 8'!C111,'LP 9'!C111,'LP 10'!C111,'LP 11'!C111,'LP 12'!C111,'LP 13'!C111,'LP 14'!C111,'LP 15'!C111,)","v":0},{"$f":"SUM('LP 1'!D111,'LP 2'!D111,'LP 3'!D111,'LP 4'!D111,'LP 5'!D111,'LP 6'!D111,'LP 7'!D111,'LP 8'!D111,'LP 9'!D111,'LP 10'!D111,'LP 11'!D111,'LP 12'!D111,'LP 13'!D111,'LP 14'!D111,'LP 15'!D111,)","v":0},{"$f":"SUM('LP 1'!E111,'LP 2'!E111,'LP 3'!E111,'LP 4'!E111,'LP 5'!E111,'LP 6'!E111,'LP 7'!E111,'LP 8'!E111,'LP 9'!E111,'LP 10'!E111,'LP 11'!E111,'LP 12'!E111,'LP 13'!E111,'LP 14'!E111,'LP 15'!E111,)","v":0},null,null,null,{"$f":"'LP 1'!I111","v":0},{"$f":"'LP 2'!I111","v":0},{"$f":"'LP 3'!I111","v":0},{"$f":"'LP 4'!I111","v":0},{"$f":"'LP 5'!I111","v":0},{"$f":"'LP 6'!I111","v":0},{"$f":"'LP 7'!I111","v":0},{"$f":"'LP 8'!I111","v":0},{"$f":"'LP 9'!I111","v":0},{"$f":"'LP 10'!I111","v":0},{"$f":"'LP 11'!I111","v":0},{"$f":"'LP 12'!I111","v":0},{"$f":"'LP 13'!I111","v":0},{"$f":"'LP 14'!I111","v":0},{"$f":"'LP 15'!I111","v":0}]
["M9 Indikator 4",{"$f":"SUM('LP 1'!B112,'LP 2'!B112,'LP 3'!B112,'LP 4'!B112,'LP 5'!B112,'LP 6'!B112,'LP 7'!B112,'LP 8'!B112,'LP 9'!B112,'LP 10'!B112,'LP 11'!B112,'LP 12'!B112,'LP 13'!B112,'LP 14'!B112,'LP 15'!B112,)","v":0},{"$f":"SUM('LP 1'!C112,'LP 2'!C112,'LP 3'!C112,'LP 4'!C112,'LP 5'!C112,'LP 6'!C112,'LP 7'!C112,'LP 8'!C112,'LP 9'!C112,'LP 10'!C112,'LP 11'!C112,'LP 12'!C112,'LP 13'!C112,'LP 14'!C112,'LP 15'!C112,)","v":0},{"$f":"SUM('LP 1'!D112,'LP 2'!D112,'LP 3'!D112,'LP 4'!D112,'LP 5'!D112,'LP 6'!D112,'LP 7'!D112,'LP 8'!D112,'LP 9'!D112,'LP 10'!D112,'LP 11'!D112,'LP 12'!D112,'LP 13'!D112,'LP 14'!D112,'LP 15'!D112,)","v":0},{"$f":"SUM('LP 1'!E112,'LP 2'!E112,'LP 3'!E112,'LP 4'!E112,'LP 5'!E112,'LP 6'!E112,'LP 7'!E112,'LP 8'!E112,'LP 9'!E112,'LP 10'!E112,'LP 11'!E112,'LP 12'!E112,'LP 13'!E112,'LP 14'!E112,'LP 15'!E112,)","v":0},null,null,null,{"$f":"'LP 1'!I112","v":0},{"$f":"'LP 2'!I112","v":0},{"$f":"'LP 3'!I112","v":0},{"$f":"'LP 4'!I112","v":0},{"$f":"'LP 5'!I112","v":0},{"$f":"'LP 6'!I112","v":0},{"$f":"'LP 7'!I112","v":0},{"$f":"'LP 8'!I112","v":0},{"$f":"'LP 9'!I112","v":0},{"$f":"'LP 10'!I112","v":0},{"$f":"'LP 11'!I112","v":0},{"$f":"'LP 12'!I112","v":0},{"$f":"'LP 13'!I112","v":0},{"$f":"'LP 14'!I112","v":0},{"$f":"'LP 15'!I112","v":0}]
["M9 Indikator 5",{"$f":"SUM('LP 1'!B113,'LP 2'!B113,'LP 3'!B113,'LP 4'!B113,'LP 5'!B113,'LP 6'!B113,'LP 7'!B113,'LP 8'!B113,'LP 9'!B113,'LP 10'!B113,'LP 11'!B113,'LP 12'!B113,'LP 13'!B113,'LP 14'!B113,'LP 15'!B113,)","v":0},{"$f":"SUM('LP 1'!C113,'LP 2'!C113,'LP 3'!C113,'LP 4'!C113,'LP 5'!C113,'LP 6'!C113,'LP 7'!C113,'LP 8'!C113,'LP 9'!C113,'LP 10'!C113,'LP 11'!C113,'LP 12'!C113,'LP 13'!C113,'LP 14'!C113,'LP 15'!C113,)","v":0},{"$f":"SUM('LP 1'!D113,'LP 2'!D113,'LP 3'!D113,'LP 4'!D113,'LP 5'!D113,'LP 6'!D113,'LP 7'!D113,'LP 8'!D113,'LP 9'!D113,'LP 10'!D113,'LP 11'!D113,'LP 12'!D113,'LP 13'!D113,'LP 14'!D113,'LP 15'!D113,)","v":0},{"$f":"SUM('LP 1'!E113,'LP 2'!E113,'LP 3'!E113,'LP 4'!E113,'LP 5'!E113,'LP 6'!E113,'LP 7'!E113,'LP 8'!E113,'LP 9'!E113,'LP 10'!E113,'LP 11'!E113,'LP 12'!E113,'LP 13'!E113,'LP 14'!E113,'LP 15'!E113,)","v":0},null,null,null,{"$f":"'LP 1'!I113","v":0},{"$f":"'LP 2'!I113","v":0},{"$f":"'LP 3'!I113","v":0},{"$f":"'LP 4'!I113","v":0},{"$f":"'LP 5'!I113","v":0},{"$f":"'LP 6'!I113","v":0},{"$f":"'LP 7'!I113","v":0},{"$f":"'LP 8'!I113","v":0},{"$f":"'LP 9'!I113","v":0},{"$f":"'LP 10'!I113","v":0},{"$f":"'LP 11'!I113","v":0},{"$f":"'LP 12'!I113","v":0},{"$f":"'LP 13'!I113","v":0},{"$f":"'LP 14'!I113","v":0},{"$f":"'LP 15'!I113","v":0}]
["M9 Indikator 6",{"$f":"SUM('LP 1'!B114,'LP 2'!B114,'LP 3'!B114,'LP 4'!B114,'LP 5'!B114,'LP 6'!B114,'LP 7'!B114,'LP 8'!B114,'LP 9'!B114,'LP 10'!B114,'LP 11'!B114,'LP 12'!B114,'LP 13'!B114,'LP 14'!B114,'LP 15'!B114,)","v":0},{"$f":"SUM('LP 1'!C114,'LP 2'!C114,'LP 3'!C114,'LP 4'!C114,'LP 5'!C114,'LP 6'!C114,'LP 7'!C114,'LP 8'!C114,'LP 9'!C114,'LP 10'!C114,'LP 11'!C114,'LP 12'!C114,'LP 13'!C114,'LP 14'!C114,'LP 15'!C114,)","v":0},{"$f":"SUM('LP 1'!D114,'LP 2'!D114,'LP 3'!D114,'LP 4'!D114,'LP 5'!D114,'LP 6'!D114,'LP 7'!D114,'LP 8'!D114,'LP 9'!D114,'LP 10'!D114,'LP 11'!D114,'LP 12'!D114,'LP 13'!D114,'LP 14'!D114,'LP 15'!D114,)","v":0},{"$f":"SUM('LP 1'!E114,'LP 2'!E114,'LP 3'!E114,'LP 4'!E114,'LP 5'!E114,'LP 6'!E114,'LP 7'!E114,'LP 8'!E114,'LP 9'!E114,'LP 10'!E114,'LP 11'!E114,'LP 12'!E114,'LP 13'!E114,'LP 14'!E114,'LP 15'!E114,)","v":0},null,null,null,{"$f":"'LP 1'!I114","v":0},{"$f":"'LP 2'!I114","v":0},{"$f":"'LP 3'!I114","v":0},{"$f":"'LP 4'!I114","v":0},{"$f":"'LP 5'!I114","v":0},{"$f":"'LP 6'!I114","v":0},{"$f":"'LP 7'!I114","v":0},{"$f":"'LP 8'!I114","v":0},{"$f":"'LP 9'!I114","v":0},{"$f":"'LP 10'!I114","v":0},{"$f":"'LP 11'!I114","v":0},{"$f":"'LP 12'!I114","v":0},{"$f":"'LP 13'!I114","v":0},{"$f":"'LP 14'!I114","v":0},{"$f":"'LP 15'!I114","v":0}]
["M9 Indikator 7",{"$f":"SUM('LP 1'!B115,'LP 2'!B115,'LP 3'!B115,'LP 4'!B115,'LP 5'!B115,'LP 6'!B115,'LP 7'!B115,'LP 8'!B115,'LP 9'!B115,'LP 10'!B115,'LP 11'!B115,'LP 12'!B115,'LP 13'!B115,'LP 14'!B115,'LP 15'!B115,)","v":0},{"$f":"SUM('LP 1'!C115,'LP 2'!C115,'LP 3'!C115,'LP 4'!C115,'LP 5'!C115,'LP 6'!C115,'LP 7'!C115,'LP 8'!C115,'LP 9'!C115,'LP 10'!C115,'LP 11'!C115,'LP 12'!C115,'LP 13'!C115,'LP 14'!C115,'LP 15'!C115,)","v":0},{"$f":"SUM('LP 1'!D115,'LP 2'!D115,'LP 3'!D115,'LP 4'!D115,'LP 5'!D115,'LP 6'!D115,'LP 7'!D115,'LP 8'!D115,'LP 9'!D115,'LP 10'!D115,'LP 11'!D115,'LP 12'!D115,'LP 13'!D115,'LP 14'!D115,'LP 15'!D115,)","v":0},{"$f":"SUM('LP 1'!E115,'LP 2'!E115,'LP 3'!E115,'LP 4'!E115,'LP 5'!E115,'LP 6'!E115,'LP 7'!E115,'LP 8'!E115,'LP 9'!E115,'LP 10'!E115,'LP 11'!E115,'LP 12'!E115,'LP 13'!E115,'LP 14'!E115,'LP 15'!E115,)","v":0},null,null,null,{"$f":"'LP 1'!I115","v":0},{"$f":"'LP 2'!I115","v":0},{"$f":"'LP 3'!I115","v":0},{"$f":"'LP 4'!I115","v":0},{"$f":"'LP 5'!I115","v":0},{"$f":"'LP 6'!I115","v":0},{"$f":"'LP 7'!I115","v":0},{"$f":"'LP 8'!I115","v":0},{"$f":"'LP 9'!I115","v":0},{"$f":"'LP 10'!I115","v":0},{"$f":"'LP 11'!I115","v":0},{"$f":"'LP 12'!I115","v":0},{"$f":"'LP 13'!I115","v":0},{"$f":"'LP 14'!I115","v":0},{"$f":"'LP 15'!I115","v":0}]
["M9 Indikator 8",{"$f":"SUM('LP 1'!B116,'LP 2'!B116,'LP 3'!B116,'LP 4'!B116,'LP 5'!B116,'LP 6'!B116,'LP 7'!B116,'LP 8'!B116,'LP 9'!B116,'LP 10'!B116,'LP 11'!B116,'LP 12'!B116,'LP 13'!B116,'LP 14'!B116,'LP 15'!B116,)","v":0},{"$f":"SUM('LP 1'!C116,'LP 2'!C116,'LP 3'!C116,'LP 4'!C116,'LP 5'!C116,'LP 6'!C116,'LP 7'!C116,'LP 8'!C116,'LP 9'!C116,'LP 10'!C116,'LP 11'!C116,'LP 12'!C116,'LP 13'!C116,'LP 14'!C116,'LP 15'!C116,)","v":0},{"$f":"SUM('LP 1'!D116,'LP 2'!D116,'LP 3'!D116,'LP 4'!D116,'LP 5'!D116,'LP 6'!D116,'LP 7'!D116,'LP 8'!D116,'LP 9'!D116,'LP 10'!D116,'LP 11'!D116,'LP 12'!D116,'LP 13'!D116,'LP 14'!D116,'LP 15'!D116,)","v":0},{"$f":"SUM('LP 1'!E116,'LP 2'!E116,'LP 3'!E116,'LP 4'!E116,'LP 5'!E116,'LP 6'!E116,'LP 7'!E116,'LP 8'!E116,'LP 9'!E116,'LP 10'!E116,'LP 11'!E116,'LP 12'!E116,'LP 13'!E116,'LP 14'!E116,'LP 15'!E116,)","v":0},null,null,null,{"$f":"'LP 1'!I116","v":0},{"$f":"'LP 2'!I116","v":0},{"$f":"'LP 3'!I116","v":0},{"$f":"'LP 4'!I116","v":0},{"$f":"'LP 5'!I116","v":0},{"$f":"'LP 6'!I116","v":0},{"$f":"'LP 7'!I116","v":0},{"$f":"'LP 8'!I116","v":0},{"$f":"'LP 9'!I116","v":0},{"$f":"'LP 10'!I116","v":0},{"$f":"'LP 11'!I116","v":0},{"$f":"'LP 12'!I116","v":0},{"$f":"'LP 13'!I116","v":0},{"$f":"'LP 14'!I116","v":0},{"$f":"'LP 15'!I116","v":0}]
["M9 Indikator 9",{"$f":"SUM('LP 1'!B117,'LP 2'!B117,'LP 3'!B117,'LP 4'!B117,'LP 5'!B117,'LP 6'!B117,'LP 7'!B117,'LP 8'!B117,'LP 9'!B117,'LP 10'!B117,'LP 11'!B117,'LP 12'!B117,'LP 13'!B117,'LP 14'!B117,'LP 15'!B117,)","v":0},{"$f":"SUM('LP 1'!C117,'LP 2'!C117,'LP 3'!C117,'LP 4'!C117,'LP 5'!C117,'LP 6'!C117,'LP 7'!C117,'LP 8'!C117,'LP 9'!C117,'LP 10'!C117,'LP 11'!C117,'LP 12'!C117,'LP 13'!C117,'LP 14'!C117,'LP 15'!C117,)","v":0},{"$f":"SUM('LP 1'!D117,'LP 2'!D117,'LP 3'!D117,'LP 4'!D117,'LP 5'!D117,'LP 6'!D117,'LP 7'!D117,'LP 8'!D117,'LP 9'!D117,'LP 10'!D117,'LP 11'!D117,'LP 12'!D117,'LP 13'!D117,'LP 14'!D117,'LP 15'!D117,)","v":0},{"$f":"SUM('LP 1'!E117,'LP 2'!E117,'LP 3'!E117,'LP 4'!E117,'LP 5'!E117,'LP 6'!E117,'LP 7'!E117,'LP 8'!E117,'LP 9'!E117,'LP 10'!E117,'LP 11'!E117,'LP 12'!E117,'LP 13'!E117,'LP 14'!E117,'LP 15'!E117,)","v":0},null,null,null,{"$f":"'LP 1'!I117","v":0},{"$f":"'LP 2'!I117","v":0},{"$f":"'LP 3'!I117","v":0},{"$f":"'LP 4'!I117","v":0},{"$f":"'LP 5'!I117","v":0},{"$f":"'LP 6'!I117","v":0},{"$f":"'LP 7'!I117","v":0},{"$f":"'LP 8'!I117","v":0},{"$f":"'LP 9'!I117","v":0},{"$f":"'LP 10'!I117","v":0},{"$f":"'LP 11'!I117","v":0},{"$f":"'LP 12'!I117","v":0},{"$f":"'LP 13'!I117","v":0},{"$f":"'LP 14'!I117","v":0},{"$f":"'LP 15'!I117","v":0}]
["M9 Indikator 10",{"$f":"SUM('LP 1'!B118,'LP 2'!B118,'LP 3'!B118,'LP 4'!B118,'LP 5'!B118,'LP 6'!B118,'LP 7'!B118,'LP 8'!B118,'LP 9'!B118,'LP 10'!B118,'LP 11'!B118,'LP 12'!B118,'LP 13'!B118,'LP 14'!B118,'LP 15'!B118,)","v":0},{"$f":"SUM('LP 1'!C118,'LP 2'!C118,'LP 3'!C118,'LP 4'!C118,'LP 5'!C118,'LP 6'!C118,'LP 7'!C118,'LP 8'!C118,'LP 9'!C118,'LP 10'!C118,'LP 11'!C118,'LP 12'!C118,'LP 13'!C118,'LP 14'!C118,'LP 15'!C118,)","v":0},{"$f":"SUM('LP 1'!D118,'LP 2'!D118,'LP 3'!D118,'LP 4'!D118,'LP 5'!D118,'LP 6'!D118,'LP 7'!D118,'LP 8'!D118,'LP 9'!D118,'LP 10'!D118,'LP 11'!D118,'LP 12'!D118,'LP 13'!D118,'LP 14'!D118,'LP 15'!D118,)","v":0},{"$f":"SUM('LP 1'!E118,'LP 2'!E118,'LP 3'!E118,'LP 4'!E118,'LP 5'!E118,'LP 6'!E118,'LP 7'!E118,'LP 8'!E118,'LP 9'!E118,'LP 10'!E118,'LP 11'!E118,'LP 12'!E118,'LP 13'!E118,'LP 14'!E118,'LP 15'!E118,)","v":0},null,null,null,{"$f":"'LP 1'!I118","v":0},{"$f":"'LP 2'!I118","v":0},{"$f":"'LP 3'!I118","v":0},{"$f":"'LP 4'!I118","v":0},{"$f":"'LP 5'!I118","v":0},{"$f":"'LP 6'!I118","v":0},{"$f":"'LP 7'!I118","v":0},{"$f":"'LP 8'!I118","v":0},{"$f":"'LP 9'!I118","v":0},{"$f":"'LP 10'!I118","v":0},{"$f":"'LP 11'!I118","v":0},{"$f":"'LP 12'!I118","v":0},{"$f":"'LP 13'!I118","v":0},{"$f":"'LP 14'!I118","v":0},{"$f":"'LP 15'!I118","v":0}]
["Merkmal"," +++"," ++"," +"," -"," --"," ---"," ?","Auswertung"]
["Merkmal 10",{"$f":"SUM('LP 1'!B120,'LP 2'!B120,'LP 3'!B120,'LP 4'!B120,'LP 5'!B120,'LP 6'!B120,'LP 7'!B120,'LP 8'!B120,'LP 9'!B120,'LP 10'!B120,'LP 11'!B120,'LP 12'!B120,'LP 13'!B120,'LP 14'!B120,'LP 15'!B120,)","v":0},{"$f":"SUM('LP 1'!C120,'LP 2'!C120,'LP 3'!C120,'LP 4'!C120,'LP 5'!C120,'LP 6'!C120,'LP 7'!C120,'LP 8'!C120,'LP 9'!C120,'LP 10'!C120,'LP 11'!C120,'LP 12'!C120,'LP 13'!C120,'LP 14'!C120,'LP 15'!C120,)","v":0},{"$f":"SUM('LP 1'!D120,'LP 2'!D120,'LP 3'!D120,'LP 4'!D120,'LP 5'!D120,'LP 6'!D120,'LP 7'!D120,'LP 8'!D120,'LP 9'!D120,'LP 10'!D120,'LP 11'!D120,'LP 12'!D120,'LP 13'!D120,'LP 14'!D120,'LP 15'!D120,)","v":0},{"$f":"SUM('LP 1'!E120,'LP 2'!E120,'LP 3'!E120,'LP 4'!E120,'LP 5'!E120,'LP 6'!E120,'LP 7'!E120,'LP 8'!E120,'LP 9'!E120,'LP 10'!E120,'LP 11'!E120,'LP 12'!E120,'LP 13'!E120,'LP 14'!E120,'LP 15'!E120,)","v":0},{"$f":"SUM('LP 1'!F120,'LP 2'!F120,'LP 3'!F120,'LP 4'!F120,'LP 5'!F120,'LP 6'!F120,'LP 7'!F120,'LP 8'!F120,'LP 9'!F120,'LP 10'!F120,'LP 11'!F120,'LP 12'!F120,'LP 13'!F120,'LP 14'!F120,'LP 15'!F120,)","v":0},{"$f":"SUM('LP 1'!G120,'LP 2'!G120,'LP 3'!G120,'LP 4'!G120,'LP 5'!G120,'LP 6'!G120,'LP 7'!G120,'LP 8'!G120,'LP 9'!G120,'LP 10'!G120,'LP 11'!G120,'LP 12'!G120,'LP 13'!G120,'LP 14'!G120,'LP 15'!G120,)","v":0},{"$f":"SUM('LP 1'!H120,'LP 2'!H120,'LP 3'!H120,'LP 4'!H120,'LP 5'!H120,'LP 6'!H120,'LP 7'!H120,'LP 8'!H120,'LP 9'!H120,'LP 10'!H120,'LP 11'!H120,'LP 12'!H120,'LP 13'!H120,'LP 14'!H120,'LP 15'!H120,)","v":0}]
[null,null,null,null,null,null,null,null,{"$f":"'LP 1'!I120","v":0},{"$f":"'LP 2'!I120","v":0},{"$f":"'LP 3'!I120","v":0},{"$f":"'LP 4'!I120","v":0},{"$f":"'LP 5'!I120","v":0},{"$f":"'LP 6'!I120","v":0},{"$f":"'LP 7'!I120","v":0},{"$f":"'LP 8'!I120","v":0},{"$f":"'LP 9'!I120","v":0},{"$f":"'LP 10'!I120","v":0},{"$f":"'LP 11'!I120","v":0},{"$f":"'LP 12'!I120","v":0},{"$f":"'LP 13'!I120","v":0},{"$f":"'LP 14'!I120","v":0},{"$f":"'LP 15'!I120","v":0}]
["Indikatoren","ja","teils","nein","?",null,null,null,{"$f":"I40","v":"LP 1"},{"$f":"J40","v":"LP 2"},"LP 3","LP 4","LP 5","LP 6","LP 7","LP 8","LP 9","LP 10","LP 11","LP 12","LP 13","LP 14","LP 15"]
["M10 Indikator 1",{"$f":"SUM('LP 1'!B122,'LP 2'!B122,'LP 3'!B122,'LP 4'!B122,'LP 5'!B122,'LP 6'!B122,'LP 7'!B122,'LP 8'!B122,'LP 9'!B122,'LP 10'!B122,'LP 11'!B122,'LP 12'!B122,'LP 13'!B122,'LP 14'!B122,'LP 15'!B122,)","v":0},{"$f":"SUM('LP 1'!C122,'LP 2'!C122,'LP 3'!C122,'LP 4'!C122,'LP 5'!C122,'LP 6'!C122,'LP 7'!C122,'LP 8'!C122,'LP 9'!C122,'LP 10'!C122,'LP 11'!C122,'LP 12'!C122,'LP 13'!C122,'LP 14'!C122,'LP 15'!C122,)","v":0},{"$f":"SUM('LP 1'!D122,'LP 2'!D122,'LP 3'!D122,'LP 4'!D122,'LP 5'!D122,'LP 6'!D122,'LP 7'!D122,'LP 8'!D122,'LP 9'!D122,'LP 10'!D122,'LP 11'!D122,'LP 12'!D122,'LP 13'!D122,'LP 14'!D122,'LP 15'!D122,)","v":0},{"$f":"SUM('LP 1'!E122,'LP 2'!E122,'LP 3'!E122,'LP 4'!E122,'LP 5'!E122,'LP 6'!E122,'LP 7'!E122,'LP 8'!E122,'LP 9'!E122,'LP 10'!E122,'LP 11'!E122,'LP 12'!E122,'LP 13'!E122,'LP 14'!E122,'LP 15'!E122,)","v":0},null,null,null,{"$f":"'LP 1'!I122","v":0},{"$f":"'LP 2'!I122","v":0},{"$f":"'LP 3'!I122","v":0},{"$f":"'LP 4'!I122","v":0},{"$f":"'LP 5'!I122","v":0},{"$f":"'LP 6'!I122","v":0},{"$f":"'LP 7'!I122","v":0},{"$f":"'LP 8'!I122","v":0},{"$f":"'LP 9'!I122","v":0},{"$f":"'LP 10'!I122","v":0},{"$f":"'LP 11'!I122","v":0},{"$f":"'LP 12'!I122","v":0},{"$f":"'LP 13'!I122","v":0},{"$f":"'LP 14'!I122","v":0},{"$f":"'LP 15'!I122","v":0}]
["M10 Indikator 2",{"$f":"SUM('LP 1'!B123,'LP 2'!B123,'LP 3'!B123,'LP 4'!B123,'LP 5'!B123,'LP 6'!B123,'LP 7'!B123,'LP 8'!B123,'LP 9'!B123,'LP 10'!B123,'LP 11'!B123,'LP 12'!B123,'LP 13'!B123,'LP 14'!B123,'LP 15'!B123,)","v":0},{"$f":"SUM('LP 1'!C123,'LP 2'!C123,'LP 3'!C123,'LP 4'!C123,'LP 5'!C123,'LP 6'!C123,'LP 7'!C123,'LP 8'!C123,'LP 9'!C123,'LP 10'!C123,'LP 11'!C123,'LP 12'!C123,'LP 13'!C123,'LP 14'!C123,'LP 15'!C123,)","v":0},{"$f":"SUM('LP 1'!D123,'LP 2'!D123,'LP 3'!D123,'LP 4'!D123,'LP 5'!D123,'LP 6'!D123,'LP 7'!D123,'LP 8'!D123,'LP 9'!D123,'LP 10'!D123,'LP 11'!D123,'LP 12'!D123,'LP 13'!D123,'LP 14'!D123,'LP 15'!D123,)","v":0},{"$f":"SUM('LP 1'!E123,'LP 2'!E123,'LP 3'!E123,'LP 4'!E123,'LP 5'!E123,'LP 6'!E123,'LP 7'!E123,'LP 8'!E123,'LP 9'!E123,'LP 10'!E123,'LP 11'!E123,'LP 12'!E123,'LP 13'!E123,'LP 14'!E123,'LP 15'!E123,)","v":0},null,null,null,{"$f":"'LP 1'!I123","v":0},{"$f":"'LP 2'!I123","v":0},{"$f":"'LP 3'!I123","v":0},{"$f":"'LP 4'!I123","v":0},{"$f":"'LP 5'!I123","v":0},{"$f":"'LP 6'!I123","v":0},{"$f":"'LP 7'!I123","v":0},{"$f":"'LP 8'!I123","v":0},{"$f":"'LP 9'!I123","v":0},{"$f":"'LP 10'!I123","v":0},{"$f":"'LP 11'!I123","v":0},{"$f":"'LP 12'!I123","v":0},{"$f":"'LP 13'!I123","v":0},{"$f":"'LP 14'!I123","v":0},{"$f":"'LP 15'!I123","v":0}]
["M10 Indikator 3",{"$f":"SUM('LP 1'!B124,'LP 2'!B124,'LP 3'!B124,'LP 4'!B124,'LP 5'!B124,'LP 6'!B124,'LP 7'!B124,'LP 8'!B124,'LP 9'!B124,'LP 10'!B124,'LP 11'!B124,'LP 12'!B124,'LP 13'!B124,'LP 14'!B124,'LP 15'!B124,)","v":0},{"$f":"SUM('LP 1'!C124,'LP 2'!C124,'LP 3'!C124,'LP 4'!C124,'LP 5'!C124,'LP 6'!C124,'LP 7'!C124,'LP 8'!C124,'LP 9'!C124,'LP 10'!C124,'LP 11'!C124,'LP 12'!C124,'LP 13'!C124,'LP 14'!C124,'LP 15'!C124,)","v":0},{"$f":"SUM('LP 1'!D124,'LP 2'!D124,'LP 3'!D124,'LP 4'!D124,'LP 5'!D124,'LP 6'!D124,'LP 7'!D124,'LP 8'!D124,'LP 9'!D124,'LP 10'!D124,'LP 11'!D124,'LP 12'!D124,'LP 13'!D124,'LP 14'!D124,'LP 15'!D124,)","v":0},{"$f":"SUM('LP 1'!E124,'LP 2'!E124,'LP 3'!E124,'LP 4'!E124,'LP 5'!E124,'LP 6'!E124,'LP 7'!E124,'LP 8'!E124,'LP 9'!E124,'LP 10'!E124,'LP 11'!E124,'LP 12'!E124,'LP 13'!E124,'LP 14'!E124,'LP 15'!E124,)","v":0},null,null,null,{"$f":"'LP 1'!I124","v":0},{"$f":"'LP 2'!I124","v":0},{"$f":"'LP 3'!I124","v":0},{"$f":"'LP 4'!I124","v":0},{"$f":"'LP 5'!I124","v":0},{"$f":"'LP 6'!I124","v":0},{"$f":"'LP 7'!I124","v":0},{"$f":"'LP 8'!I124","v":0},{"$f":"'LP 9'!I124","v":0},{"$f":"'LP 10'!I124","v":0},{"$f":"'LP 11'!I124","v":0},{"$f":"'LP 12'!I124","v":0},{"$f":"'LP 13'!I124","v":0},{"$f":"'LP 14'!I124","v":0},{"$f":"'LP 15'!I124","v":0}]
["M10 Indikator 4",{"$f":"SUM('LP 1'!B125,'LP 2'!B125,'LP 3'!B125,'LP 4'!B125,'LP 5'!B125,'LP 6'!B125,'LP 7'!B125,'LP 8'!B125,'LP 9'!B125,'LP 10'!B125,'LP 11'!B125,'LP 12'!B125,'LP 13'!B125,'LP 14'!B125,'LP 15'!B125,)","v":0},{"$f":"SUM('LP 1'!C125,'LP 2'!C125,'LP 3'!C125,'LP 4'!C125,'LP 5'!C125,'LP 6'!C125,'LP 7'!C125,'LP 8'!C125,'LP 9'!C125,'LP 10'!C125,'LP 11'!C125,'LP 12'!C125,'LP 13'!C125,'LP 14'!C125,'LP 15'!C125,)","v":0},{"$f":"SUM('LP 1'!D125,'LP 2'!D125,'LP 3'!D125,'LP 4'!D125,'LP 5'!D125,'LP 6'!D125,'LP 7'!D125,'LP 8'!D125,'LP 9'!D125,'LP 10'!D125,'LP 11'!D125,'LP 12'!D125,'LP 13'!D125,'LP 14'!D125,'LP 15'!D125,)","v":0},{"$f":"SUM('LP 1'!E125,'LP 2'!E125,'LP 3'!E125,'LP 4'!E125,'LP 5'!E125,'LP 6'!E125,'LP 7'!E125,'LP 8'!E125,'LP 9'!E125,'LP 10'!E125,'LP 11'!E125,'LP 12'!E125,'LP 13'!E125,'LP 14'!E125,'LP 15'!E125,)","v":0},null,null,null,{"$f":"'LP 1'!I125","v":0},{"$f":"'LP 2'!I125","v":0},{"$f":"'LP 3'!I125","v":0},{"$f":"'LP 4'!I125","v":0},{"$f":"'LP 5'!I125","v":0},{"$f":"'LP 6'!I125","v":0},{"$f":"'LP 7'!I125","v":0},{"$f":"'LP 8'!I125","v":0},{"$f":"'LP 9'!I125","v":0},{"$f":"'LP 10'!I125","v":0},{"$f":"'LP 11'!I125","v":0},{"$f":"'LP 12'!I125","v":0},{"$f":"'LP 13'!I125","v":0},{"$f":"'LP 14'!I125","v":0},{"$f":"'LP 15'!I125","v":0}]
["M10 Indikator 5",{"$f":"SUM('LP 1'!B126,'LP 2'!B126,'LP 3'!B126,'LP 4'!B126,'LP 5'!B126,'LP 6'!B126,'LP 7'!B126,'LP 8'!B126,'LP 9'!B126,'LP 10'!B126,'LP 11'!B126,'LP 12'!B126,'LP 13'!B126,'LP 14'!B126,'LP 15'!B126,)","v":0},{"$f":"SUM('LP 1'!C126,'LP 2'!C126,'LP 3'!C126,'LP 4'!C126,'LP 5'!C126,'LP 6'!C126,'LP 7'!C126,'LP 8'!C126,'LP 9'!C126,'LP 10'!C126,'LP 11'!C126,'LP 12'!C126,'LP 13'!C126,'LP 14'!C126,'LP 15'!C126,)","v":0},{"$f":"SUM('LP 1'!D126,'LP 2'!D126,'LP 3'!D126,'LP 4'!D126,'LP 5'!D126,'LP 6'!D126,'LP 7'!D126,'LP 8'!D126,'LP 9'!D126,'LP 10'!D126,'LP 11'!D126,'LP 12'!D126,'LP 13'!D126,'LP 14'!D126,'LP 15'!D126,)","v":0},{"$f":"SUM('LP 1'!E126,'LP 2'!E126,'LP 3'!E126,'LP 4'!E126,'LP 5'!E126,'LP 6'!E126,'LP 7'!E126,'LP 8'!E126,'LP 9'!E126,'LP 10'!E126,'LP 11'!E126,'LP 12'!E126,'LP 13'!E126,'LP 14'!E126,'LP 15'!E126,)","v":0},null,null,null,{"$f":"'LP 1'!I126","v":0},{"$f":"'LP 2'!I126","v":0},{"$f":"'LP 3'!I126","v":0},{"$f":"'LP 4'!I126","v":0},{"$f":"'LP 5'!I126","v":0},{"$f":"'LP 6'!I126","v":0},{"$f":"'LP 7'!I126","v":0},{"$f":"'LP 8'!I126","v":0},{"$f":"'LP 9'!I126","v":0},{"$f":"'LP 10'!I126","v":0},{"$f":"'LP 11'!I126","v":0},{"$f":"'LP 12'!I126","v":0},{"$f":"'LP 13'!I126","v":0},{"$f":"'LP 14'!I126","v":0},{"$f":"'LP 15'!I126","v":0}]
["M10 Indikator 6",{"$f":"SUM('LP 1'!B127,'LP 2'!B127,'LP 3'!B127,'LP 4'!B127,'LP 5'!B127,'LP 6'!B127,'LP 7'!B127,'LP 8'!B127,'LP 9'!B127,'LP 10'!B127,'LP 11'!B127,'LP 12'!B127,'LP 13'!B127,'LP 14'!B127,'LP 15'!B127,)","v":0},{"$f":"SUM('LP 1'!C127,'LP 2'!C127,'LP 3'!C127,'LP 4'!C127,'LP 5'!C127,'LP 6'!C127,'LP 7'!C127,'LP 8'!C127,'LP 9'!C127,'LP 10'!C127,'LP 11'!C127,'LP 12'!C127,'LP 13'!C127,'LP 14'!C127,'LP 15'!C127,)","v":0},{"$f":"SUM('LP 1'!D127,'LP 2'!D127,'LP 3'!D127,'LP 4'!D127,'LP 5'!D127,'LP 6'!D127,'LP 7'!D127,'LP 8'!D127,'LP 9'!D127,'LP 10'!D127,'LP 11'!D127,'LP 12'!D127,'LP 13'!D127,'LP 14'!D127,'LP 15'!D127,)","v":0},{"$f":"SUM('LP 1'!E127,'LP 2'!E127,'LP 3'!E127,'LP 4'!E127,'LP 5'!E127,'LP 6'!E127,'LP 7'!E127,'LP 8'!E127,'LP 9'!E127,'LP 10'!E127,'LP 11'!E127,'LP 12'!E127,'LP 13'!E127,'LP 14'!E127,'LP 15'!E127,)","v":0},null,null,null,{"$f":"'LP 1'!I127","v":0},{"$f":"'LP 2'!I127","v":0},{"$f":"'LP 3'!I127","v":0},{"$f":"'LP 4'!I127","v":0},{"$f":"'LP 5'!I127","v":0},{"$f":"'LP 6'!I127","v":0},{"$f":"'LP 7'!I127","v":0},{"$f":"'LP 8'!I127","v":0},{"$f":"'LP 9'!I127","v":0},{"$f":"'LP 10'!I127","v":0},{"$f":"'LP 11'!I127","v":0},{"$f":"'LP 12'!I127","v":0},{"$f":"'LP 13'!I127","v":0},{"$f":"'LP 14'!I127","v":0},{"$f":"'LP 15'!I127","v":0}]
["M10 Indikator 7",{"$f":"SUM('LP 1'!B128,'LP 2'!B128,'LP 3'!B128,'LP 4'!B128,'LP 5'!B128,'LP 6'!B128,'LP 7'!B128,'LP 8'!B128,'LP 9'!B128,'LP 10'!B128,'LP 11'!B128,'LP 12'!B128,'LP 13'!B128,'LP 14'!B128,'LP 15'!B128,)","v":0},{"$f":"SUM('LP 1'!C128,'LP 2'!C128,'LP 3'!C128,'LP 4'!C128,'LP 5'!C128,'LP 6'!C128,'LP 7'!C128,'LP 8'!C128,'LP 9'!C128,'LP 10'!C128,'LP 11'!C128,'LP 12'!C128,'LP 13'!C128,'LP 14'!C128,'LP 15'!C128,)","v":0},{"$f":"SUM('LP 1'!D128,'LP 2'!D128,'LP 3'!D128,'LP 4'!D128,'LP 5'!D128,'LP 6'!D128,'LP 7'!D128,'LP 8'!D128,'LP 9'!D128,'LP 10'!D128,'LP 11'!D128,'LP 12'!D128,'LP 13'!D128,'LP 14'!D128,'LP 15'!D128,)","v":0},{"$f":"SUM('LP 1'!E128,'LP 2'!E128,'LP 3'!E128,'LP 4'!E128,'LP 5'!E128,'LP 6'!E128,'LP 7'!E128,'LP 8'!E128,'LP 9'!E128,'LP 10'!E128,'LP 11'!E128,'LP 12'!E128,'LP 13'!E128,'LP 14'!E128,'LP 15'!E128,)","v":0},null,null,null,{"$f":"'LP 1'!I128","v":0},{"$f":"'LP 2'!I128","v":0},{"$f":"'LP 3'!I128","v":0},{"$f":"'LP 4'!I128","v":0},{"$f":"'LP 5'!I128","v":0},{"$f":"'LP 6'!I128","v":0},{"$f":"'LP 7'!I128","v":0},{"$f":"'LP 8'!I128","v":0},{"$f":"'LP 9'!I128","v":0},{"$f":"'LP 10'!I128","v":0},{"$f":"'LP 11'!I128","v":0},{"$f":"'LP 12'!I128","v":0},{"$f":"'LP 13'!I128","v":0},{"$f":"'LP 14'!I128","v":0},{"$f":"'LP 15'!I128","v":0}]
["M10 Indikator 8",{"$f":"SUM('LP 1'!B129,'LP 2'!B129,'LP 3'!B129,'LP 4'!B129,'LP 5'!B129,'LP 6'!B129,'LP 7'!B129,'LP 8'!B129,'LP 9'!B129,'LP 10'!B129,'LP 11'!B129,'LP 12'!B129,'LP 13'!B129,'LP 14'!B129,'LP 15'!B129,)","v":0},{"$f":"SUM('LP 1'!C129,'LP 2'!C129,'LP 3'!C129,'LP 4'!C129,'LP 5'!C129,'LP 6'!C129,'LP 7'!C129,'LP 8'!C129,'LP 9'!C129,'LP 10'!C129,'LP 11'!C129,'LP 12'!C129,'LP 13'!C129,'LP 14'!C129,'LP 15'!C129,)","v":0},{"$f":"SUM('LP 1'!D129,'LP 2'!D129,'LP 3'!D129,'LP 4'!D129,'LP 5'!D129,'LP 6'!D129,'LP 7'!D129,'LP 8'!D129,'LP 9'!D129,'LP 10'!D129,'LP 11'!D129,'LP 12'!D129,'LP 13'!D129,'LP 14'!D129,'LP 15'!D129,)","v":0},{"$f":"SUM('LP 1'!E129,'LP 2'!E129,'LP 3'!E129,'LP 4'!E129,'LP 5'!E129,'LP 6'!E129,'LP 7'!E129,'LP 8'!E129,'LP 9'!E129,'LP 10'!E129,'LP 11'!E129,'LP 12'!E129,'LP 13'!E129,'LP 14'!E129,'LP 15'!E129,)","v":0},null,null,null,{"$f":"'LP 1'!I129","v":0},{"$f":"'LP 2'!I129","v":0},{"$f":"'LP 3'!I129","v":0},{"$f":"'LP 4'!I129","v":0},{"$f":"'LP 5'!I129","v":0},{"$f":"'LP 6'!I129","v":0},{"$f":"'LP 7'!I129","v":0},{"$f":"'LP 8'!I129","v":0},{"$f":"'LP 9'!I129","v":0},{"$f":"'LP 10'!I129","v":0},{"$f":"'LP 11'!I129","v":0},{"$f":"'LP 12'!I129","v":0},{"$f":"'LP 13'!I129","v":0},{"$f":"'LP 14'!I129","v":0},{"$f":"'LP 15'!I129","v":0}]
["M10 Indikator 9",{"$f":"SUM('LP 1'!B130,'LP 2'!B130,'LP 3'!B130,'LP 4'!B130,'LP 5'!B130,'LP 6'!B130,'LP 7'!B130,'LP 8'!B130,'LP 9'!B130,'LP 10'!B130,'LP 11'!B130,'LP 12'!B130,'LP 13'!B130,'LP 14'!B130,'LP 15'!B130,)","v":0},{"$f":"SUM('LP 1'!C130,'LP 2'!C130,'LP 3'!C130,'LP 4'!C130,'LP 5'!C130,'LP 6'!C130,'LP 7'!C130,'LP 8'!C130,'LP 9'!C130,'LP 10'!C130,'LP 11'!C130,'LP 12'!C130,'LP 13'!C130,'LP 14'!C130,'LP 15'!C130,)","v":0},{"$f":"SUM('LP 1'!D130,'LP 2'!D130,'LP 3'!D130,'LP 4'!D130,'LP 5'!D130,'LP 6'!D130,'LP 7'!D130,'LP 8'!D130,'LP 9'!D130,'LP 10'!D130,'LP 11'!D130,'LP 12'!D130,'LP 13'!D130,'LP 14'!D130,'LP 15'!D130,)","v":0},{"$f":"SUM('LP 1'!E130,'LP 2'!E130,'LP 3'!E130,'LP 4'!E130,'LP 5'!E130,'LP 6'!E130,'LP 7'!E130,'LP 8'!E130,'LP 9'!E130,'LP 10'!E130,'LP 11'!E130,'LP 12'!E130,'LP 13'!E130,'LP 14'!E130,'LP 15'!E130,)","v":0},null,null,null,{"$f":"'LP 1'!I130","v":0},{"$f":"'LP 2'!I130","v":0},{"$f":"'LP 3'!I130","v":0},{"$f":"'LP 4'!I130","v":0},{"$f":"'LP 5'!I130","v":0},{"$f":"'LP 6'!I130","v":0},{"$f":"'LP 7'!I130","v":0},{"$f":"'LP 8'!I130","v":0},{"$f":"'LP 9'!I130","v":0},{"$f":"'LP 10'!I130","v":0},{"$f":"'LP 11'!I130","v":0},{"$f":"'LP 12'!I130","v":0},{"$f":"'LP 13'!I130","v":0},{"$f":"'LP 14'!I130","v":0},{"$f":"'LP 15'!I130","v":0}]
["M10 Indikator 10",{"$f":"SUM('LP 1'!B131,'LP 2'!B131,'LP 3'!B131,'LP 4'!B131,'LP 5'!B131,'LP 6'!B131,'LP 7'!B131,'LP 8'!B131,'LP 9'!B131,'LP 10'!B131,'LP 11'!B131,'LP 12'!B131,'LP 13'!B131,'LP 14'!B131,'LP 15'!B131,)","v":0},{"$f":"SUM('LP 1'!C131,'LP 2'!C131,'LP 3'!C131,'LP 4'!C131,'LP 5'!C131,'LP 6'!C131,'LP 7'!C131,'LP 8'!C131,'LP 9'!C131,'LP 10'!C131,'LP 11'!C131,'LP 12'!C131,'LP 13'!C131,'LP 14'!C131,'LP 15'!C131,)","v":0},{"$f":"SUM('LP 1'!D131,'LP 2'!D131,'LP 3'!D131,'LP 4'!D131,'LP 5'!D131,'LP 6'!D131,'LP 7'!D131,'LP 8'!D131,'LP 9'!D131,'LP 10'!D131,'LP 11'!D131,'LP 12'!D131,'LP 13'!D131,'LP 14'!D131,'LP 15'!D131,)","v":0},{"$f":"SUM('LP 1'!E131,'LP 2'!E131,'LP 3'!E131,'LP 4'!E131,'LP 5'!E131,'LP 6'!E131,'LP 7'!E131,'LP 8'!E131,'LP 9'!E131,'LP 10'!E131,'LP 11'!E131,'LP 12'!E131,'LP 13'!E131,'LP 14'!E131,'LP 15'!E131,)","v":0},null,null,null,{"$f":"'LP 1'!I131","v":0},{"$f":"'LP 2'!I131","v":0},{"$f":"'LP 3'!I131","v":0},{"$f":"'LP 4'!I131","v":0},{"$f":"'LP 5'!I131","v":0},{"$f":"'LP 6'!I131","v":0},{"$f":"'LP 7'!I131","v":0},{"$f":"'LP 8'!I131","v":0},{"$f":"'LP 9'!I131","v":0},{"$f":"'LP 10'!I131","v":0},{"$f":"'LP 11'!I131","v":0},{"$f":"'LP 12'!I131","v":0},{"$f":"'LP 13'!I131","v":0},{"$f":"'LP 14'!I131","v":0},{"$f":"'LP 15'!I131","v":0}]

{"sheet":"Beobachtungsbogen","index":1,"n_rows":193,"n_cols":8,"rows_kept":193,"cut":false,"hidden":false,"merged":[[188,5,188,8],[189,5,189,8],[190,5,190,8],[182,5,182,8],[183,5,183,8],[184,5,184,8],[185,5,185,8],[186,5,186,8],[187,5,187,8],[162,5,162,8],[132,5,132,8],[133,5,133,8],[134,5,134,8],[135,5,135,8],[154,5,154,8],[142,5,142,8],[143,5,143,8],[144,5,144,8],[145,5,145,8],[146,5,146,8],[147,5,147,8],[148,5,148,8],[163,5,163,8],[164,5,164,8],[168,5,168,8],[169,5,169,8],[170,5,170,8],[171,5,171,8],[172,5,172,8],[173,5,173,8],[174,5,174,8],[180,5,180,8],[181,5,181,8],[0,0,0,8],[13,0,60,1],[13,2,60,4],[13,5,60,8],[167,5,167,8],[155,5,155,8],[156,5,156,8],[157,5,157,8],[158,5,158,8],[159,5,159,8],[160,5,160,8],[161,5,161,8],[129,5,129,8],[130,5,130,8],[131,5,131,8],[128,5,128,8],[141,5,141,8],[120,5,120,8],[121,5,121,8],[122,5,122,8],[136,5,136,8],[137,5,137,8],[138,5,138,8],[89,5,89,8],[102,5,102,8],[115,5,115,8],[111,5,111,8],[116,5,116,8],[109,5,109,8],[110,5,110,8],[90,5,90,8],[91,5,91,8],[92,5,92,8],[93,5,93,8],[94,5,94,8],[95,5,95,8],[96,5,96,8],[112,5,112,8],[117,5,117,8],[118,5,118,8],[119,5,119,8],[103,5,103,8],[104,5,104,8],[105,5,105,8],[106,5,106,8],[107,5,107,8],[108,5,108,8],[83,5,83,8],[84,5,84,8],[85,5,85,8],[86,5,86,8],[70,5,70,8],[76,5,76,8],[77,5,77,8],[78,5,78,8],[79,5,79,8],[80,5,80,8],[81,5,81,8],[82,5,82,8],[68,5,68,8],[69,5,69,8],[63,5,63,8],[64,5,64,8],[65,5,65,8],[66,5,66,8],[67,5,67,8]]}
["Unterrichtsbesuch"]
[]
["Schule: "]
["Klasse:"]
["Ort: "]
["Lehrperson:"]
["Zeit: "]
["Fach:"]
["Anzahl Schülerinnen und Schüler:"]
["männlich:"]
["weiblich:"]
[]
["Unterrichtsprotokoll"]
["Wann/Was",null,null,null,null,"Bemerkungen"]
[]
[]
[]
[]
[]
[]
[]
[]
[]
[]
[]
[]
[]
[]
[]
[]
[]
[]
[]
[]
[]
[]
[]
[]
[]
[]
[]
[]
[]
[]
[]
[]
[]
[]
[]
[]
[]
[]
[]
[]
[]
[]
[]
[]
[]
[]
[]
[{"$f":"Auswertungsraster!A37","v":"Merkmal"},{"$f":"Auswertungsraster!B37","v":" +++"},{"$f":"Auswertungsraster!C37","v":" ++"},{"$f":"Auswertungsraster!D37","v":" +"},{"$f":"Auswertungsraster!E37","v":" -"},{"$f":"Auswertungsraster!F37","v":" --"},{"$f":"Auswertungsraster!G37","v":" ---"},{"$f":"Auswertungsraster!H37","v":" ?"}]
[{"$f":"Auswertungsraster!A38","v":"Merkmal 1"}]
[{"$f":"Auswertungsraster!A40","v":"Indikatoren"},{"$f":"Auswertungsraster!B40","v":"ja"},{"$f":"Auswertungsraster!C40","v":"teils"},{"$f":"Auswertungsraster!D40","v":"nein"},{"$f":"Auswertungsraster!E40","v":"?"},"Bemerkungen"]
[{"$f":"Auswertungsraster!A41","v":"M1 Indikator 1"}]
[{"$f":"Auswertungsraster!A42","v":"M1 Indikator 2"}]
[{"$f":"Auswertungsraster!A43","v":"M1 Indikator 3"}]
[{"$f":"Auswertungsraster!A44","v":"M1 Indikator 4"}]
[{"$f":"Auswertungsraster!A45","v":"M1 Indikator 5"}]
[{"$f":"Auswertungsraster!A46","v":"M1 Indikator 6"}]
[{"$f":"Auswertungsraster!A47","v":"M1 Indikator 7"}]
[{"$f":"Auswertungsraster!A48","v":"M1 Indikator 8"}]
[{"$f":"Auswertungsraster!A49","v":"M1 Indikator 9"}]
[{"$f":"Auswertungsraster!A50","v":"M1 Indikator 10"}]
[{"$f":"Auswertungsraster!A51","v":"Merkmal"},{"$f":"Auswertungsraster!B51","v":" +++"},{"$f":"Auswertungsraster!C51","v":" ++"},{"$f":"Auswertungsraster!D51","v":" +"},{"$f":"Auswertungsraster!E51","v":" -"},{"$f":"Auswertungsraster!F51","v":" --"},{"$f":"Auswertungsraster!G51","v":" ---"},{"$f":"Auswertungsraster!H51","v":" ?"}]
[{"$f":"Auswertungsraster!A52","v":"Merkmal 2"}]
[{"$f":"Auswertungsraster!A54","v":"Indikatoren"},{"$f":"Auswertungsraster!B54","v":"ja"},{"$f":"Auswertungsraster!C54","v":"teils"},{"$f":"Auswertungsraster!D54","v":"nein"},{"$f":"Auswertungsraster!E54","v":"?"},"Bemerkungen"]
[{"$f":"Auswertungsraster!A55","v":"M2 Indikator 1"}]
[{"$f":"Auswertungsraster!A56","v":"M2 Indikator 2"}]
[{"$f":"Auswertungsraster!A57","v":"M2 Indikator 3"}]
[{"$f":"Auswertungsraster!A58","v":"M2 Indikator 4"}]
[{"$f":"Auswertungsraster!A59","v":"M2 Indikator 5"}]
[{"$f":"Auswertungsraster!A60","v":"M2 Indikator 6"}]
[{"$f":"Auswertungsraster!A61","v":"M2 Indikator 7"}]
[{"$f":"Auswertungsraster!A62","v":"M2 Indikator 8"}]
[{"$f":"Auswertungsraster!A63","v":"M2 Indikator 9"}]
[{"$f":"Auswertungsraster!A64","v":"M2 Indikator 10"}]
[{"$f":"Auswertungsraster!A65","v":"Merkmal"},{"$f":"Auswertungsraster!B65","v":" +++"},{"$f":"Auswertungsraster!C65","v":" ++"},{"$f":"Auswertungsraster!D65","v":" +"},{"$f":"Auswertungsraster!E65","v":" -"},{"$f":"Auswertungsraster!F65","v":" --"},{"$f":"Auswertungsraster!G65","v":" ---"},{"$f":"Auswertungsraster!H65","v":" ?"}]
[{"$f":"Auswertungsraster!A66","v":"Merkmal 3"}]
[{"$f":"Auswertungsraster!A68","v":"Indikatoren"},{"$f":"Auswertungsraster!B68","v":"ja"},{"$f":"Auswertungsraster!C68","v":"teils"},{"$f":"Auswertungsraster!D68","v":"nein"},{"$f":"Auswertungsraster!E68","v":"?"},"Bemerkungen"]
[{"$f":"Auswertungsraster!A69","v":"M3 Indikator 1"}]
[{"$f":"Auswertungsraster!A70","v":"M3 Indikator 2"}]
[{"$f":"Auswertungsraster!A71","v":"M3 Indikator 3"}]
[{"$f":"Auswertungsraster!A72","v":"M3 Indikator 4"}]
[{"$f":"Auswertungsraster!A73","v":"M3 Indikator 5"}]
[{"$f":"Auswertungsraster!A74","v":"M3 Indikator 6"}]
[{"$f":"Auswertungsraster!A75","v":"M3 Indikator 7"}]
[{"$f":"Auswertungsraster!A76","v":"M3 Indikator 8"}]
[{"$f":"Auswertungsraster!A77","v":"M3 Indikator 9"}]
[{"$f":"Auswertungsraster!A78","v":"M3 Indikator 10"}]
[{"$f":"Auswertungsraster!A79","v":"Merkmal"},{"$f":"Auswertungsraster!B79","v":" +++"},{"$f":"Auswertungsraster!C79","v":" ++"},{"$f":"Auswertungsraster!D79","v":" +"},{"$f":"Auswertungsraster!E79","v":" -"},{"$f":"Auswertungsraster!F79","v":" --"},{"$f":"Auswertungsraster!G79","v":" ---"},{"$f":"Auswertungsraster!H79","v":" ?"}]
[{"$f":"Auswertungsraster!A80","v":"Merkmal 4"}]
[{"$f":"Auswertungsraster!A82","v":"Indikatoren"},{"$f":"Auswertungsraster!B82","v":"ja"},{"$f":"Auswertungsraster!C82","v":"teils"},{"$f":"Auswertungsraster!D82","v":"nein"},{"$f":"Auswertungsraster!E82","v":"?"},"Bemerkungen"]
[{"$f":"Auswertungsraster!A83","v":"M4 Indikator 1"}]
[{"$f":"Auswertungsraster!A84","v":"M4 Indikator 2"}]
[{"$f":"Auswertungsraster!A85","v":"M4 Indikator 3"}]
[{"$f":"Auswertungsraster!A86","v":"M4 Indikator 4"}]
[{"$f":"Auswertungsraster!A87","v":"M4 Indikator 5"}]
[{"$f":"Auswertungsraster!A88","v":"M4 Indikator 6"}]
[{"$f":"Auswertungsraster!A89","v":"M4 Indikator 7"}]
[{"$f":"Auswertungsraster!A90","v":"M4 Indikator 8"}]
[{"$f":"Auswertungsraster!A91","v":"M4 Indikator 9"}]
[{"$f":"Auswertungsraster!A92","v":"M4 Indikator 10"}]
[{"$f":"Auswertungsraster!A93","v":"Merkmal"},{"$f":"Auswertungsraster!B93","v":" +++"},{"$f":"Auswertungsraster!C93","v":" ++"},{"$f":"Auswertungsraster!D93","v":" +"},{"$f":"Auswertungsraster!E93","v":" -"},{"$f":"Auswertungsraster!F93","v":" --"},{"$f":"Auswertungsraster!G93","v":" ---"},{"$f":"Auswertungsraster!H93","v":" ?"}]
[{"$f":"Auswertungsraster!A94","v":"Merkmal 5"}]
[{"$f":"Auswertungsraster!A96","v":"Indikatoren"},{"$f":"Auswertungsraster!B96","v":"ja"},{"$f":"Auswertungsraster!C96","v":"teils"},{"$f":"Auswertungsraster!D96","v":"nein"},{"$f":"Auswertungsraster!E96","v":"?"},"Bemerkungen"]
[{"$f":"Auswertungsraster!A97","v":"M5 Indikator 1"}]
[{"$f":"Auswertungsraster!A98","v":"M5 Indikator 2"}]
[{"$f":"Auswertungsraster!A99","v":"M5 Indikator 3"}]
[{"$f":"Auswertungsraster!A100","v":"M5 Indikator 4"}]
[{"$f":"Auswertungsraster!A101","v":"M5 Indikator 5"}]
[{"$f":"Auswertungsraster!A102","v":"M5 Indikator 6"}]
[{"$f":"Auswertungsraster!A103","v":"M5 Indikator 7"}]
[{"$f":"Auswertungsraster!A104","v":"M5 Indikator 8"}]
[{"$f":"Auswertungsraster!A105","v":"M5 Indikator 9"}]
[{"$f":"Auswertungsraster!A106","v":"M5 Indikator 10"}]
[{"$f":"Auswertungsraster!A107","v":"Merkmal"},{"$f":"Auswertungsraster!B107","v":" +++"},{"$f":"Auswertungsraster!C107","v":" ++"},{"$f":"Auswertungsraster!D107","v":" +"},{"$f":"Auswertungsraster!E107","v":" -"},{"$f":"Auswertungsraster!F107","v":" --"},{"$f":"Auswertungsraster!G107","v":" ---"},{"$f":"Auswertungsraster!H107","v":" ?"}]
[{"$f":"Auswertungsraster!A108","v":"Merkmal 6"}]
[{"$f":"Auswertungsraster!A110","v":"Indikatoren"},{"$f":"Auswertungsraster!B110","v":"ja"},{"$f":"Auswertungsraster!C110","v":"teils"},{"$f":"Auswertungsraster!D110","v":"nein"},{"$f":"Auswertungsraster!E110","v":"?"},"Bemerkungen"]
[{"$f":"Auswertungsraster!A111","v":"M6 Indikator 1"}]
[{"$f":"Auswertungsraster!A112","v":"M6 Indikator 2"}]
[{"$f":"Auswertungsraster!A113","v":"M6 Indikator 3"}]
[{"$f":"Auswertungsraster!A114","v":"M6 Indikator 4"}]
[{"$f":"Auswertungsraster!A115","v":"M6 Indikator 5"}]
[{"$f":"Auswertungsraster!A116","v":"M6 Indikator 6"}]
[{"$f":"Auswertungsraster!A117","v":"M6 Indikator 7"}]
[{"$f":"Auswertungsraster!A118","v":"M6 Indikator 8"}]
[{"$f":"Auswertungsraster!A119","v":"M6 Indikator 9"}]
[{"$f":"Auswertungsraster!A120","v":"M6 Indikator 10"}]
[{"$f":"Auswertungsraster!A121","v":"Merkmal"},{"$f":"Auswertungsraster!B121","v":" +++"},{"$f":"Auswertungsraster!C121","v":" ++"},{"$f":"Auswertungsraster!D121","v":" +"},{"$f":"Auswertungsraster!E121","v":" -"},{"$f":"Auswertungsraster!F121","v":" --"},{"$f":"Auswertungsraster!G121","v":" ---"},{"$f":"Auswertungsraster!H121","v":" ?"}]
[{"$f":"Auswertungsraster!A122","v":"Merkmal 7"}]
[{"$f":"Auswertungsraster!A124","v":"Indikatoren"},{"$f":"Auswertungsraster!B124","v":"ja"},{"$f":"Auswertungsraster!C124","v":"teils"},{"$f":"Auswertungsraster!D124","v":"nein"},{"$f":"Auswertungsraster!E124","v":"?"},"Bemerkungen"]
[{"$f":"Auswertungsraster!A125","v":"M7 Indikator 1"}]
[{"$f":"Auswertungsraster!A126","v":"M7 Indikator 2"}]
[{"$f":"Auswertungsraster!A127","v":"M7 Indikator 3"}]
[{"$f":"Auswertungsraster!A128","v":"M7 Indikator 4"}]
[{"$f":"Auswertungsraster!A129","v":"M7 Indikator 5"}]
[{"$f":"Auswertungsraster!A130","v":"M7 Indikator 6"}]
[{"$f":"Auswertungsraster!A131","v":"M7 Indikator 7"}]
[{"$f":"Auswertungsraster!A132","v":"M7 Indikator 8"}]
[{"$f":"Auswertungsraster!A133","v":"M7 Indikator 9"}]
[{"$f":"Auswertungsraster!A134","v":"M7 Indikator 10"}]
[{"$f":"Auswertungsraster!A135","v":"Merkmal"},{"$f":"Auswertungsraster!B135","v":" +++"},{"$f":"Auswertungsraster!C135","v":" ++"},{"$f":"Auswertungsraster!D135","v":" +"},{"$f":"Auswertungsraster!E135","v":" -"},{"$f":"Auswertungsraster!F135","v":" --"},{"$f":"Auswertungsraster!G135","v":" ---"},{"$f":"Auswertungsraster!H135","v":" ?"}]
[{"$f":"Auswertungsraster!A136","v":"Merkmal 8"}]
[{"$f":"Auswertungsraster!A138","v":"Indikatoren"},{"$f":"Auswertungsraster!B138","v":"ja"},{"$f":"Auswertungsraster!C138","v":"teils"},{"$f":"Auswertungsraster!D138","v":"nein"},{"$f":"Auswertungsraster!E138","v":"?"},"Bemerkungen"]
[{"$f":"Auswertungsraster!A139","v":"M8 Indikator 1"}]
[{"$f":"Auswertungsraster!A140","v":"M8 Indikator 2"}]
[{"$f":"Auswertungsraster!A141","v":"M8 Indikator 3"}]
[{"$f":"Auswertungsraster!A142","v":"M8 Indikator 4"}]
[{"$f":"Auswertungsraster!A143","v":"M8 Indikator 5"}]
[{"$f":"Auswertungsraster!A144","v":"M8 Indikator 6"}]
[{"$f":"Auswertungsraster!A145","v":"M8 Indikator 7"}]
[{"$f":"Auswertungsraster!A146","v":"M8 Indikator 8"}]
[{"$f":"Auswertungsraster!A147","v":"M8 Indikator 9"}]
[{"$f":"Auswertungsraster!A148","v":"M8 Indikator 10"}]
[{"$f":"Auswertungsraster!A149","v":"Merkmal"},{"$f":"Auswertungsraster!B149","v":" +++"},{"$f":"Auswertungsraster!C149","v":" ++"},{"$f":"Auswertungsraster!D149","v":" +"},{"$f":"Auswertungsraster!E149","v":" -"},{"$f":"Auswertungsraster!F149","v":" --"},{"$f":"Auswertungsraster!G149","v":" ---"},{"$f":"Auswertungsraster!H149","v":" ?"}]
[{"$f":"Auswertungsraster!A150","v":"Merkmal 9"}]
[{"$f":"Auswertungsraster!A152","v":"Indikatoren"},{"$f":"Auswertungsraster!B152","v":"ja"},{"$f":"Auswertungsraster!C152","v":"teils"},{"$f":"Auswertungsraster!D152","v":"nein"},{"$f":"Auswertungsraster!E152","v":"?"},"Bemerkungen"]
[{"$f":"Auswertungsraster!A153","v":"M9 Indikator 1"}]
[{"$f":"Auswertungsraster!A154","v":"M9 Indikator 2"}]
[{"$f":"Auswertungsraster!A155","v":"M9 Indikator 3"}]
[{"$f":"Auswertungsraster!A156","v":"M9 Indikator 4"}]
[{"$f":"Auswertungsraster!A157","v":"M9 Indikator 5"}]
[{"$f":"Auswertungsraster!A158","v":"M9 Indikator 6"}]
[{"$f":"Auswertungsraster!A159","v":"M9 Indikator 7"}]
[{"$f":"Auswertungsraster!A160","v":"M9 Indikator 8"}]
[{"$f":"Auswertungsraster!A161","v":"M9 Indikator 9"}]
[{"$f":"Auswertungsraster!A162","v":"M9 Indikator 10"}]
[{"$f":"Auswertungsraster!A163","v":"Merkmal"},{"$f":"Auswertungsraster!B163","v":" +++"},{"$f":"Auswertungsraster!C163","v":" ++"},{"$f":"Auswertungsraster!D163","v":" +"},{"$f":"Auswertungsraster!E163","v":" -"},{"$f":"Auswertungsraster!F163","v":" --"},{"$f":"Auswertungsraster!G163","v":" ---"},{"$f":"Auswertungsraster!H163","v":" ?"}]
[{"$f":"Auswertungsraster!A164","v":"Merkmal 10"}]
[{"$f":"Auswertungsraster!A166","v":"Indikatoren"},{"$f":"Auswertungsraster!B166","v":"ja"},{"$f":"Auswertungsraster!C166","v":"teils"},{"$f":"Auswertungsraster!D166","v":"nein"},{"$f":"Auswertungsraster!E166","v":"?"},"Bemerkungen"]
[{"$f":"Auswertungsraster!A167","v":"M10 Indikator 1"}]
[{"$f":"Auswertungsraster!A168","v":"M10 Indikator 2"}]
[{"$f":"Auswertungsraster!A169","v":"M10 Indikator 3"}]
[{"$f":"Auswertungsraster!A170","v":"M10 Indikator 4"}]
[{"$f":"Auswertungsraster!A171","v":"M10 Indikator 5"}]
[{"$f":"Auswertungsraster!A172","v":"M10 Indikator 6"}]
[{"$f":"Auswertungsraster!A173","v":"M10 Indikator 7"}]
[{"$f":"Auswertungsraster!A174","v":"M10 Indikator 8"}]
[{"$f":"Auswertungsraster!A175","v":"M10 Indikator 9"}]
[{"$f":"Auswertungsraster!A176","v":"M10 Indikator 10"}]
[{"$f":"Auswertungsraster!A2","v":"Gesamtbewertung "},{"$f":"Auswertungsraster!B2","v":" +++"},{"$f":"Auswertungsraster!C2","v":" ++"},{"$f":"Auswertungsraster!D2","v":" +"},{"$f":"Auswertungsraster!E2","v":" -"},{"$f":"Auswertungsraster!F2","v":" --"},{"$f":"Auswertungsraster!G2","v":" ---"},{"$f":"Auswertungsraster!H2","v":" ?"}]
[{"$f":"Auswertungsraster!A3","v":"Bilanzierende Beurteilung Unterricht"}]

{"sheet":"LP 1","index":2,"n_rows":143,"n_cols":9,"rows_kept":143,"cut":false,"hidden":false,"merged":[[66,0,67,0],[79,0,80,0],[92,0,93,0],[131,0,132,0],[105,0,106,0],[118,0,119,0],[1,0,2,0],[14,0,15,0],[27,0,28,0],[40,0,41,0],[53,0,54,0]]}
["LP 1"]
[{"$f":"Auswertungsraster!A38","v":"Merkmal 1"}," +++"," ++"," +"," -"," --"," ---","?","Bemerkungen"]
[]
[{"$f":"Auswertungsraster!A40","v":"Indikatoren"},"ja","teils","nein","?",null,null,null,"Bemerkungen"]
[{"$f":"Auswertungsraster!A41","v":"M1 Indikator 1"}]
[{"$f":"Auswertungsraster!A42","v":"M1 Indikator 2"}]
[{"$f":"Auswertungsraster!A43","v":"M1 Indikator 3"}]
[{"$f":"Auswertungsraster!A44","v":"M1 Indikator 4"}]
[{"$f":"Auswertungsraster!A45","v":"M1 Indikator 5"}]
[{"$f":"Auswertungsraster!A46","v":"M1 Indikator 6"}]
[{"$f":"Auswertungsraster!A47","v":"M1 Indikator 7"}]
[{"$f":"Auswertungsraster!A48","v":"M1 Indikator 8"}]
[{"$f":"Auswertungsraster!A49","v":"M1 Indikator 9"}]
[{"$f":"Auswertungsraster!A50","v":"M1 Indikator 10"}]
[{"$f":"Auswertungsraster!A52","v":"Merkmal 2"}," +++"," ++"," +"," -"," --"," ---","?","Bemerkungen"]
[]
[{"$f":"Auswertungsraster!A54","v":"Indikatoren"},"ja","teils","nein","?",null,null,null,"Bemerkungen"]
[{"$f":"Auswertungsraster!A55","v":"M2 Indikator 1"}]
[{"$f":"Auswertungsraster!A56","v":"M2 Indikator 2"}]
[{"$f":"Auswertungsraster!A57","v":"M2 Indikator 3"}]
[{"$f":"Auswertungsraster!A58","v":"M2 Indikator 4"}]
[{"$f":"Auswertungsraster!A59","v":"M2 Indikator 5"}]
[{"$f":"Auswertungsraster!A60","v":"M2 Indikator 6"}]
[{"$f":"Auswertungsraster!A61","v":"M2 Indikator 7"}]
[{"$f":"Auswertungsraster!A62","v":"M2 Indikator 8"}]
[{"$f":"Auswertungsraster!A63","v":"M2 Indikator 9"}]
[{"$f":"Auswertungsraster!A64","v":"M2 Indikator 10"}]
[{"$f":"Auswertungsraster!A66","v":"Merkmal 3"}," +++"," ++"," +"," -"," --"," ---","?","Bemerkungen"]
[]
[{"$f":"Auswertungsraster!A68","v":"Indikatoren"},"ja","teils","nein","?",null,null,null,"Bemerkungen"]
[{"$f":"Auswertungsraster!A69","v":"M3 Indikator 1"}]
[{"$f":"Auswertungsraster!A70","v":"M3 Indikator 2"}]
[{"$f":"Auswertungsraster!A71","v":"M3 Indikator 3"}]
[{"$f":"Auswertungsraster!A72","v":"M3 Indikator 4"}]
[{"$f":"Auswertungsraster!A73","v":"M3 Indikator 5"}]
[{"$f":"Auswertungsraster!A74","v":"M3 Indikator 6"}]
[{"$f":"Auswertungsraster!A75","v":"M3 Indikator 7"}]
[{"$f":"Auswertungsraster!A76","v":"M3 Indikator 8"}]
[{"$f":"Auswertungsraster!A77","v":"M3 Indikator 9"}]
[{"$f":"Auswertungsraster!A78","v":"M3 Indikator 10"}]
[{"$f":"Auswertungsraster!A80","v":"Merkmal 4"}," +++"," ++"," +"," -"," --"," ---","?","Bemerkungen"]
[]
[{"$f":"Auswertungsraster!A82","v":"Indikatoren"},"ja","teils","nein","?",null,null,null,"Bemerkungen"]
[{"$f":"Auswertungsraster!A83","v":"M4 Indikator 1"}]
[{"$f":"Auswertungsraster!A84","v":"M4 Indikator 2"}]
[{"$f":"Auswertungsraster!A85","v":"M4 Indikator 3"}]
[{"$f":"Auswertungsraster!A86","v":"M4 Indikator 4"}]
[{"$f":"Auswertungsraster!A87","v":"M4 Indikator 5"}]
[{"$f":"Auswertungsraster!A88","v":"M4 Indikator 6"}]
[{"$f":"Auswertungsraster!A89","v":"M4 Indikator 7"}]
[{"$f":"Auswertungsraster!A90","v":"M4 Indikator 8"}]
[{"$f":"Auswertungsraster!A91","v":"M4 Indikator 9"}]
[{"$f":"Auswertungsraster!A92","v":"M4 Indikator 10"}]
[{"$f":"Auswertungsraster!A94","v":"Merkmal 5"}," +++"," ++"," +"," -"," --"," ---","?","Bemerkungen"]
[]
[{"$f":"Auswertungsraster!A96","v":"Indikatoren"},"ja","teils","nein","?",null,null,null,"Bemerkungen"]
[{"$f":"Auswertungsraster!A97","v":"M5 Indikator 1"}]
[{"$f":"Auswertungsraster!A98","v":"M5 Indikator 2"}]
[{"$f":"Auswertungsraster!A99","v":"M5 Indikator 3"}]
[{"$f":"Auswertungsraster!A100","v":"M5 Indikator 4"}]
[{"$f":"Auswertungsraster!A101","v":"M5 Indikator 5"}]
[{"$f":"Auswertungsraster!A102","v":"M5 Indikator 6"}]
[{"$f":"Auswertungsraster!A103","v":"M5 Indikator 7"}]
[{"$f":"Auswertungsraster!A104","v":"M5 Indikator 8"}]
[{"$f":"Auswertungsraster!A105","v":"M5 Indikator 9"}]
[{"$f":"Auswertungsraster!A106","v":"M5 Indikator 10"}]
[{"$f":"Auswertungsraster!A108","v":"Merkmal 6"}," +++"," ++"," +"," -"," --"," ---","?","Bemerkungen"]
[]
[{"$f":"Auswertungsraster!A110","v":"Indikatoren"},"ja","teils","nein","?",null,null,null,"Bemerkungen"]
[{"$f":"Auswertungsraster!A111","v":"M6 Indikator 1"}]
[{"$f":"Auswertungsraster!A112","v":"M6 Indikator 2"}]
[{"$f":"Auswertungsraster!A113","v":"M6 Indikator 3"}]
[{"$f":"Auswertungsraster!A114","v":"M6 Indikator 4"}]
[{"$f":"Auswertungsraster!A115","v":"M6 Indikator 5"}]
[{"$f":"Auswertungsraster!A116","v":"M6 Indikator 6"}]
[{"$f":"Auswertungsraster!A117","v":"M6 Indikator 7"}]
[{"$f":"Auswertungsraster!A118","v":"M6 Indikator 8"}]
[{"$f":"Auswertungsraster!A119","v":"M6 Indikator 9"}]
[{"$f":"Auswertungsraster!A120","v":"M6 Indikator 10"}]
[{"$f":"Auswertungsraster!A122","v":"Merkmal 7"}," +++"," ++"," +"," -"," --"," ---","?","Bemerkungen"]
[]
[{"$f":"Auswertungsraster!A124","v":"Indikatoren"},"ja","teils","nein","?",null,null,null,"Bemerkungen"]
[{"$f":"Auswertungsraster!A125","v":"M7 Indikator 1"}]
[{"$f":"Auswertungsraster!A126","v":"M7 Indikator 2"}]
[{"$f":"Auswertungsraster!A127","v":"M7 Indikator 3"}]
[{"$f":"Auswertungsraster!A128","v":"M7 Indikator 4"}]
[{"$f":"Auswertungsraster!A129","v":"M7 Indikator 5"}]
[{"$f":"Auswertungsraster!A130","v":"M7 Indikator 6"}]
[{"$f":"Auswertungsraster!A131","v":"M7 Indikator 7"}]
[{"$f":"Auswertungsraster!A132","v":"M7 Indikator 8"}]
[{"$f":"Auswertungsraster!A133","v":"M7 Indikator 9"}]
[{"$f":"Auswertungsraster!A134","v":"M7 Indikator 10"}]
[{"$f":"Auswertungsraster!A136","v":"Merkmal 8"}," +++"," ++"," +"," -"," --"," ---","?","Bemerkungen"]
[]
[{"$f":"Auswertungsraster!A138","v":"Indikatoren"},"ja","teils","nein","?",null,null,null,"Bemerkungen"]
[{"$f":"Auswertungsraster!A139","v":"M8 Indikator 1"}]
[{"$f":"Auswertungsraster!A140","v":"M8 Indikator 2"}]
[{"$f":"Auswertungsraster!A141","v":"M8 Indikator 3"}]
[{"$f":"Auswertungsraster!A142","v":"M8 Indikator 4"}]
[{"$f":"Auswertungsraster!A143","v":"M8 Indikator 5"}]
[{"$f":"Auswertungsraster!A144","v":"M8 Indikator 6"}]
[{"$f":"Auswertungsraster!A145","v":"M8 Indikator 7"}]
[{"$f":"Auswertungsraster!A146","v":"M8 Indikator 8"}]
[{"$f":"Auswertungsraster!A147","v":"M8 Indikator 9"}]
[{"$f":"Auswertungsraster!A148","v":"M8 Indikator 10"}]
[{"$f":"Auswertungsraster!A150","v":"Merkmal 9"}," +++"," ++"," +"," -"," --"," ---","?","Bemerkungen"]
[]
[{"$f":"Auswertungsraster!A152","v":"Indikatoren"},"ja","teils","nein","?",null,null,null,"Bemerkungen"]
[{"$f":"Auswertungsraster!A153","v":"M9 Indikator 1"}]
[{"$f":"Auswertungsraster!A154","v":"M9 Indikator 2"}]
[{"$f":"Auswertungsraster!A155","v":"M9 Indikator 3"}]
[{"$f":"Auswertungsraster!A156","v":"M9 Indikator 4"}]
[{"$f":"Auswertungsraster!A157","v":"M9 Indikator 5"}]
[{"$f":"Auswertungsraster!A158","v":"M9 Indikator 6"}]
[{"$f":"Auswertungsraster!A159","v":"M9 Indikator 7"}]
[{"$f":"Auswertungsraster!A160","v":"M9 Indikator 8"}]
[{"$f":"Auswertungsraster!A161","v":"M9 Indikator 9"}]
[{"$f":"Auswertungsraster!A162","v":"M9 Indikator 10"}]
[{"$f":"Auswertungsraster!A164","v":"Merkmal 10"}," +++"," ++"," +"," -"," --"," ---","?","Bemerkungen"]
[]
[{"$f":"Auswertungsraster!A166","v":"Indikatoren"},"ja","teils","nein","?",null,null,null,"Bemerkungen"]
[{"$f":"Auswertungsraster!A167","v":"M10 Indikator 1"}]
[{"$f":"Auswertungsraster!A168","v":"M10 Indikator 2"}]
[{"$f":"Auswertungsraster!A169","v":"M10 Indikator 3"}]
[{"$f":"Auswertungsraster!A170","v":"M10 Indikator 4"}]
[{"$f":"Auswertungsraster!A171","v":"M10 Indikator 5"}]
[{"$f":"Auswertungsraster!A172","v":"M10 Indikator 6"}]
[{"$f":"Auswertungsraster!A173","v":"M10 Indikator 7"}]
[{"$f":"Auswertungsraster!A174","v":"M10 Indikator 8"}]
[{"$f":"Auswertungsraster!A175","v":"M10 Indikator 9"}]
[{"$f":"Auswertungsraster!A176","v":"M10 Indikator 10"}]
["Bilanzierende Bewertung"," +++"," ++","+"," -"," --"," ---","?","Bemerkungen"]
[]
[{"$f":"A2","v":"Merkmal 1"},{"$f":"B3","v":0},0,0,0,0,0,0,0]
[{"$f":"A15","v":"Merkmal 2"},{"$f":"B16","v":0},0,0,0,0,0,0,0]
[{"$f":"A28","v":"Merkmal 3"},{"$f":"B29","v":0},0,0,0,0,0,0,0]
[{"$f":"A41","v":"Merkmal 4"},{"$f":"B42","v":0},0,0,0,0,0,0,0]
[{"$f":"A54","v":"Merkmal 5"},{"$f":"B55","v":0},0,0,0,0,0,0,0]
[{"$f":"A67","v":"Merkmal 6"},{"$f":"B68","v":0},{"$f":"C68","v":0},0,0,0,0,0,0]
[{"$f":"A80","v":"Merkmal 7"},{"$f":"B81","v":0},{"$f":"C81","v":0},0,0,0,0,0,0]
[{"$f":"A93","v":"Merkmal 8"},{"$f":"B94","v":0},{"$f":"C94","v":0},0,0,0,0,0,0]
[{"$f":"A106","v":"Merkmal 9"},{"$f":"B107","v":0},{"$f":"C107","v":0},0,0,0,0,0,0]
[{"$f":"A119","v":"Merkmal 10"},{"$f":"B120","v":0},{"$f":"C120","v":0},0,0,0,0,0,0]

{"sheet":"LP 2","index":3,"n_rows":143,"n_cols":9,"rows_kept":143,"cut":false,"hidden":false,"merged":[[79,0,80,0],[92,0,93,0],[105,0,106,0],[118,0,119,0],[131,0,132,0],[66,0,67,0],[1,0,2,0],[14,0,15,0],[27,0,28,0],[40,0,41,0],[53,0,54,0]]}
["LP 2"]
[{"$f":"Auswertungsraster!A38","v":"Merkmal 1"}," +++"," ++"," +"," -"," --"," ---","?","Bemerkungen"]
[]
[{"$f":"Auswertungsraster!A40","v":"Indikatoren"},"ja","teils","nein","?",null,null,null,"Bemerkungen"]
[{"$f":"Auswertungsraster!A41","v":"M1 Indikator 1"}]
[{"$f":"Auswertungsraster!A42","v":"M1 Indikator 2"}]
[{"$f":"Auswertungsraster!A43","v":"M1 Indikator 3"}]
[{"$f":"Auswertungsraster!A44","v":"M1 Indikator 4"}]
[{"$f":"Auswertungsraster!A45","v":"M1 Indikator 5"}]
[{"$f":"Auswertungsraster!A46","v":"M1 Indikator 6"}]
[{"$f":"Auswertungsraster!A47","v":"M1 Indikator 7"}]
[{"$f":"Auswertungsraster!A48","v":"M1 Indikator 8"}]
[{"$f":"Auswertungsraster!A49","v":"M1 Indikator 9"}]
[{"$f":"Auswertungsraster!A50","v":"M1 Indikator 10"}]
[{"$f":"Auswertungsraster!A52","v":"Merkmal 2"}," +++"," ++"," +"," -"," --"," ---","?","Bemerkungen"]
[]
[{"$f":"Auswertungsraster!A54","v":"Indikatoren"},"ja","teils","nein","?",null,null,null,"Bemerkungen"]
[{"$f":"Auswertungsraster!A55","v":"M2 Indikator 1"}]
[{"$f":"Auswertungsraster!A56","v":"M2 Indikator 2"}]
[{"$f":"Auswertungsraster!A57","v":"M2 Indikator 3"}]
[{"$f":"Auswertungsraster!A58","v":"M2 Indikator 4"}]
[{"$f":"Auswertungsraster!A59","v":"M2 Indikator 5"}]
[{"$f":"Auswertungsraster!A60","v":"M2 Indikator 6"}]
[{"$f":"Auswertungsraster!A61","v":"M2 Indikator 7"}]
[{"$f":"Auswertungsraster!A62","v":"M2 Indikator 8"}]
[{"$f":"Auswertungsraster!A63","v":"M2 Indikator 9"}]
[{"$f":"Auswertungsraster!A64","v":"M2 Indikator 10"}]
[{"$f":"Auswertungsraster!A66","v":"Merkmal 3"}," +++"," ++"," +"," -"," --"," ---","?","Bemerkungen"]
[]
[{"$f":"Auswertungsraster!A68","v":"Indikatoren"},"ja","teils","nein","?",null,null,null,"Bemerkungen"]
[{"$f":"Auswertungsraster!A69","v":"M3 Indikator 1"}]
[{"$f":"Auswertungsraster!A70","v":"M3 Indikator 2"}]
[{"$f":"Auswertungsraster!A71","v":"M3 Indikator 3"}]
[{"$f":"Auswertungsraster!A72","v":"M3 Indikator 4"}]
[{"$f":"Auswertungsraster!A73","v":"M3 Indikator 5"}]
[{"$f":"Auswertungsraster!A74","v":"M3 Indikator 6"}]
[{"$f":"Auswertungsraster!A75","v":"M3 Indikator 7"}]
[{"$f":"Auswertungsraster!A76","v":"M3 Indikator 8"}]
[{"$f":"Auswertungsraster!A77","v":"M3 Indikator 9"}]
[{"$f":"Auswertungsraster!A78","v":"M3 Indikator 10"}]
[{"$f":"Auswertungsraster!A80","v":"Merkmal 4"}," +++"," ++"," +"," -"," --"," ---","?","Bemerkungen"]
[]
[{"$f":"Auswertungsraster!A82","v":"Indikatoren"},"ja","teils","nein","?",null,null,null,"Bemerkungen"]
[{"$f":"Auswertungsraster!A83","v":"M4 Indikator 1"}]
[{"$f":"Auswertungsraster!A84","v":"M4 Indikator 2"}]
[{"$f":"Auswertungsraster!A85","v":"M4 Indikator 3"}]
[{"$f":"Auswertungsraster!A86","v":"M4 Indikator 4"}]
[{"$f":"Auswertungsraster!A87","v":"M4 Indikator 5"}]
[{"$f":"Auswertungsraster!A88","v":"M4 Indikator 6"}]
[{"$f":"Auswertungsraster!A89","v":"M4 Indikator 7"}]
[{"$f":"Auswertungsraster!A90","v":"M4 Indikator 8"}]
[{"$f":"Auswertungsraster!A91","v":"M4 Indikator 9"}]
[{"$f":"Auswertungsraster!A92","v":"M4 Indikator 10"}]
[{"$f":"Auswertungsraster!A94","v":"Merkmal 5"}," +++"," ++"," +"," -"," --"," ---","?","Bemerkungen"]
[]
[{"$f":"Auswertungsraster!A96","v":"Indikatoren"},"ja","teils","nein","?",null,null,null,"Bemerkungen"]
[{"$f":"Auswertungsraster!A97","v":"M5 Indikator 1"}]
[{"$f":"Auswertungsraster!A98","v":"M5 Indikator 2"}]
[{"$f":"Auswertungsraster!A99","v":"M5 Indikator 3"}]
[{"$f":"Auswertungsraster!A100","v":"M5 Indikator 4"}]
[{"$f":"Auswertungsraster!A101","v":"M5 Indikator 5"}]
[{"$f":"Auswertungsraster!A102","v":"M5 Indikator 6"}]
[{"$f":"Auswertungsraster!A103","v":"M5 Indikator 7"}]
[{"$f":"Auswertungsraster!A104","v":"M5 Indikator 8"}]
[{"$f":"Auswertungsraster!A105","v":"M5 Indikator 9"}]
[{"$f":"Auswertungsraster!A106","v":"M5 Indikator 10"}]
[{"$f":"Auswertungsraster!A108","v":"Merkmal 6"}," +++"," ++"," +"," -"," --"," ---","?","Bemerkungen"]
[]
[{"$f":"Auswertungsraster!A110","v":"Indikatoren"},"ja","teils","nein","?",null,null,null,"Bemerkungen"]
[{"$f":"Auswertungsraster!A111","v":"M6 Indikator 1"}]
[{"$f":"Auswertungsraster!A112","v":"M6 Indikator 2"}]
[{"$f":"Auswertungsraster!A113","v":"M6 Indikator 3"}]
[{"$f":"Auswertungsraster!A114","v":"M6 Indikator 4"}]
[{"$f":"Auswertungsraster!A115","v":"M6 Indikator 5"}]
[{"$f":"Auswertungsraster!A116","v":"M6 Indikator 6"}]
[{"$f":"Auswertungsraster!A117","v":"M6 Indikator 7"}]
[{"$f":"Auswertungsraster!A118","v":"M6 Indikator 8"}]
[{"$f":"Auswertungsraster!A119","v":"M6 Indikator 9"}]
[{"$f":"Auswertungsraster!A120","v":"M6 Indikator 10"}]
[{"$f":"Auswertungsraster!A122","v":"Merkmal 7"}," +++"," ++"," +"," -"," --"," ---","?","Bemerkungen"]
[]
[{"$f":"Auswertungsraster!A124","v":"Indikatoren"},"ja","teils","nein","?",null,null,null,"Bemerkungen"]
[{"$f":"Auswertungsraster!A125","v":"M7 Indikator 1"}]
[{"$f":"Auswertungsraster!A126","v":"M7 Indikator 2"}]
[{"$f":"Auswertungsraster!A127","v":"M7 Indikator 3"}]
[{"$f":"Auswertungsraster!A128","v":"M7 Indikator 4"}]
[{"$f":"Auswertungsraster!A129","v":"M7 Indikator 5"}]
[{"$f":"Auswertungsraster!A130","v":"M7 Indikator 6"}]
[{"$f":"Auswertungsraster!A131","v":"M7 Indikator 7"}]
[{"$f":"Auswertungsraster!A132","v":"M7 Indikator 8"}]
[{"$f":"Auswertungsraster!A133","v":"M7 Indikator 9"}]
[{"$f":"Auswertungsraster!A134","v":"M7 Indikator 10"}]
[{"$f":"Auswertungsraster!A136","v":"Merkmal 8"}," +++"," ++"," +"," -"," --"," ---","?","Bemerkungen"]
[]
[{"$f":"Auswertungsraster!A138","v":"Indikatoren"},"ja","teils","nein","?",null,null,null,"Bemerkungen"]
[{"$f":"Auswertungsraster!A139","v":"M8 Indikator 1"}]
[{"$f":"Auswertungsraster!A140","v":"M8 Indikator 2"}]
[{"$f":"Auswertungsraster!A141","v":"M8 Indikator 3"}]
[{"$f":"Auswertungsraster!A142","v":"M8 Indikator 4"}]
[{"$f":"Auswertungsraster!A143","v":"M8 Indikator 5"}]
[{"$f":"Auswertungsraster!A144","v":"M8 Indikator 6"}]
[{"$f":"Auswertungsraster!A145","v":"M8 Indikator 7"}]
[{"$f":"Auswertungsraster!A146","v":"M8 Indikator 8"}]
[{"$f":"Auswertungsraster!A147","v":"M8 Indikator 9"}]
[{"$f":"Auswertungsraster!A148","v":"M8 Indikator 10"}]
[{"$f":"Auswertungsraster!A150","v":"Merkmal 9"}," +++"," ++"," +"," -"," --"," ---","?","Bemerkungen"]
[]
[{"$f":"Auswertungsraster!A152","v":"Indikatoren"},"ja","teils","nein","?",null,null,null,"Bemerkungen"]
[{"$f":"Auswertungsraster!A153","v":"M9 Indikator 1"}]
[{"$f":"Auswertungsraster!A154","v":"M9 Indikator 2"}]
[{"$f":"Auswertungsraster!A155","v":"M9 Indikator 3"}]
[{"$f":"Auswertungsraster!A156","v":"M9 Indikator 4"}]
[{"$f":"Auswertungsraster!A157","v":"M9 Indikator 5"}]
[{"$f":"Auswertungsraster!A158","v":"M9 Indikator 6"}]
[{"$f":"Auswertungsraster!A159","v":"M9 Indikator 7"}]
[{"$f":"Auswertungsraster!A160","v":"M9 Indikator 8"}]
[{"$f":"Auswertungsraster!A161","v":"M9 Indikator 9"}]
[{"$f":"Auswertungsraster!A162","v":"M9 Indikator 10"}]
[{"$f":"Auswertungsraster!A164","v":"Merkmal 10"}," +++"," ++"," +"," -"," --"," ---","?","Bemerkungen"]
[]
[{"$f":"Auswertungsraster!A166","v":"Indikatoren"},"ja","teils","nein","?",null,null,null,"Bemerkungen"]
[{"$f":"Auswertungsraster!A167","v":"M10 Indikator 1"}]
[{"$f":"Auswertungsraster!A168","v":"M10 Indikator 2"}]
[{"$f":"Auswertungsraster!A169","v":"M10 Indikator 3"}]
[{"$f":"Auswertungsraster!A170","v":"M10 Indikator 4"}]
[{"$f":"Auswertungsraster!A171","v":"M10 Indikator 5"}]
[{"$f":"Auswertungsraster!A172","v":"M10 Indikator 6"}]
[{"$f":"Auswertungsraster!A173","v":"M10 Indikator 7"}]
[{"$f":"Auswertungsraster!A174","v":"M10 Indikator 8"}]
[{"$f":"Auswertungsraster!A175","v":"M10 Indikator 9"}]
[{"$f":"Auswertungsraster!A176","v":"M10 Indikator 10"}]
["Bilanzierende Bewertung"," +++"," ++","+"," -"," --"," ---","?","Bemerkungen"]
[]
[{"$f":"A2","v":"Merkmal 1"},{"$f":"B3","v":0},0,0,0,0,0,0,0]
[{"$f":"A15","v":"Merkmal 2"},{"$f":"B16","v":0},0,0,0,0,0,0,0]
[{"$f":"A28","v":"Merkmal 3"},{"$f":"B29","v":0},0,0,0,0,0,0,0]
[{"$f":"A41","v":"Merkmal 4"},{"$f":"B42","v":0},0,0,0,0,0,0,0]
[{"$f":"A54","v":"Merkmal 5"},{"$f":"B55","v":0},0,0,0,0,0,0,0]
[{"$f":"A67","v":"Merkmal 6"},{"$f":"B68","v":0},{"$f":"C68","v":0},0,0,0,0,0,0]
[{"$f":"A80","v":"Merkmal 7"},{"$f":"B81","v":0},{"$f":"C81","v":0},0,0,0,0,0,0]
[{"$f":"A93","v":"Merkmal 8"},{"$f":"B94","v":0},{"$f":"C94","v":0},0,0,0,0,0,0]
[{"$f":"A106","v":"Merkmal 9"},{"$f":"B107","v":0},{"$f":"C107","v":0},0,0,0,0,0,0]
[{"$f":"A119","v":"Merkmal 10"},{"$f":"B120","v":0},{"$f":"C120","v":0},0,0,0,0,0,0]

{"sheet":"LP 3","index":4,"n_rows":143,"n_cols":9,"rows_kept":143,"cut":false,"hidden":false,"merged":[[79,0,80,0],[92,0,93,0],[105,0,106,0],[118,0,119,0],[131,0,132,0],[66,0,67,0],[1,0,2,0],[14,0,15,0],[27,0,28,0],[40,0,41,0],[53,0,54,0]]}
["LP 3"]
[{"$f":"Auswertungsraster!A38","v":"Merkmal 1"}," +++"," ++"," +"," -"," --"," ---","?","Bemerkungen"]
[]
[{"$f":"Auswertungsraster!A40","v":"Indikatoren"},"ja","teils","nein","?",null,null,null,"Bemerkungen"]
[{"$f":"Auswertungsraster!A41","v":"M1 Indikator 1"}]
[{"$f":"Auswertungsraster!A42","v":"M1 Indikator 2"}]
[{"$f":"Auswertungsraster!A43","v":"M1 Indikator 3"}]
[{"$f":"Auswertungsraster!A44","v":"M1 Indikator 4"}]
[{"$f":"Auswertungsraster!A45","v":"M1 Indikator 5"}]
[{"$f":"Auswertungsraster!A46","v":"M1 Indikator 6"}]
[{"$f":"Auswertungsraster!A47","v":"M1 Indikator 7"}]
[{"$f":"Auswertungsraster!A48","v":"M1 Indikator 8"}]
[{"$f":"Auswertungsraster!A49","v":"M1 Indikator 9"}]
[{"$f":"Auswertungsraster!A50","v":"M1 Indikator 10"}]
[{"$f":"Auswertungsraster!A52","v":"Merkmal 2"}," +++"," ++"," +"," -"," --"," ---","?","Bemerkungen"]
[]
[{"$f":"Auswertungsraster!A54","v":"Indikatoren"},"ja","teils","nein","?",null,null,null,"Bemerkungen"]
[{"$f":"Auswertungsraster!A55","v":"M2 Indikator 1"}]
[{"$f":"Auswertungsraster!A56","v":"M2 Indikator 2"}]
[{"$f":"Auswertungsraster!A57","v":"M2 Indikator 3"}]
[{"$f":"Auswertungsraster!A58","v":"M2 Indikator 4"}]
[{"$f":"Auswertungsraster!A59","v":"M2 Indikator 5"}]
[{"$f":"Auswertungsraster!A60","v":"M2 Indikator 6"}]
[{"$f":"Auswertungsraster!A61","v":"M2 Indikator 7"}]
[{"$f":"Auswertungsraster!A62","v":"M2 Indikator 8"}]
[{"$f":"Auswertungsraster!A63","v":"M2 Indikator 9"}]
[{"$f":"Auswertungsraster!A64","v":"M2 Indikator 10"}]
[{"$f":"Auswertungsraster!A66","v":"Merkmal 3"}," +++"," ++"," +"," -"," --"," ---","?","Bemerkungen"]
[]
[{"$f":"Auswertungsraster!A68","v":"Indikatoren"},"ja","teils","nein","?",null,null,null,"Bemerkungen"]
[{"$f":"Auswertungsraster!A69","v":"M3 Indikator 1"}]
[{"$f":"Auswertungsraster!A70","v":"M3 Indikator 2"}]
[{"$f":"Auswertungsraster!A71","v":"M3 Indikator 3"}]
[{"$f":"Auswertungsraster!A72","v":"M3 Indikator 4"}]
[{"$f":"Auswertungsraster!A73","v":"M3 Indikator 5"}]
[{"$f":"Auswertungsraster!A74","v":"M3 Indikator 6"}]
[{"$f":"Auswertungsraster!A75","v":"M3 Indikator 7"}]
[{"$f":"Auswertungsraster!A76","v":"M3 Indikator 8"}]
[{"$f":"Auswertungsraster!A77","v":"M3 Indikator 9"}]
[{"$f":"Auswertungsraster!A78","v":"M3 Indikator 10"}]
[{"$f":"Auswertungsraster!A80","v":"Merkmal 4"}," +++"," ++"," +"," -"," --"," ---","?","Bemerkungen"]
[]
[{"$f":"Auswertungsraster!A82","v":"Indikatoren"},"ja","teils","nein","?",null,null,null,"Bemerkungen"]
[{"$f":"Auswertungsraster!A83","v":"M4 Indikator 1"}]
[{"$f":"Auswertungsraster!A84","v":"M4 Indikator 2"}]
[{"$f":"Auswertungsraster!A85","v":"M4 Indikator 3"}]
[{"$f":"Auswertungsraster!A86","v":"M4 Indikator 4"}]
[{"$f":"Auswertungsraster!A87","v":"M4 Indikator 5"}]
[{"$f":"Auswertungsraster!A88","v":"M4 Indikator 6"}]
[{"$f":"Auswertungsraster!A89","v":"M4 Indikator 7"}]
[{"$f":"Auswertungsraster!A90","v":"M4 Indikator 8"}]
[{"$f":"Auswertungsraster!A91","v":"M4 Indikator 9"}]
[{"$f":"Auswertungsraster!A92","v":"M4 Indikator 10"}]
[{"$f":"Auswertungsraster!A94","v":"Merkmal 5"}," +++"," ++"," +"," -"," --"," ---","?","Bemerkungen"]
[]
[{"$f":"Auswertungsraster!A96","v":"Indikatoren"},"ja","teils","nein","?",null,null,null,"Bemerkungen"]
[{"$f":"Auswertungsraster!A97","v":"M5 Indikator 1"}]
[{"$f":"Auswertungsraster!A98","v":"M5 Indikator 2"}]
[{"$f":"Auswertungsraster!A99","v":"M5 Indikator 3"}]
[{"$f":"Auswertungsraster!A100","v":"M5 Indikator 4"}]
[{"$f":"Auswertungsraster!A101","v":"M5 Indikator 5"}]
[{"$f":"Auswertungsraster!A102","v":"M5 Indikator 6"}]
[{"$f":"Auswertungsraster!A103","v":"M5 Indikator 7"}]
[{"$f":"Auswertungsraster!A104","v":"M5 Indikator 8"}]
[{"$f":"Auswertungsraster!A105","v":"M5 Indikator 9"}]
[{"$f":"Auswertungsraster!A106","v":"M5 Indikator 10"}]
[{"$f":"Auswertungsraster!A108","v":"Merkmal 6"}," +++"," ++"," +"," -"," --"," ---","?","Bemerkungen"]
[]
[{"$f":"Auswertungsraster!A110","v":"Indikatoren"},"ja","teils","nein","?",null,null,null,"Bemerkungen"]
[{"$f":"Auswertungsraster!A111","v":"M6 Indikator 1"}]
[{"$f":"Auswertungsraster!A112","v":"M6 Indikator 2"}]
[{"$f":"Auswertungsraster!A113","v":"M6 Indikator 3"}]
[{"$f":"Auswertungsraster!A114","v":"M6 Indikator 4"}]
[{"$f":"Auswertungsraster!A115","v":"M6 Indikator 5"}]
[{"$f":"Auswertungsraster!A116","v":"M6 Indikator 6"}]
[{"$f":"Auswertungsraster!A117","v":"M6 Indikator 7"}]
[{"$f":"Auswertungsraster!A118","v":"M6 Indikator 8"}]
[{"$f":"Auswertungsraster!A119","v":"M6 Indikator 9"}]
[{"$f":"Auswertungsraster!A120","v":"M6 Indikator 10"}]
[{"$f":"Auswertungsraster!A122","v":"Merkmal 7"}," +++"," ++"," +"," -"," --"," ---","?","Bemerkungen"]
[]
[{"$f":"Auswertungsraster!A124","v":"Indikatoren"},"ja","teils","nein","?",null,null,null,"Bemerkungen"]
[{"$f":"Auswertungsraster!A125","v":"M7 Indikator 1"}]
[{"$f":"Auswertungsraster!A126","v":"M7 Indikator 2"}]
[{"$f":"Auswertungsraster!A127","v":"M7 Indikator 3"}]
[{"$f":"Auswertungsraster!A128","v":"M7 Indikator 4"}]
[{"$f":"Auswertungsraster!A129","v":"M7 Indikator 5"}]
[{"$f":"Auswertungsraster!A130","v":"M7 Indikator 6"}]
[{"$f":"Auswertungsraster!A131","v":"M7 Indikator 7"}]
[{"$f":"Auswertungsraster!A132","v":"M7 Indikator 8"}]
[{"$f":"Auswertungsraster!A133","v":"M7 Indikator 9"}]
[{"$f":"Auswertungsraster!A134","v":"M7 Indikator 10"}]
[{"$f":"Auswertungsraster!A136","v":"Merkmal 8"}," +++"," ++"," +"," -"," --"," ---","?","Bemerkungen"]
[]
[{"$f":"Auswertungsraster!A138","v":"Indikatoren"},"ja","teils","nein","?",null,null,null,"Bemerkungen"]
[{"$f":"Auswertungsraster!A139","v":"M8 Indikator 1"}]
[{"$f":"Auswertungsraster!A140","v":"M8 Indikator 2"}]
[{"$f":"Auswertungsraster!A141","v":"M8 Indikator 3"}]
[{"$f":"Auswertungsraster!A142","v":"M8 Indikator 4"}]
[{"$f":"Auswertungsraster!A143","v":"M8 Indikator 5"}]
[{"$f":"Auswertungsraster!A144","v":"M8 Indikator 6"}]
[{"$f":"Auswertungsraster!A145","v":"M8 Indikator 7"}]
[{"$f":"Auswertungsraster!A146","v":"M8 Indikator 8"}]
[{"$f":"Auswertungsraster!A147","v":"M8 Indikator 9"}]
[{"$f":"Auswertungsraster!A148","v":"M8 Indikator 10"}]
[{"$f":"Auswertungsraster!A150","v":"Merkmal 9"}," +++"," ++"," +"," -"," --"," ---","?","Bemerkungen"]
[]
[{"$f":"Auswertungsraster!A152","v":"Indikatoren"},"ja","teils","nein","?",null,null,null,"Bemerkungen"]
[{"$f":"Auswertungsraster!A153","v":"M9 Indikator 1"}]
[{"$f":"Auswertungsraster!A154","v":"M9 Indikator 2"}]
[{"$f":"Auswertungsraster!A155","v":"M9 Indikator 3"}]
[{"$f":"Auswertungsraster!A156","v":"M9 Indikator 4"}]
[{"$f":"Auswertungsraster!A157","v":"M9 Indikator 5"}]
[{"$f":"Auswertungsraster!A158","v":"M9 Indikator 6"}]
[{"$f":"Auswertungsraster!A159","v":"M9 Indikator 7"}]
[{"$f":"Auswertungsraster!A160","v":"M9 Indikator 8"}]
[{"$f":"Auswertungsraster!A161","v":"M9 Indikator 9"}]
[{"$f":"Auswertungsraster!A162","v":"M9 Indikator 10"}]
[{"$f":"Auswertungsraster!A164","v":"Merkmal 10"}," +++"," ++"," +"," -"," --"," ---","?","Bemerkungen"]
[]
[{"$f":"Auswertungsraster!A166","v":"Indikatoren"},"ja","teils","nein","?",null,null,null,"Bemerkungen"]
[{"$f":"Auswertungsraster!A167","v":"M10 Indikator 1"}]
[{"$f":"Auswertungsraster!A168","v":"M10 Indikator 2"}]
[{"$f":"Auswertungsraster!A169","v":"M10 Indikator 3"}]
[{"$f":"Auswertungsraster!A170","v":"M10 Indikator 4"}]
[{"$f":"Auswertungsraster!A171","v":"M10 Indikator 5"}]
[{"$f":"Auswertungsraster!A172","v":"M10 Indikator 6"}]
[{"$f":"Auswertungsraster!A173","v":"M10 Indikator 7"}]
[{"$f":"Auswertungsraster!A174","v":"M10 Indikator 8"}]
[{"$f":"Auswertungsraster!A175","v":"M10 Indikator 9"}]
[{"$f":"Auswertungsraster!A176","v":"M10 Indikator 10"}]
["Bilanzierende Bewertung"," +++"," ++","+"," -"," --"," ---","?","Bemerkungen"]
[]
[{"$f":"A2","v":"Merkmal 1"},{"$f":"B3","v":0},0,0,0,0,0,0,0]
[{"$f":"A15","v":"Merkmal 2"},{"$f":"B16","v":0},0,0,0,0,0,0,0]
[{"$f":"A28","v":"Merkmal 3"},{"$f":"B29","v":0},0,0,0,0,0,0,0]
[{"$f":"A41","v":"Merkmal 4"},{"$f":"B42","v":0},0,0,0,0,0,0,0]
[{"$f":"A54","v":"Merkmal 5"},{"$f":"B55","v":0},0,0,0,0,0,0,0]
[{"$f":"A67","v":"Merkmal 6"},{"$f":"B68","v":0},{"$f":"C68","v":0},0,0,0,0,0,0]
[{"$f":"A80","v":"Merkmal 7"},{"$f":"B81","v":0},{"$f":"C81","v":0},0,0,0,0,0,0]
[{"$f":"A93","v":"Merkmal 8"},{"$f":"B94","v":0},{"$f":"C94","v":0},0,0,0,0,0,0]
[{"$f":"A106","v":"Merkmal 9"},{"$f":"B107","v":0},{"$f":"C107","v":0},0,0,0,0,0,0]
[{"$f":"A119","v":"Merkmal 10"},{"$f":"B120","v":0},{"$f":"C120","v":0},0,0,0,0,0,0]

{"sheet":"LP 4","index":5,"n_rows":143,"n_cols":9,"rows_kept":143,"cut":false,"hidden":false,"merged":[[79,0,80,0],[92,0,93,0],[105,0,106,0],[118,0,119,0],[131,0,132,0],[66,0,67,0],[1,0,2,0],[14,0,15,0],[27,0,28,0],[40,0,41,0],[53,0,54,0]]}
["LP 4"]
[{"$f":"Auswertungsraster!A38","v":"Merkmal 1"}," +++"," ++"," +"," -"," --"," ---","?","Bemerkungen"]
[]
[{"$f":"Auswertungsraster!A40","v":"Indikatoren"},"ja","teils","nein","?",null,null,null,"Bemerkungen"]
[{"$f":"Auswertungsraster!A41","v":"M1 Indikator 1"}]
[{"$f":"Auswertungsraster!A42","v":"M1 Indikator 2"}]
[{"$f":"Auswertungsraster!A43","v":"M1 Indikator 3"}]
[{"$f":"Auswertungsraster!A44","v":"M1 Indikator 4"}]
[{"$f":"Auswertungsraster!A45","v":"M1 Indikator 5"}]
[{"$f":"Auswertungsraster!A46","v":"M1 Indikator 6"}]
[{"$f":"Auswertungsraster!A47","v":"M1 Indikator 7"}]
[{"$f":"Auswertungsraster!A48","v":"M1 Indikator 8"}]
[{"$f":"Auswertungsraster!A49","v":"M1 Indikator 9"}]
[{"$f":"Auswertungsraster!A50","v":"M1 Indikator 10"}]
[{"$f":"Auswertungsraster!A52","v":"Merkmal 2"}," +++"," ++"," +"," -"," --"," ---","?","Bemerkungen"]
[]
[{"$f":"Auswertungsraster!A54","v":"Indikatoren"},"ja","teils","nein","?",null,null,null,"Bemerkungen"]
[{"$f":"Auswertungsraster!A55","v":"M2 Indikator 1"}]
[{"$f":"Auswertungsraster!A56","v":"M2 Indikator 2"}]
[{"$f":"Auswertungsraster!A57","v":"M2 Indikator 3"}]
[{"$f":"Auswertungsraster!A58","v":"M2 Indikator 4"}]
[{"$f":"Auswertungsraster!A59","v":"M2 Indikator 5"}]
[{"$f":"Auswertungsraster!A60","v":"M2 Indikator 6"}]
[{"$f":"Auswertungsraster!A61","v":"M2 Indikator 7"}]
[{"$f":"Auswertungsraster!A62","v":"M2 Indikator 8"}]
[{"$f":"Auswertungsraster!A63","v":"M2 Indikator 9"}]
[{"$f":"Auswertungsraster!A64","v":"M2 Indikator 10"}]
[{"$f":"Auswertungsraster!A66","v":"Merkmal 3"}," +++"," ++"," +"," -"," --"," ---","?","Bemerkungen"]
[]
[{"$f":"Auswertungsraster!A68","v":"Indikatoren"},"ja","teils","nein","?",null,null,null,"Bemerkungen"]
[{"$f":"Auswertungsraster!A69","v":"M3 Indikator 1"}]
[{"$f":"Auswertungsraster!A70","v":"M3 Indikator 2"}]
[{"$f":"Auswertungsraster!A71","v":"M3 Indikator 3"}]
[{"$f":"Auswertungsraster!A72","v":"M3 Indikator 4"}]
[{"$f":"Auswertungsraster!A73","v":"M3 Indikator 5"}]
[{"$f":"Auswertungsraster!A74","v":"M3 Indikator 6"}]
[{"$f":"Auswertungsraster!A75","v":"M3 Indikator 7"}]
[{"$f":"Auswertungsraster!A76","v":"M3 Indikator 8"}]
[{"$f":"Auswertungsraster!A77","v":"M3 Indikator 9"}]
[{"$f":"Auswertungsraster!A78","v":"M3 Indikator 10"}]
[{"$f":"Auswertungsraster!A80","v":"Merkmal 4"}," +++"," ++"," +"," -"," --"," ---","?","Bemerkungen"]
[]
[{"$f":"Auswertungsraster!A82","v":"Indikatoren"},"ja","teils","nein","?",null,null,null,"Bemerkungen"]
[{"$f":"Auswertungsraster!A83","v":"M4 Indikator 1"}]
[{"$f":"Auswertungsraster!A84","v":"M4 Indikator 2"}]
[{"$f":"Auswertungsraster!A85","v":"M4 Indikator 3"}]
[{"$f":"Auswertungsraster!A86","v":"M4 Indikator 4"}]
[{"$f":"Auswertungsraster!A87","v":"M4 Indikator 5"}]
[{"$f":"Auswertungsraster!A88","v":"M4 Indikator 6"}]
[{"$f":"Auswertungsraster!A89","v":"M4 Indikator 7"}]
[{"$f":"Auswertungsraster!A90","v":"M4 Indikator 8"}]
[{"$f":"Auswertungsraster!A91","v":"M4 Indikator 9"}]
[{"$f":"Auswertungsraster!A92","v":"M4 Indikator 10"}]
[{"$f":"Auswertungsraster!A94","v":"Merkmal 5"}," +++"," ++"," +"," -"," --"," ---","?","Bemerkungen"]
[]
[{"$f":"Auswertungsraster!A96","v":"Indikatoren"},"ja","teils","nein","?",null,null,null,"Bemerkungen"]
[{"$f":"Auswertungsraster!A97","v":"M5 Indikator 1"}]
[{"$f":"Auswertungsraster!A98","v":"M5 Indikator 2"}]
[{"$f":"Auswertungsraster!A99","v":"M5 Indikator 3"}]
[{"$f":"Auswertungsraster!A100","v":"M5 Indikator 4"}]
[{"$f":"Auswertungsraster!A101","v":"M5 Indikator 5"}]
[{"$f":"Auswertungsraster!A102","v":"M5 Indikator 6"}]
[{"$f":"Auswertungsraster!A103","v":"M5 Indikator 7"}]
[{"$f":"Auswertungsraster!A104","v":"M5 Indikator 8"}]
[{"$f":"Auswertungsraster!A105","v":"M5 Indikator 9"}]
[{"$f":"Auswertungsraster!A106","v":"M5 Indikator 10"}]
[{"$f":"Auswertungsraster!A108","v":"Merkmal 6"}," +++"," ++"," +"," -"," --"," ---","?","Bemerkungen"]
[]
[{"$f":"Auswertungsraster!A110","v":"Indikatoren"},"ja","teils","nein","?",null,null,null,"Bemerkungen"]
[{"$f":"Auswertungsraster!A111","v":"M6 Indikator 1"}]
[{"$f":"Auswertungsraster!A112","v":"M6 Indikator 2"}]
[{"$f":"Auswertungsraster!A113","v":"M6 Indikator 3"}]
[{"$f":"Auswertungsraster!A114","v":"M6 Indikator 4"}]
[{"$f":"Auswertungsraster!A115","v":"M6 Indikator 5"}]
[{"$f":"Auswertungsraster!A116","v":"M6 Indikator 6"}]
[{"$f":"Auswertungsraster!A117","v":"M6 Indikator 7"}]
[{"$f":"Auswertungsraster!A118","v":"M6 Indikator 8"}]
[{"$f":"Auswertungsraster!A119","v":"M6 Indikator 9"}]
[{"$f":"Auswertungsraster!A120","v":"M6 Indikator 10"}]
[{"$f":"Auswertungsraster!A122","v":"Merkmal 7"}," +++"," ++"," +"," -"," --"," ---","?","Bemerkungen"]
[]
[{"$f":"Auswertungsraster!A124","v":"Indikatoren"},"ja","teils","nein","?",null,null,null,"Bemerkungen"]
[{"$f":"Auswertungsraster!A125","v":"M7 Indikator 1"}]
[{"$f":"Auswertungsraster!A126","v":"M7 Indikator 2"}]
[{"$f":"Auswertungsraster!A127","v":"M7 Indikator 3"}]
[{"$f":"Auswertungsraster!A128","v":"M7 Indikator 4"}]
[{"$f":"Auswertungsraster!A129","v":"M7 Indikator 5"}]
[{"$f":"Auswertungsraster!A130","v":"M7 Indikator 6"}]
[{"$f":"Auswertungsraster!A131","v":"M7 Indikator 7"}]
[{"$f":"Auswertungsraster!A132","v":"M7 Indikator 8"}]
[{"$f":"Auswertungsraster!A133","v":"M7 Indikator 9"}]
[{"$f":"Auswertungsraster!A134","v":"M7 Indikator 10"}]
[{"$f":"Auswertungsraster!A136","v":"Merkmal 8"}," +++"," ++"," +"," -"," --"," ---","?","Bemerkungen"]
[]
[{"$f":"Auswertungsraster!A138","v":"Indikatoren"},"ja","teils","nein","?",null,null,null,"Bemerkungen"]
[{"$f":"Auswertungsraster!A139","v":"M8 Indikator 1"}]
[{"$f":"Auswertungsraster!A140","v":"M8 Indikator 2"}]
[{"$f":"Auswertungsraster!A141","v":"M8 Indikator 3"}]
[{"$f":"Auswertungsraster!A142","v":"M8 Indikator 4"}]
[{"$f":"Auswertungsraster!A143","v":"M8 Indikator 5"}]
[{"$f":"Auswertungsraster!A144","v":"M8 Indikator 6"}]
[{"$f":"Auswertungsraster!A145","v":"M8 Indikator 7"}]
[{"$f":"Auswertungsraster!A146","v":"M8 Indikator 8"}]
[{"$f":"Auswertungsraster!A147","v":"M8 Indikator 9"}]
[{"$f":"Auswertungsraster!A148","v":"M8 Indikator 10"}]
[{"$f":"Auswertungsraster!A150","v":"Merkmal 9"}," +++"," ++"," +"," -"," --"," ---","?","Bemerkungen"]
[]
[{"$f":"Auswertungsraster!A152","v":"Indikatoren"},"ja","teils","nein","?",null,null,null,"Bemerkungen"]
[{"$f":"Auswertungsraster!A153","v":"M9 Indikator 1"}]
[{"$f":"Auswertungsraster!A154","v":"M9 Indikator 2"}]
[{"$f":"Auswertungsraster!A155","v":"M9 Indikator 3"}]
[{"$f":"Auswertungsraster!A156","v":"M9 Indikator 4"}]
[{"$f":"Auswertungsraster!A157","v":"M9 Indikator 5"}]
[{"$f":"Auswertungsraster!A158","v":"M9 Indikator 6"}]
[{"$f":"Auswertungsraster!A159","v":"M9 Indikator 7"}]
[{"$f":"Auswertungsraster!A160","v":"M9 Indikator 8"}]
[{"$f":"Auswertungsraster!A161","v":"M9 Indikator 9"}]
[{"$f":"Auswertungsraster!A162","v":"M9 Indikator 10"}]
[{"$f":"Auswertungsraster!A164","v":"Merkmal 10"}," +++"," ++"," +"," -"," --"," ---","?","Bemerkungen"]
[]
[{"$f":"Auswertungsraster!A166","v":"Indikatoren"},"ja","teils","nein","?",null,null,null,"Bemerkungen"]
[{"$f":"Auswertungsraster!A167","v":"M10 Indikator 1"}]
[{"$f":"Auswertungsraster!A168","v":"M10 Indikator 2"}]
[{"$f":"Auswertungsraster!A169","v":"M10 Indikator 3"}]
[{"$f":"Auswertungsraster!A170","v":"M10 Indikator 4"}]
[{"$f":"Auswertungsraster!A171","v":"M10 Indikator 5"}]
[{"$f":"Auswertungsraster!A172","v":"M10 Indikator 6"}]
[{"$f":"Auswertungsraster!A173","v":"M10 Indikator 7"}]
[{"$f":"Auswertungsraster!A174","v":"M10 Indikator 8"}]
[{"$f":"Auswertungsraster!A175","v":"M10 Indikator 9"}]
[{"$f":"Auswertungsraster!A176","v":"M10 Indikator 10"}]
["Bilanzierende Bewertung"," +++"," ++","+"," -"," --"," ---","?","Bemerkungen"]
[]
[{"$f":"A2","v":"Merkmal 1"},{"$f":"B3","v":0},0,0,0,0,0,0,0]
[{"$f":"A15","v":"Merkmal 2"},{"$f":"B16","v":0},0,0,0,0,0,0,0]
[{"$f":"A28","v":"Merkmal 3"},{"$f":"B29","v":0},0,0,0,0,0,0,0]
[{"$f":"A41","v":"Merkmal 4"},{"$f":"B42","v":0},0,0,0,0,0,0,0]
[{"$f":"A54","v":"Merkmal 5"},{"$f":"B55","v":0},0,0,0,0,0,0,0]
[{"$f":"A67","v":"Merkmal 6"},{"$f":"B68","v":0},{"$f":"C68","v":0},0,0,0,0,0,0]
[{"$f":"A80","v":"Merkmal 7"},{"$f":"B81","v":0},{"$f":"C81","v":0},0,0,0,0,0,0]
[{"$f":"A93","v":"Merkmal 8"},{"$f":"B94","v":0},{"$f":"C94","v":0},0,0,0,0,0,0]
[{"$f":"A106","v":"Merkmal 9"},{"$f":"B107","v":0},{"$f":"C107","v":0},0,0,0,0,0,0]
[{"$f":"A119","v":"Merkmal 10"},{"$f":"B120","v":0},{"$f":"C120","v":0},0,0,0,0,0,0]

{"sheet":"LP 5","index":6,"n_rows":143,"n_cols":9,"rows_kept":143,"cut":false,"hidden":false,"merged":[[79,0,80,0],[92,0,93,0],[105,0,106,0],[118,0,119,0],[131,0,132,0],[66,0,67,0],[1,0,2,0],[14,0,15,0],[27,0,28,0],[40,0,41,0],[53,0,54,0]]}
["LP 5"]
[{"$f":"Auswertungsraster!A38","v":"Merkmal 1"}," +++"," ++"," +"," -"," --"," ---","?","Bemerkungen"]
[]
[{"$f":"Auswertungsraster!A40","v":"Indikatoren"},"ja","teils","nein","?",null,null,null,"Bemerkungen"]
[{"$f":"Auswertungsraster!A41","v":"M1 Indikator 1"}]
[{"$f":"Auswertungsraster!A42","v":"M1 Indikator 2"}]
[{"$f":"Auswertungsraster!A43","v":"M1 Indikator 3"}]
[{"$f":"Auswertungsraster!A44","v":"M1 Indikator 4"}]
[{"$f":"Auswertungsraster!A45","v":"M1 Indikator 5"}]
[{"$f":"Auswertungsraster!A46","v":"M1 Indikator 6"}]
[{"$f":"Auswertungsraster!A47","v":"M1 Indikator 7"}]
[{"$f":"Auswertungsraster!A48","v":"M1 Indikator 8"}]
[{"$f":"Auswertungsraster!A49","v":"M1 Indikator 9"}]
[{"$f":"Auswertungsraster!A50","v":"M1 Indikator 10"}]
[{"$f":"Auswertungsraster!A52","v":"Merkmal 2"}," +++"," ++"," +"," -"," --"," ---","?","Bemerkungen"]
[]
[{"$f":"Auswertungsraster!A54","v":"Indikatoren"},"ja","teils","nein","?",null,null,null,"Bemerkungen"]
[{"$f":"Auswertungsraster!A55","v":"M2 Indikator 1"}]
[{"$f":"Auswertungsraster!A56","v":"M2 Indikator 2"}]
[{"$f":"Auswertungsraster!A57","v":"M2 Indikator 3"}]
[{"$f":"Auswertungsraster!A58","v":"M2 Indikator 4"}]
[{"$f":"Auswertungsraster!A59","v":"M2 Indikator 5"}]
[{"$f":"Auswertungsraster!A60","v":"M2 Indikator 6"}]
[{"$f":"Auswertungsraster!A61","v":"M2 Indikator 7"}]
[{"$f":"Auswertungsraster!A62","v":"M2 Indikator 8"}]
[{"$f":"Auswertungsraster!A63","v":"M2 Indikator 9"}]
[{"$f":"Auswertungsraster!A64","v":"M2 Indikator 10"}]
[{"$f":"Auswertungsraster!A66","v":"Merkmal 3"}," +++"," ++"," +"," -"," --"," ---","?","Bemerkungen"]
[]
[{"$f":"Auswertungsraster!A68","v":"Indikatoren"},"ja","teils","nein","?",null,null,null,"Bemerkungen"]
[{"$f":"Auswertungsraster!A69","v":"M3 Indikator 1"}]
[{"$f":"Auswertungsraster!A70","v":"M3 Indikator 2"}]
[{"$f":"Auswertungsraster!A71","v":"M3 Indikator 3"}]
[{"$f":"Auswertungsraster!A72","v":"M3 Indikator 4"}]
[{"$f":"Auswertungsraster!A73","v":"M3 Indikator 5"}]
[{"$f":"Auswertungsraster!A74","v":"M3 Indikator 6"}]
[{"$f":"Auswertungsraster!A75","v":"M3 Indikator 7"}]
[{"$f":"Auswertungsraster!A76","v":"M3 Indikator 8"}]
[{"$f":"Auswertungsraster!A77","v":"M3 Indikator 9"}]
[{"$f":"Auswertungsraster!A78","v":"M3 Indikator 10"}]
[{"$f":"Auswertungsraster!A80","v":"Merkmal 4"}," +++"," ++"," +"," -"," --"," ---","?","Bemerkungen"]
[]
[{"$f":"Auswertungsraster!A82","v":"Indikatoren"},"ja","teils","nein","?",null,null,null,"Bemerkungen"]
[{"$f":"Auswertungsraster!A83","v":"M4 Indikator 1"}]
[{"$f":"Auswertungsraster!A84","v":"M4 Indikator 2"}]
[{"$f":"Auswertungsraster!A85","v":"M4 Indikator 3"}]
[{"$f":"Auswertungsraster!A86","v":"M4 Indikator 4"}]
[{"$f":"Auswertungsraster!A87","v":"M4 Indikator 5"}]
[{"$f":"Auswertungsraster!A88","v":"M4 Indikator 6"}]
[{"$f":"Auswertungsraster!A89","v":"M4 Indikator 7"}]
[{"$f":"Auswertungsraster!A90","v":"M4 Indikator 8"}]
[{"$f":"Auswertungsraster!A91","v":"M4 Indikator 9"}]
[{"$f":"Auswertungsraster!A92","v":"M4 Indikator 10"}]
[{"$f":"Auswertungsraster!A94","v":"Merkmal 5"}," +++"," ++"," +"," -"," --"," ---","?","Bemerkungen"]
[]
[{"$f":"Auswertungsraster!A96","v":"Indikatoren"},"ja","teils","nein","?",null,null,null,"Bemerkungen"]
[{"$f":"Auswertungsraster!A97","v":"M5 Indikator 1"}]
[{"$f":"Auswertungsraster!A98","v":"M5 Indikator 2"}]
[{"$f":"Auswertungsraster!A99","v":"M5 Indikator 3"}]
[{"$f":"Auswertungsraster!A100","v":"M5 Indikator 4"}]
[{"$f":"Auswertungsraster!A101","v":"M5 Indikator 5"}]
[{"$f":"Auswertungsraster!A102","v":"M5 Indikator 6"}]
[{"$f":"Auswertungsraster!A103","v":"M5 Indikator 7"}]
[{"$f":"Auswertungsraster!A104","v":"M5 Indikator 8"}]
[{"$f":"Auswertungsraster!A105","v":"M5 Indikator 9"}]
[{"$f":"Auswertungsraster!A106","v":"M5 Indikator 10"}]
[{"$f":"Auswertungsraster!A108","v":"Merkmal 6"}," +++"," ++"," +"," -"," --"," ---","?","Bemerkungen"]
[]
[{"$f":"Auswertungsraster!A110","v":"Indikatoren"},"ja","teils","nein","?",null,null,null,"Bemerkungen"]
[{"$f":"Auswertungsraster!A111","v":"M6 Indikator 1"}]
[{"$f":"Auswertungsraster!A112","v":"M6 Indikator 2"}]
[{"$f":"Auswertungsraster!A113","v":"M6 Indikator 3"}]
[{"$f":"Auswertungsraster!A114","v":"M6 Indikator 4"}]
[{"$f":"Auswertungsraster!A115","v":"M6 Indikator 5"}]
[{"$f":"Auswertungsraster!A116","v":"M6 Indikator 6"}]
[{"$f":"Auswertungsraster!A117","v":"M6 Indikator 7"}]
[{"$f":"Auswertungsraster!A118","v":"M6 Indikator 8"}]
[{"$f":"Auswertungsraster!A119","v":"M6 Indikator 9"}]
[{"$f":"Auswertungsraster!A120","v":"M6 Indikator 10"}]
[{"$f":"Auswertungsraster!A122","v":"Merkmal 7"}," +++"," ++"," +"," -"," --"," ---","?","Bemerkungen"]
[]
[{"$f":"Auswertungsraster!A124","v":"Indikatoren"},"ja","teils","nein","?",null,null,null,"Bemerkungen"]
[{"$f":"Auswertungsraster!A125","v":"M7 Indikator 1"}]
[{"$f":"Auswertungsraster!A126","v":"M7 Indikator 2"}]
[{"$f":"Auswertungsraster!A127","v":"M7 Indikator 3"}]
[{"$f":"Auswertungsraster!A128","v":"M7 Indikator 4"}]
[{"$f":"Auswertungsraster!A129","v":"M7 Indikator 5"}]
[{"$f":"Auswertungsraster!A130","v":"M7 Indikator 6"}]
[{"$f":"Auswertungsraster!A131","v":"M7 Indikator 7"}]
[{"$f":"Auswertungsraster!A132","v":"M7 Indikator 8"}]
[{"$f":"Auswertungsraster!A133","v":"M7 Indikator 9"}]
[{"$f":"Auswertungsraster!A134","v":"M7 Indikator 10"}]
[{"$f":"Auswertungsraster!A136","v":"Merkmal 8"}," +++"," ++"," +"," -"," --"," ---","?","Bemerkungen"]
[]
[{"$f":"Auswertungsraster!A138","v":"Indikatoren"},"ja","teils","nein","?",null,null,null,"Bemerkungen"]
[{"$f":"Auswertungsraster!A139","v":"M8 Indikator 1"}]
[{"$f":"Auswertungsraster!A140","v":"M8 Indikator 2"}]
[{"$f":"Auswertungsraster!A141","v":"M8 Indikator 3"}]
[{"$f":"Auswertungsraster!A142","v":"M8 Indikator 4"}]
[{"$f":"Auswertungsraster!A143","v":"M8 Indikator 5"}]
[{"$f":"Auswertungsraster!A144","v":"M8 Indikator 6"}]
[{"$f":"Auswertungsraster!A145","v":"M8 Indikator 7"}]
[{"$f":"Auswertungsraster!A146","v":"M8 Indikator 8"}]
[{"$f":"Auswertungsraster!A147","v":"M8 Indikator 9"}]
[{"$f":"Auswertungsraster!A148","v":"M8 Indikator 10"}]
[{"$f":"Auswertungsraster!A150","v":"Merkmal 9"}," +++"," ++"," +"," -"," --"," ---","?","Bemerkungen"]
[]
[{"$f":"Auswertungsraster!A152","v":"Indikatoren"},"ja","teils","nein","?",null,null,null,"Bemerkungen"]
[{"$f":"Auswertungsraster!A153","v":"M9 Indikator 1"}]
[{"$f":"Auswertungsraster!A154","v":"M9 Indikator 2"}]
[{"$f":"Auswertungsraster!A155","v":"M9 Indikator 3"}]
[{"$f":"Auswertungsraster!A156","v":"M9 Indikator 4"}]
[{"$f":"Auswertungsraster!A157","v":"M9 Indikator 5"}]
[{"$f":"Auswertungsraster!A158","v":"M9 Indikator 6"}]
[{"$f":"Auswertungsraster!A159","v":"M9 Indikator 7"}]
[{"$f":"Auswertungsraster!A160","v":"M9 Indikator 8"}]
[{"$f":"Auswertungsraster!A161","v":"M9 Indikator 9"}]
[{"$f":"Auswertungsraster!A162","v":"M9 Indikator 10"}]
[{"$f":"Auswertungsraster!A164","v":"Merkmal 10"}," +++"," ++"," +"," -"," --"," ---","?","Bemerkungen"]
[]
[{"$f":"Auswertungsraster!A166","v":"Indikatoren"},"ja","teils","nein","?",null,null,null,"Bemerkungen"]
[{"$f":"Auswertungsraster!A167","v":"M10 Indikator 1"}]
[{"$f":"Auswertungsraster!A168","v":"M10 Indikator 2"}]
[{"$f":"Auswertungsraster!A169","v":"M10 Indikator 3"}]
[{"$f":"Auswertungsraster!A170","v":"M10 Indikator 4"}]
[{"$f":"Auswertungsraster!A171","v":"M10 Indikator 5"}]
[{"$f":"Auswertungsraster!A172","v":"M10 Indikator 6"}]
[{"$f":"Auswertungsraster!A173","v":"M10 Indikator 7"}]
[{"$f":"Auswertungsraster!A174","v":"M10 Indikator 8"}]
[{"$f":"Auswertungsraster!A175","v":"M10 Indikator 9"}]
[{"$f":"Auswertungsraster!A176","v":"M10 Indikator 10"}]
["Bilanzierende Bewertung"," +++"," ++","+"," -"," --"," ---","?","Bemerkungen"]
[]
[{"$f":"A2","v":"Merkmal 1"},{"$f":"B3","v":0},0,0,0,0,0,0,0]
[{"$f":"A15","v":"Merkmal 2"},{"$f":"B16","v":0},0,0,0,0,0,0,0]
[{"$f":"A28","v":"Merkmal 3"},{"$f":"B29","v":0},0,0,0,0,0,0,0]
[{"$f":"A41","v":"Merkmal 4"},{"$f":"B42","v":0},0,0,0,0,0,0,0]
[{"$f":"A54","v":"Merkmal 5"},{"$f":"B55","v":0},0,0,0,0,0,0,0]
[{"$f":"A67","v":"Merkmal 6"},{"$f":"B68","v":0},{"$f":"C68","v":0},0,0,0,0,0,0]
[{"$f":"A80","v":"Merkmal 7"},{"$f":"B81","v":0},{"$f":"C81","v":0},0,0,0,0,0,0]
[{"$f":"A93","v":"Merkmal 8"},{"$f":"B94","v":0},{"$f":"C94","v":0},0,0,0,0,0,0]
[{"$f":"A106","v":"Merkmal 9"},{"$f":"B107","v":0},{"$f":"C107","v":0},0,0,0,0,0,0]
[{"$f":"A119","v":"Merkmal 10"},{"$f":"B120","v":0},{"$f":"C120","v":0},0,0,0,0,0,0]

{"sheet":"LP 6","index":7,"n_rows":143,"n_cols":9,"rows_kept":143,"cut":false,"hidden":false,"merged":[[79,0,80,0],[92,0,93,0],[105,0,106,0],[118,0,119,0],[131,0,132,0],[66,0,67,0],[1,0,2,0],[14,0,15,0],[27,0,28,0],[40,0,41,0],[53,0,54,0]]}
["LP 6"]
[{"$f":"Auswertungsraster!A38","v":"Merkmal 1"}," +++"," ++"," +"," -"," --"," ---","?","Bemerkungen"]
[]
[{"$f":"Auswertungsraster!A40","v":"Indikatoren"},"ja","teils","nein","?",null,null,null,"Bemerkungen"]
[{"$f":"Auswertungsraster!A41","v":"M1 Indikator 1"}]
[{"$f":"Auswertungsraster!A42","v":"M1 Indikator 2"}]
[{"$f":"Auswertungsraster!A43","v":"M1 Indikator 3"}]
[{"$f":"Auswertungsraster!A44","v":"M1 Indikator 4"}]
[{"$f":"Auswertungsraster!A45","v":"M1 Indikator 5"}]
[{"$f":"Auswertungsraster!A46","v":"M1 Indikator 6"}]
[{"$f":"Auswertungsraster!A47","v":"M1 Indikator 7"}]
[{"$f":"Auswertungsraster!A48","v":"M1 Indikator 8"}]
[{"$f":"Auswertungsraster!A49","v":"M1 Indikator 9"}]
[{"$f":"Auswertungsraster!A50","v":"M1 Indikator 10"}]
[{"$f":"Auswertungsraster!A52","v":"Merkmal 2"}," +++"," ++"," +"," -"," --"," ---","?","Bemerkungen"]
[]
[{"$f":"Auswertungsraster!A54","v":"Indikatoren"},"ja","teils","nein","?",null,null,null,"Bemerkungen"]
[{"$f":"Auswertungsraster!A55","v":"M2 Indikator 1"}]
[{"$f":"Auswertungsraster!A56","v":"M2 Indikator 2"}]
[{"$f":"Auswertungsraster!A57","v":"M2 Indikator 3"}]
[{"$f":"Auswertungsraster!A58","v":"M2 Indikator 4"}]
[{"$f":"Auswertungsraster!A59","v":"M2 Indikator 5"}]
[{"$f":"Auswertungsraster!A60","v":"M2 Indikator 6"}]
[{"$f":"Auswertungsraster!A61","v":"M2 Indikator 7"}]
[{"$f":"Auswertungsraster!A62","v":"M2 Indikator 8"}]
[{"$f":"Auswertungsraster!A63","v":"M2 Indikator 9"}]
[{"$f":"Auswertungsraster!A64","v":"M2 Indikator 10"}]
[{"$f":"Auswertungsraster!A66","v":"Merkmal 3"}," +++"," ++"," +"," -"," --"," ---","?","Bemerkungen"]
[]
[{"$f":"Auswertungsraster!A68","v":"Indikatoren"},"ja","teils","nein","?",null,null,null,"Bemerkungen"]
[{"$f":"Auswertungsraster!A69","v":"M3 Indikator 1"}]
[{"$f":"Auswertungsraster!A70","v":"M3 Indikator 2"}]
[{"$f":"Auswertungsraster!A71","v":"M3 Indikator 3"}]
[{"$f":"Auswertungsraster!A72","v":"M3 Indikator 4"}]
[{"$f":"Auswertungsraster!A73","v":"M3 Indikator 5"}]
[{"$f":"Auswertungsraster!A74","v":"M3 Indikator 6"}]
[{"$f":"Auswertungsraster!A75","v":"M3 Indikator 7"}]
[{"$f":"Auswertungsraster!A76","v":"M3 Indikator 8"}]
[{"$f":"Auswertungsraster!A77","v":"M3 Indikator 9"}]
[{"$f":"Auswertungsraster!A78","v":"M3 Indikator 10"}]
[{"$f":"Auswertungsraster!A80","v":"Merkmal 4"}," +++"," ++"," +"," -"," --"," ---","?","Bemerkungen"]
[]
[{"$f":"Auswertungsraster!A82","v":"Indikatoren"},"ja","teils","nein","?",null,null,null,"Bemerkungen"]
[{"$f":"Auswertungsraster!A83","v":"M4 Indikator 1"}]
[{"$f":"Auswertungsraster!A84","v":"M4 Indikator 2"}]
[{"$f":"Auswertungsraster!A85","v":"M4 Indikator 3"}]
[{"$f":"Auswertungsraster!A86","v":"M4 Indikator 4"}]
[{"$f":"Auswertungsraster!A87","v":"M4 Indikator 5"}]
[{"$f":"Auswertungsraster!A88","v":"M4 Indikator 6"}]
[{"$f":"Auswertungsraster!A89","v":"M4 Indikator 7"}]
[{"$f":"Auswertungsraster!A90","v":"M4 Indikator 8"}]
[{"$f":"Auswertungsraster!A91","v":"M4 Indikator 9"}]
[{"$f":"Auswertungsraster!A92","v":"M4 Indikator 10"}]
[{"$f":"Auswertungsraster!A94","v":"Merkmal 5"}," +++"," ++"," +"," -"," --"," ---","?","Bemerkungen"]
[]
[{"$f":"Auswertungsraster!A96","v":"Indikatoren"},"ja","teils","nein","?",null,null,null,"Bemerkungen"]
[{"$f":"Auswertungsraster!A97","v":"M5 Indikator 1"}]
[{"$f":"Auswertungsraster!A98","v":"M5 Indikator 2"}]
[{"$f":"Auswertungsraster!A99","v":"M5 Indikator 3"}]
[{"$f":"Auswertungsraster!A100","v":"M5 Indikator 4"}]
[{"$f":"Auswertungsraster!A101","v":"M5 Indikator 5"}]
[{"$f":"Auswertungsraster!A102","v":"M5 Indikator 6"}]
[{"$f":"Auswertungsraster!A103","v":"M5 Indikator 7"}]
[{"$f":"Auswertungsraster!A104","v":"M5 Indikator 8"}]
[{"$f":"Auswertungsraster!A105","v":"M5 Indikator 9"}]
[{"$f":"Auswertungsraster!A106","v":"M5 Indikator 10"}]
[{"$f":"Auswertungsraster!A108","v":"Merkmal 6"}," +++"," ++"," +"," -"," --"," ---","?","Bemerkungen"]
[]
[{"$f":"Auswertungsraster!A110","v":"Indikatoren"},"ja","teils","nein","?",null,null,null,"Bemerkungen"]
[{"$f":"Auswertungsraster!A111","v":"M6 Indikator 1"}]
[{"$f":"Auswertungsraster!A112","v":"M6 Indikator 2"}]
[{"$f":"Auswertungsraster!A113","v":"M6 Indikator 3"}]
[{"$f":"Auswertungsraster!A114","v":"M6 Indikator 4"}]
[{"$f":"Auswertungsraster!A115","v":"M6 Indikator 5"}]
[{"$f":"Auswertungsraster!A116","v":"M6 Indikator 6"}]
[{"$f":"Auswertungsraster!A117","v":"M6 Indikator 7"}]
[{"$f":"Auswertungsraster!A118","v":"M6 Indikator 8"}]
[{"$f":"Auswertungsraster!A119","v":"M6 Indikator 9"}]
[{"$f":"Auswertungsraster!A120","v":"M6 Indikator 10"}]
[{"$f":"Auswertungsraster!A122","v":"Merkmal 7"}," +++"," ++"," +"," -"," --"," ---","?","Bemerkungen"]
[]
[{"$f":"Auswertungsraster!A124","v":"Indikatoren"},"ja","teils","nein","?",null,null,null,"Bemerkungen"]
[{"$f":"Auswertungsraster!A125","v":"M7 Indikator 1"}]
[{"$f":"Auswertungsraster!A126","v":"M7 Indikator 2"}]
[{"$f":"Auswertungsraster!A127","v":"M7 Indikator 3"}]
[{"$f":"Auswertungsraster!A128","v":"M7 Indikator 4"}]
[{"$f":"Auswertungsraster!A129","v":"M7 Indikator 5"}]
[{"$f":"Auswertungsraster!A130","v":"M7 Indikator 6"}]
[{"$f":"Auswertungsraster!A131","v":"M7 Indikator 7"}]
[{"$f":"Auswertungsraster!A132","v":"M7 Indikator 8"}]
[{"$f":"Auswertungsraster!A133","v":"M7 Indikator 9"}]
[{"$f":"Auswertungsraster!A134","v":"M7 Indikator 10"}]
[{"$f":"Auswertungsraster!A136","v":"Merkmal 8"}," +++"," ++"," +"," -"," --"," ---","?","Bemerkungen"]
[]
[{"$f":"Auswertungsraster!A138","v":"Indikatoren"},"ja","teils","nein","?",null,null,null,"Bemerkungen"]
[{"$f":"Auswertungsraster!A139","v":"M8 Indikator 1"}]
[{"$f":"Auswertungsraster!A140","v":"M8 Indikator 2"}]
[{"$f":"Auswertungsraster!A141","v":"M8 Indikator 3"}]
[{"$f":"Auswertungsraster!A142","v":"M8 Indikator 4"}]
[{"$f":"Auswertungsraster!A143","v":"M8 Indikator 5"}]
[{"$f":"Auswertungsraster!A144","v":"M8 Indikator 6"}]
[{"$f":"Auswertungsraster!A145","v":"M8 Indikator 7"}]
[{"$f":"Auswertungsraster!A146","v":"M8 Indikator 8"}]
[{"$f":"Auswertungsraster!A147","v":"M8 Indikator 9"}]
[{"$f":"Auswertungsraster!A148","v":"M8 Indikator 10"}]
[{"$f":"Auswertungsraster!A150","v":"Merkmal 9"}," +++"," ++"," +"," -"," --"," ---","?","Bemerkungen"]
[]
[{"$f":"Auswertungsraster!A152","v":"Indikatoren"},"ja","teils","nein","?",null,null,null,"Bemerkungen"]
[{"$f":"Auswertungsraster!A153","v":"M9 Indikator 1"}]
[{"$f":"Auswertungsraster!A154","v":"M9 Indikator 2"}]
[{"$f":"Auswertungsraster!A155","v":"M9 Indikator 3"}]
[{"$f":"Auswertungsraster!A156","v":"M9 Indikator 4"}]
[{"$f":"Auswertungsraster!A157","v":"M9 Indikator 5"}]
[{"$f":"Auswertungsraster!A158","v":"M9 Indikator 6"}]
[{"$f":"Auswertungsraster!A159","v":"M9 Indikator 7"}]
[{"$f":"Auswertungsraster!A160","v":"M9 Indikator 8"}]
[{"$f":"Auswertungsraster!A161","v":"M9 Indikator 9"}]
[{"$f":"Auswertungsraster!A162","v":"M9 Indikator 10"}]
[{"$f":"Auswertungsraster!A164","v":"Merkmal 10"}," +++"," ++"," +"," -"," --"," ---","?","Bemerkungen"]
[]
[{"$f":"Auswertungsraster!A166","v":"Indikatoren"},"ja","teils","nein","?",null,null,null,"Bemerkungen"]
[{"$f":"Auswertungsraster!A167","v":"M10 Indikator 1"}]
[{"$f":"Auswertungsraster!A168","v":"M10 Indikator 2"}]
[{"$f":"Auswertungsraster!A169","v":"M10 Indikator 3"}]
[{"$f":"Auswertungsraster!A170","v":"M10 Indikator 4"}]
[{"$f":"Auswertungsraster!A171","v":"M10 Indikator 5"}]
[{"$f":"Auswertungsraster!A172","v":"M10 Indikator 6"}]
[{"$f":"Auswertungsraster!A173","v":"M10 Indikator 7"}]
[{"$f":"Auswertungsraster!A174","v":"M10 Indikator 8"}]
[{"$f":"Auswertungsraster!A175","v":"M10 Indikator 9"}]
[{"$f":"Auswertungsraster!A176","v":"M10 Indikator 10"}]
["Bilanzierende Bewertung"," +++"," ++","+"," -"," --"," ---","?","Bemerkungen"]
[]
[{"$f":"A2","v":"Merkmal 1"},{"$f":"B3","v":0},0,0,0,0,0,0,0]
[{"$f":"A15","v":"Merkmal 2"},{"$f":"B16","v":0},0,0,0,0,0,0,0]
[{"$f":"A28","v":"Merkmal 3"},{"$f":"B29","v":0},0,0,0,0,0,0,0]
[{"$f":"A41","v":"Merkmal 4"},{"$f":"B42","v":0},0,0,0,0,0,0,0]
[{"$f":"A54","v":"Merkmal 5"},{"$f":"B55","v":0},0,0,0,0,0,0,0]
[{"$f":"A67","v":"Merkmal 6"},{"$f":"B68","v":0},{"$f":"C68","v":0},0,0,0,0,0,0]
[{"$f":"A80","v":"Merkmal 7"},{"$f":"B81","v":0},{"$f":"C81","v":0},0,0,0,0,0,0]
[{"$f":"A93","v":"Merkmal 8"},{"$f":"B94","v":0},{"$f":"C94","v":0},0,0,0,0,0,0]
[{"$f":"A106","v":"Merkmal 9"},{"$f":"B107","v":0},{"$f":"C107","v":0},0,0,0,0,0,0]
[{"$f":"A119","v":"Merkmal 10"},{"$f":"B120","v":0},{"$f":"C120","v":0},0,0,0,0,0,0]

{"sheet":"LP 7","index":8,"n_rows":143,"n_cols":9,"rows_kept":143,"cut":false,"hidden":false,"merged":[[79,0,80,0],[92,0,93,0],[105,0,106,0],[118,0,119,0],[131,0,132,0],[66,0,67,0],[1,0,2,0],[14,0,15,0],[27,0,28,0],[40,0,41,0],[53,0,54,0]]}
["LP 7"]
[{"$f":"Auswertungsraster!A38","v":"Merkmal 1"}," +++"," ++"," +"," -"," --"," ---","?","Bemerkungen"]
[]
[{"$f":"Auswertungsraster!A40","v":"Indikatoren"},"ja","teils","nein","?",null,null,null,"Bemerkungen"]
[{"$f":"Auswertungsraster!A41","v":"M1 Indikator 1"}]
[{"$f":"Auswertungsraster!A42","v":"M1 Indikator 2"}]
[{"$f":"Auswertungsraster!A43","v":"M1 Indikator 3"}]
[{"$f":"Auswertungsraster!A44","v":"M1 Indikator 4"}]
[{"$f":"Auswertungsraster!A45","v":"M1 Indikator 5"}]
[{"$f":"Auswertungsraster!A46","v":"M1 Indikator 6"}]
[{"$f":"Auswertungsraster!A47","v":"M1 Indikator 7"}]
[{"$f":"Auswertungsraster!A48","v":"M1 Indikator 8"}]
[{"$f":"Auswertungsraster!A49","v":"M1 Indikator 9"}]
[{"$f":"Auswertungsraster!A50","v":"M1 Indikator 10"}]
[{"$f":"Auswertungsraster!A52","v":"Merkmal 2"}," +++"," ++"," +"," -"," --"," ---","?","Bemerkungen"]
[]
[{"$f":"Auswertungsraster!A54","v":"Indikatoren"},"ja","teils","nein","?",null,null,null,"Bemerkungen"]
[{"$f":"Auswertungsraster!A55","v":"M2 Indikator 1"}]
[{"$f":"Auswertungsraster!A56","v":"M2 Indikator 2"}]
[{"$f":"Auswertungsraster!A57","v":"M2 Indikator 3"}]
[{"$f":"Auswertungsraster!A58","v":"M2 Indikator 4"}]
[{"$f":"Auswertungsraster!A59","v":"M2 Indikator 5"}]
[{"$f":"Auswertungsraster!A60","v":"M2 Indikator 6"}]
[{"$f":"Auswertungsraster!A61","v":"M2 Indikator 7"}]
[{"$f":"Auswertungsraster!A62","v":"M2 Indikator 8"}]
[{"$f":"Auswertungsraster!A63","v":"M2 Indikator 9"}]
[{"$f":"Auswertungsraster!A64","v":"M2 Indikator 10"}]
[{"$f":"Auswertungsraster!A66","v":"Merkmal 3"}," +++"," ++"," +"," -"," --"," ---","?","Bemerkungen"]
[]
[{"$f":"Auswertungsraster!A68","v":"Indikatoren"},"ja","teils","nein","?",null,null,null,"Bemerkungen"]
[{"$f":"Auswertungsraster!A69","v":"M3 Indikator 1"}]
[{"$f":"Auswertungsraster!A70","v":"M3 Indikator 2"}]
[{"$f":"Auswertungsraster!A71","v":"M3 Indikator 3"}]
[{"$f":"Auswertungsraster!A72","v":"M3 Indikator 4"}]
[{"$f":"Auswertungsraster!A73","v":"M3 Indikator 5"}]
[{"$f":"Auswertungsraster!A74","v":"M3 Indikator 6"}]
[{"$f":"Auswertungsraster!A75","v":"M3 Indikator 7"}]
[{"$f":"Auswertungsraster!A76","v":"M3 Indikator 8"}]
[{"$f":"Auswertungsraster!A77","v":"M3 Indikator 9"}]
[{"$f":"Auswertungsraster!A78","v":"M3 Indikator 10"}]
[{"$f":"Auswertungsraster!A80","v":"Merkmal 4"}," +++"," ++"," +"," -"," --"," ---","?","Bemerkungen"]
[]
[{"$f":"Auswertungsraster!A82","v":"Indikatoren"},"ja","teils","nein","?",null,null,null,"Bemerkungen"]
[{"$f":"Auswertungsraster!A83","v":"M4 Indikator 1"}]
[{"$f":"Auswertungsraster!A84","v":"M4 Indikator 2"}]
[{"$f":"Auswertungsraster!A85","v":"M4 Indikator 3"}]
[{"$f":"Auswertungsraster!A86","v":"M4 Indikator 4"}]
[{"$f":"Auswertungsraster!A87","v":"M4 Indikator 5"}]
[{"$f":"Auswertungsraster!A88","v":"M4 Indikator 6"}]
[{"$f":"Auswertungsraster!A89","v":"M4 Indikator 7"}]
[{"$f":"Auswertungsraster!A90","v":"M4 Indikator 8"}]
[{"$f":"Auswertungsraster!A91","v":"M4 Indikator 9"}]
[{"$f":"Auswertungsraster!A92","v":"M4 Indikator 10"}]
[{"$f":"Auswertungsraster!A94","v":"Merkmal 5"}," +++"," ++"," +"," -"," --"," ---","?","Bemerkungen"]
[]
[{"$f":"Auswertungsraster!A96","v":"Indikatoren"},"ja","teils","nein","?",null,null,null,"Bemerkungen"]
[{"$f":"Auswertungsraster!A97","v":"M5 Indikator 1"}]
[{"$f":"Auswertungsraster!A98","v":"M5 Indikator 2"}]
[{"$f":"Auswertungsraster!A99","v":"M5 Indikator 3"}]
[{"$f":"Auswertungsraster!A100","v":"M5 Indikator 4"}]
[{"$f":"Auswertungsraster!A101","v":"M5 Indikator 5"}]
[{"$f":"Auswertungsraster!A102","v":"M5 Indikator 6"}]
[{"$f":"Auswertungsraster!A103","v":"M5 Indikator 7"}]
[{"$f":"Auswertungsraster!A104","v":"M5 Indikator 8"}]
[{"$f":"Auswertungsraster!A105","v":"M5 Indikator 9"}]
[{"$f":"Auswertungsraster!A106","v":"M5 Indikator 10"}]
[{"$f":"Auswertungsraster!A108","v":"Merkmal 6"}," +++"," ++"," +"," -"," --"," ---","?","Bemerkungen"]
[]
[{"$f":"Auswertungsraster!A110","v":"Indikatoren"},"ja","teils","nein","?",null,null,null,"Bemerkungen"]
[{"$f":"Auswertungsraster!A111","v":"M6 Indikator 1"}]
[{"$f":"Auswertungsraster!A112","v":"M6 Indikator 2"}]
[{"$f":"Auswertungsraster!A113","v":"M6 Indikator 3"}]
[{"$f":"Auswertungsraster!A114","v":"M6 Indikator 4"}]
[{"$f":"Auswertungsraster!A115","v":"M6 Indikator 5"}]
[{"$f":"Auswertungsraster!A116","v":"M6 Indikator 6"}]
[{"$f":"Auswertungsraster!A117","v":"M6 Indikator 7"}]
[{"$f":"Auswertungsraster!A118","v":"M6 Indikator 8"}]
[{"$f":"Auswertungsraster!A119","v":"M6 Indikator 9"}]
[{"$f":"Auswertungsraster!A120","v":"M6 Indikator 10"}]
[{"$f":"Auswertungsraster!A122","v":"Merkmal 7"}," +++"," ++"," +"," -"," --"," ---","?","Bemerkungen"]
[]
[{"$f":"Auswertungsraster!A124","v":"Indikatoren"},"ja","teils","nein","?",null,null,null,"Bemerkungen"]
[{"$f":"Auswertungsraster!A125","v":"M7 Indikator 1"}]
[{"$f":"Auswertungsraster!A126","v":"M7 Indikator 2"}]
[{"$f":"Auswertungsraster!A127","v":"M7 Indikator 3"}]
[{"$f":"Auswertungsraster!A128","v":"M7 Indikator 4"}]
[{"$f":"Auswertungsraster!A129","v":"M7 Indikator 5"}]
[{"$f":"Auswertungsraster!A130","v":"M7 Indikator 6"}]
[{"$f":"Auswertungsraster!A131","v":"M7 Indikator 7"}]
[{"$f":"Auswertungsraster!A132","v":"M7 Indikator 8"}]
[{"$f":"Auswertungsraster!A133","v":"M7 Indikator 9"}]
[{"$f":"Auswertungsraster!A134","v":"M7 Indikator 10"}]
[{"$f":"Auswertungsraster!A136","v":"Merkmal 8"}," +++"," ++"," +"," -"," --"," ---","?","Bemerkungen"]
[]
[{"$f":"Auswertungsraster!A138","v":"Indikatoren"},"ja","teils","nein","?",null,null,null,"Bemerkungen"]
[{"$f":"Auswertungsraster!A139","v":"M8 Indikator 1"}]
[{"$f":"Auswertungsraster!A140","v":"M8 Indikator 2"}]
[{"$f":"Auswertungsraster!A141","v":"M8 Indikator 3"}]
[{"$f":"Auswertungsraster!A142","v":"M8 Indikator 4"}]
[{"$f":"Auswertungsraster!A143","v":"M8 Indikator 5"}]
[{"$f":"Auswertungsraster!A144","v":"M8 Indikator 6"}]
[{"$f":"Auswertungsraster!A145","v":"M8 Indikator 7"}]
[{"$f":"Auswertungsraster!A146","v":"M8 Indikator 8"}]
[{"$f":"Auswertungsraster!A147","v":"M8 Indikator 9"}]
[{"$f":"Auswertungsraster!A148","v":"M8 Indikator 10"}]
[{"$f":"Auswertungsraster!A150","v":"Merkmal 9"}," +++"," ++"," +"," -"," --"," ---","?","Bemerkungen"]
[]
[{"$f":"Auswertungsraster!A152","v":"Indikatoren"},"ja","teils","nein","?",null,null,null,"Bemerkungen"]
[{"$f":"Auswertungsraster!A153","v":"M9 Indikator 1"}]
[{"$f":"Auswertungsraster!A154","v":"M9 Indikator 2"}]
[{"$f":"Auswertungsraster!A155","v":"M9 Indikator 3"}]
[{"$f":"Auswertungsraster!A156","v":"M9 Indikator 4"}]
[{"$f":"Auswertungsraster!A157","v":"M9 Indikator 5"}]
[{"$f":"Auswertungsraster!A158","v":"M9 Indikator 6"}]
[{"$f":"Auswertungsraster!A159","v":"M9 Indikator 7"}]
[{"$f":"Auswertungsraster!A160","v":"M9 Indikator 8"}]
[{"$f":"Auswertungsraster!A161","v":"M9 Indikator 9"}]
[{"$f":"Auswertungsraster!A162","v":"M9 Indikator 10"}]
[{"$f":"Auswertungsraster!A164","v":"Merkmal 10"}," +++"," ++"," +"," -"," --"," ---","?","Bemerkungen"]
[]
[{"$f":"Auswertungsraster!A166","v":"Indikatoren"},"ja","teils","nein","?",null,null,null,"Bemerkungen"]
[{"$f":"Auswertungsraster!A167","v":"M10 Indikator 1"}]
[{"$f":"Auswertungsraster!A168","v":"M10 Indikator 2"}]
[{"$f":"Auswertungsraster!A169","v":"M10 Indikator 3"}]
[{"$f":"Auswertungsraster!A170","v":"M10 Indikator 4"}]
[{"$f":"Auswertungsraster!A171","v":"M10 Indikator 5"}]
[{"$f":"Auswertungsraster!A172","v":"M10 Indikator 6"}]
[{"$f":"Auswertungsraster!A173","v":"M10 Indikator 7"}]
[{"$f":"Auswertungsraster!A174","v":"M10 Indikator 8"}]
[{"$f":"Auswertungsraster!A175","v":"M10 Indikator 9"}]
[{"$f":"Auswertungsraster!A176","v":"M10 Indikator 10"}]
["Bilanzierende Bewertung"," +++"," ++","+"," -"," --"," ---","?","Bemerkungen"]
[]
[{"$f":"A2","v":"Merkmal 1"},{"$f":"B3","v":0},0,0,0,0,0,0,0]
[{"$f":"A15","v":"Merkmal 2"},{"$f":"B16","v":0},0,0,0,0,0,0,0]
[{"$f":"A28","v":"Merkmal 3"},{"$f":"B29","v":0},0,0,0,0,0,0,0]
[{"$f":"A41","v":"Merkmal 4"},{"$f":"B42","v":0},0,0,0,0,0,0,0]
[{"$f":"A54","v":"Merkmal 5"},{"$f":"B55","v":0},0,0,0,0,0,0,0]
[{"$f":"A67","v":"Merkmal 6"},{"$f":"B68","v":0},{"$f":"C68","v":0},0,0,0,0,0,0]
[{"$f":"A80","v":"Merkmal 7"},{"$f":"B81","v":0},{"$f":"C81","v":0},0,0,0,0,0,0]
[{"$f":"A93","v":"Merkmal 8"},{"$f":"B94","v":0},{"$f":"C94","v":0},0,0,0,0,0,0]
[{"$f":"A106","v":"Merkmal 9"},{"$f":"B107","v":0},{"$f":"C107","v":0},0,0,0,0,0,0]
[{"$f":"A119","v":"Merkmal 10"},{"$f":"B120","v":0},{"$f":"C120","v":0},0,0,0,0,0,0]

{"sheet":"LP 8","index":9,"n_rows":143,"n_cols":9,"rows_kept":143,"cut":false,"hidden":false,"merged":[[79,0,80,0],[92,0,93,0],[105,0,106,0],[118,0,119,0],[131,0,132,0],[66,0,67,0],[1,0,2,0],[14,0,15,0],[27,0,28,0],[40,0,41,0],[53,0,54,0]]}
["LP 8"]
[{"$f":"Auswertungsraster!A38","v":"Merkmal 1"}," +++"," ++"," +"," -"," --"," ---","?","Bemerkungen"]
[]
[{"$f":"Auswertungsraster!A40","v":"Indikatoren"},"ja","teils","nein","?",null,null,null,"Bemerkungen"]
[{"$f":"Auswertungsraster!A41","v":"M1 Indikator 1"}]
[{"$f":"Auswertungsraster!A42","v":"M1 Indikator 2"}]
[{"$f":"Auswertungsraster!A43","v":"M1 Indikator 3"}]
[{"$f":"Auswertungsraster!A44","v":"M1 Indikator 4"}]
[{"$f":"Auswertungsraster!A45","v":"M1 Indikator 5"}]
[{"$f":"Auswertungsraster!A46","v":"M1 Indikator 6"}]
[{"$f":"Auswertungsraster!A47","v":"M1 Indikator 7"}]
[{"$f":"Auswertungsraster!A48","v":"M1 Indikator 8"}]
[{"$f":"Auswertungsraster!A49","v":"M1 Indikator 9"}]
[{"$f":"Auswertungsraster!A50","v":"M1 Indikator 10"}]
[{"$f":"Auswertungsraster!A52","v":"Merkmal 2"}," +++"," ++"," +"," -"," --"," ---","?","Bemerkungen"]
[]
[{"$f":"Auswertungsraster!A54","v":"Indikatoren"},"ja","teils","nein","?",null,null,null,"Bemerkungen"]
[{"$f":"Auswertungsraster!A55","v":"M2 Indikator 1"}]
[{"$f":"Auswertungsraster!A56","v":"M2 Indikator 2"}]
[{"$f":"Auswertungsraster!A57","v":"M2 Indikator 3"}]
[{"$f":"Auswertungsraster!A58","v":"M2 Indikator 4"}]
[{"$f":"Auswertungsraster!A59","v":"M2 Indikator 5"}]
[{"$f":"Auswertungsraster!A60","v":"M2 Indikator 6"}]
[{"$f":"Auswertungsraster!A61","v":"M2 Indikator 7"}]
[{"$f":"Auswertungsraster!A62","v":"M2 Indikator 8"}]
[{"$f":"Auswertungsraster!A63","v":"M2 Indikator 9"}]
[{"$f":"Auswertungsraster!A64","v":"M2 Indikator 10"}]
[{"$f":"Auswertungsraster!A66","v":"Merkmal 3"}," +++"," ++"," +"," -"," --"," ---","?","Bemerkungen"]
[]
[{"$f":"Auswertungsraster!A68","v":"Indikatoren"},"ja","teils","nein","?",null,null,null,"Bemerkungen"]
[{"$f":"Auswertungsraster!A69","v":"M3 Indikator 1"}]
[{"$f":"Auswertungsraster!A70","v":"M3 Indikator 2"}]
[{"$f":"Auswertungsraster!A71","v":"M3 Indikator 3"}]
[{"$f":"Auswertungsraster!A72","v":"M3 Indikator 4"}]
[{"$f":"Auswertungsraster!A73","v":"M3 Indikator 5"}]
[{"$f":"Auswertungsraster!A74","v":"M3 Indikator 6"}]
[{"$f":"Auswertungsraster!A75","v":"M3 Indikator 7"}]
[{"$f":"Auswertungsraster!A76","v":"M3 Indikator 8"}]
[{"$f":"Auswertungsraster!A77","v":"M3 Indikator 9"}]
[{"$f":"Auswertungsraster!A78","v":"M3 Indikator 10"}]
[{"$f":"Auswertungsraster!A80","v":"Merkmal 4"}," +++"," ++"," +"," -"," --"," ---","?","Bemerkungen"]
[]
[{"$f":"Auswertungsraster!A82","v":"Indikatoren"},"ja","teils","nein","?",null,null,null,"Bemerkungen"]
[{"$f":"Auswertungsraster!A83","v":"M4 Indikator 1"}]
[{"$f":"Auswertungsraster!A84","v":"M4 Indikator 2"}]
[{"$f":"Auswertungsraster!A85","v":"M4 Indikator 3"}]
[{"$f":"Auswertungsraster!A86","v":"M4 Indikator 4"}]
[{"$f":"Auswertungsraster!A87","v":"M4 Indikator 5"}]
[{"$f":"Auswertungsraster!A88","v":"M4 Indikator 6"}]
[{"$f":"Auswertungsraster!A89","v":"M4 Indikator 7"}]
[{"$f":"Auswertungsraster!A90","v":"M4 Indikator 8"}]
[{"$f":"Auswertungsraster!A91","v":"M4 Indikator 9"}]
[{"$f":"Auswertungsraster!A92","v":"M4 Indikator 10"}]
[{"$f":"Auswertungsraster!A94","v":"Merkmal 5"}," +++"," ++"," +"," -"," --"," ---","?","Bemerkungen"]
[]
[{"$f":"Auswertungsraster!A96","v":"Indikatoren"},"ja","teils","nein","?",null,null,null,"Bemerkungen"]
[{"$f":"Auswertungsraster!A97","v":"M5 Indikator 1"}]
[{"$f":"Auswertungsraster!A98","v":"M5 Indikator 2"}]
[{"$f":"Auswertungsraster!A99","v":"M5 Indikator 3"}]
[{"$f":"Auswertungsraster!A100","v":"M5 Indikator 4"}]
[{"$f":"Auswertungsraster!A101","v":"M5 Indikator 5"}]
[{"$f":"Auswertungsraster!A102","v":"M5 Indikator 6"}]
[{"$f":"Auswertungsraster!A103","v":"M5 Indikator 7"}]
[{"$f":"Auswertungsraster!A104","v":"M5 Indikator 8"}]
[{"$f":"Auswertungsraster!A105","v":"M5 Indikator 9"}]
[{"$f":"Auswertungsraster!A106","v":"M5 Indikator 10"}]
[{"$f":"Auswertungsraster!A108","v":"Merkmal 6"}," +++"," ++"," +"," -"," --"," ---","?","Bemerkungen"]
[]
[{"$f":"Auswertungsraster!A110","v":"Indikatoren"},"ja","teils","nein","?",null,null,null,"Bemerkungen"]
[{"$f":"Auswertungsraster!A111","v":"M6 Indikator 1"}]
[{"$f":"Auswertungsraster!A112","v":"M6 Indikator 2"}]
[{"$f":"Auswertungsraster!A113","v":"M6 Indikator 3"}]
[{"$f":"Auswertungsraster!A114","v":"M6 Indikator 4"}]
[{"$f":"Auswertungsraster!A115","v":"M6 Indikator 5"}]
[{"$f":"Auswertungsraster!A116","v":"M6 Indikator 6"}]
[{"$f":"Auswertungsraster!A117","v":"M6 Indikator 7"}]
[{"$f":"Auswertungsraster!A118","v":"M6 Indikator 8"}]
[{"$f":"Auswertungsraster!A119","v":"M6 Indikator 9"}]
[{"$f":"Auswertungsraster!A120","v":"M6 Indikator 10"}]
[{"$f":"Auswertungsraster!A122","v":"Merkmal 7"}," +++"," ++"," +"," -"," --"," ---","?","Bemerkungen"]
[]
[{"$f":"Auswertungsraster!A124","v":"Indikatoren"},"ja","teils","nein","?",null,null,null,"Bemerkungen"]
[{"$f":"Auswertungsraster!A125","v":"M7 Indikator 1"}]
[{"$f":"Auswertungsraster!A126","v":"M7 Indikator 2"}]
[{"$f":"Auswertungsraster!A127","v":"M7 Indikator 3"}]
[{"$f":"Auswertungsraster!A128","v":"M7 Indikator 4"}]
[{"$f":"Auswertungsraster!A129","v":"M7 Indikator 5"}]
[{"$f":"Auswertungsraster!A130","v":"M7 Indikator 6"}]
[{"$f":"Auswertungsraster!A131","v":"M7 Indikator 7"}]
[{"$f":"Auswertungsraster!A132","v":"M7 Indikator 8"}]
[{"$f":"Auswertungsraster!A133","v":"M7 Indikator 9"}]
[{"$f":"Auswertungsraster!A134","v":"M7 Indikator 10"}]
[{"$f":"Auswertungsraster!A136","v":"Merkmal 8"}," +++"," ++"," +"," -"," --"," ---","?","Bemerkungen"]
[]
[{"$f":"Auswertungsraster!A138","v":"Indikatoren"},"ja","teils","nein","?",null,null,null,"Bemerkungen"]
[{"$f":"Auswertungsraster!A139","v":"M8 Indikator 1"}]
[{"$f":"Auswertungsraster!A140","v":"M8 Indikator 2"}]
[{"$f":"Auswertungsraster!A141","v":"M8 Indikator 3"}]
[{"$f":"Auswertungsraster!A142","v":"M8 Indikator 4"}]
[{"$f":"Auswertungsraster!A143","v":"M8 Indikator 5"}]
[{"$f":"Auswertungsraster!A144","v":"M8 Indikator 6"}]
[{"$f":"Auswertungsraster!A145","v":"M8 Indikator 7"}]
[{"$f":"Auswertungsraster!A146","v":"M8 Indikator 8"}]
[{"$f":"Auswertungsraster!A147","v":"M8 Indikator 9"}]
[{"$f":"Auswertungsraster!A148","v":"M8 Indikator 10"}]
[{"$f":"Auswertungsraster!A150","v":"Merkmal 9"}," +++"," ++"," +"," -"," --"," ---","?","Bemerkungen"]
[]
[{"$f":"Auswertungsraster!A152","v":"Indikatoren"},"ja","teils","nein","?",null,null,null,"Bemerkungen"]
[{"$f":"Auswertungsraster!A153","v":"M9 Indikator 1"}]
[{"$f":"Auswertungsraster!A154","v":"M9 Indikator 2"}]
[{"$f":"Auswertungsraster!A155","v":"M9 Indikator 3"}]
[{"$f":"Auswertungsraster!A156","v":"M9 Indikator 4"}]
[{"$f":"Auswertungsraster!A157","v":"M9 Indikator 5"}]
[{"$f":"Auswertungsraster!A158","v":"M9 Indikator 6"}]
[{"$f":"Auswertungsraster!A159","v":"M9 Indikator 7"}]
[{"$f":"Auswertungsraster!A160","v":"M9 Indikator 8"}]
[{"$f":"Auswertungsraster!A161","v":"M9 Indikator 9"}]
[{"$f":"Auswertungsraster!A162","v":"M9 Indikator 10"}]
[{"$f":"Auswertungsraster!A164","v":"Merkmal 10"}," +++"," ++"," +"," -"," --"," ---","?","Bemerkungen"]
[]
[{"$f":"Auswertungsraster!A166","v":"Indikatoren"},"ja","teils","nein","?",null,null,null,"Bemerkungen"]
[{"$f":"Auswertungsraster!A167","v":"M10 Indikator 1"}]
[{"$f":"Auswertungsraster!A168","v":"M10 Indikator 2"}]
[{"$f":"Auswertungsraster!A169","v":"M10 Indikator 3"}]
[{"$f":"Auswertungsraster!A170","v":"M10 Indikator 4"}]
[{"$f":"Auswertungsraster!A171","v":"M10 Indikator 5"}]
[{"$f":"Auswertungsraster!A172","v":"M10 Indikator 6"}]
[{"$f":"Auswertungsraster!A173","v":"M10 Indikator 7"}]
[{"$f":"Auswertungsraster!A174","v":"M10 Indikator 8"}]
[{"$f":"Auswertungsraster!A175","v":"M10 Indikator 9"}]
[{"$f":"Auswertungsraster!A176","v":"M10 Indikator 10"}]
["Bilanzierende Bewertung"," +++"," ++","+"," -"," --"," ---","?","Bemerkungen"]
[]
[{"$f":"A2","v":"Merkmal 1"},{"$f":"B3","v":0},0,0,0,0,0,0,0]
[{"$f":"A15","v":"Merkmal 2"},{"$f":"B16","v":0},0,0,0,0,0,0,0]
[{"$f":"A28","v":"Merkmal 3"},{"$f":"B29","v":0},0,0,0,0,0,0,0]
[{"$f":"A41","v":"Merkmal 4"},{"$f":"B42","v":0},0,0,0,0,0,0,0]
[{"$f":"A54","v":"Merkmal 5"},{"$f":"B55","v":0},0,0,0,0,0,0,0]
[{"$f":"A67","v":"Merkmal 6"},{"$f":"B68","v":0},{"$f":"C68","v":0},0,0,0,0,0,0]
[{"$f":"A80","v":"Merkmal 7"},{"$f":"B81","v":0},{"$f":"C81","v":0},0,0,0,0,0,0]
[{"$f":"A93","v":"Merkmal 8"},{"$f":"B94","v":0},{"$f":"C94","v":0},0,0,0,0,0,0]
[{"$f":"A106","v":"Merkmal 9"},{"$f":"B107","v":0},{"$f":"C107","v":0},0,0,0,0,0,0]
[{"$f":"A119","v":"Merkmal 10"},{"$f":"B120","v":0},{"$f":"C120","v":0},0,0,0,0,0,0]

{"sheet":"LP 9","index":10,"n_rows":143,"n_cols":9,"rows_kept":143,"cut":false,"hidden":false,"merged":[[79,0,80,0],[92,0,93,0],[105,0,106,0],[118,0,119,0],[131,0,132,0],[66,0,67,0],[1,0,2,0],[14,0,15,0],[27,0,28,0],[40,0,41,0],[53,0,54,0]]}
["LP 9"]
[{"$f":"Auswertungsraster!A38","v":"Merkmal 1"}," +++"," ++"," +"," -"," --"," ---","?","Bemerkungen"]
[]
[{"$f":"Auswertungsraster!A40","v":"Indikatoren"},"ja","teils","nein","?",null,null,null,"Bemerkungen"]
[{"$f":"Auswertungsraster!A41","v":"M1 Indikator 1"}]
[{"$f":"Auswertungsraster!A42","v":"M1 Indikator 2"}]
[{"$f":"Auswertungsraster!A43","v":"M1 Indikator 3"}]
[{"$f":"Auswertungsraster!A44","v":"M1 Indikator 4"}]
[{"$f":"Auswertungsraster!A45","v":"M1 Indikator 5"}]
[{"$f":"Auswertungsraster!A46","v":"M1 Indikator 6"}]
[{"$f":"Auswertungsraster!A47","v":"M1 Indikator 7"}]
[{"$f":"Auswertungsraster!A48","v":"M1 Indikator 8"}]
[{"$f":"Auswertungsraster!A49","v":"M1 Indikator 9"}]
[{"$f":"Auswertungsraster!A50","v":"M1 Indikator 10"}]
[{"$f":"Auswertungsraster!A52","v":"Merkmal 2"}," +++"," ++"," +"," -"," --"," ---","?","Bemerkungen"]
[]
[{"$f":"Auswertungsraster!A54","v":"Indikatoren"},"ja","teils","nein","?",null,null,null,"Bemerkungen"]
[{"$f":"Auswertungsraster!A55","v":"M2 Indikator 1"}]
[{"$f":"Auswertungsraster!A56","v":"M2 Indikator 2"}]
[{"$f":"Auswertungsraster!A57","v":"M2 Indikator 3"}]
[{"$f":"Auswertungsraster!A58","v":"M2 Indikator 4"}]
[{"$f":"Auswertungsraster!A59","v":"M2 Indikator 5"}]
[{"$f":"Auswertungsraster!A60","v":"M2 Indikator 6"}]
[{"$f":"Auswertungsraster!A61","v":"M2 Indikator 7"}]
[{"$f":"Auswertungsraster!A62","v":"M2 Indikator 8"}]
[{"$f":"Auswertungsraster!A63","v":"M2 Indikator 9"}]
[{"$f":"Auswertungsraster!A64","v":"M2 Indikator 10"}]
[{"$f":"Auswertungsraster!A66","v":"Merkmal 3"}," +++"," ++"," +"," -"," --"," ---","?","Bemerkungen"]
[]
[{"$f":"Auswertungsraster!A68","v":"Indikatoren"},"ja","teils","nein","?",null,null,null,"Bemerkungen"]
[{"$f":"Auswertungsraster!A69","v":"M3 Indikator 1"}]
[{"$f":"Auswertungsraster!A70","v":"M3 Indikator 2"}]
[{"$f":"Auswertungsraster!A71","v":"M3 Indikator 3"}]
[{"$f":"Auswertungsraster!A72","v":"M3 Indikator 4"}]
[{"$f":"Auswertungsraster!A73","v":"M3 Indikator 5"}]
[{"$f":"Auswertungsraster!A74","v":"M3 Indikator 6"}]
[{"$f":"Auswertungsraster!A75","v":"M3 Indikator 7"}]
[{"$f":"Auswertungsraster!A76","v":"M3 Indikator 8"}]
[{"$f":"Auswertungsraster!A77","v":"M3 Indikator 9"}]
[{"$f":"Auswertungsraster!A78","v":"M3 Indikator 10"}]
[{"$f":"Auswertungsraster!A80","v":"Merkmal 4"}," +++"," ++"," +"," -"," --"," ---","?","Bemerkungen"]
[]
[{"$f":"Auswertungsraster!A82","v":"Indikatoren"},"ja","teils","nein","?",null,null,null,"Bemerkungen"]
[{"$f":"Auswertungsraster!A83","v":"M4 Indikator 1"}]
[{"$f":"Auswertungsraster!A84","v":"M4 Indikator 2"}]
[{"$f":"Auswertungsraster!A85","v":"M4 Indikator 3"}]
[{"$f":"Auswertungsraster!A86","v":"M4 Indikator 4"}]
[{"$f":"Auswertungsraster!A87","v":"M4 Indikator 5"}]
[{"$f":"Auswertungsraster!A88","v":"M4 Indikator 6"}]
[{"$f":"Auswertungsraster!A89","v":"M4 Indikator 7"}]
[{"$f":"Auswertungsraster!A90","v":"M4 Indikator 8"}]
[{"$f":"Auswertungsraster!A91","v":"M4 Indikator 9"}]
[{"$f":"Auswertungsraster!A92","v":"M4 Indikator 10"}]
[{"$f":"Auswertungsraster!A94","v":"Merkmal 5"}," +++"," ++"," +"," -"," --"," ---","?","Bemerkungen"]
[]
[{"$f":"Auswertungsraster!A96","v":"Indikatoren"},"ja","teils","nein","?",null,null,null,"Bemerkungen"]
[{"$f":"Auswertungsraster!A97","v":"M5 Indikator 1"}]
[{"$f":"Auswertungsraster!A98","v":"M5 Indikator 2"}]
[{"$f":"Auswertungsraster!A99","v":"M5 Indikator 3"}]
[{"$f":"Auswertungsraster!A100","v":"M5 Indikator 4"}]
[{"$f":"Auswertungsraster!A101","v":"M5 Indikator 5"}]
[{"$f":"Auswertungsraster!A102","v":"M5 Indikator 6"}]
[{"$f":"Auswertungsraster!A103","v":"M5 Indikator 7"}]
[{"$f":"Auswertungsraster!A104","v":"M5 Indikator 8"}]
[{"$f":"Auswertungsraster!A105","v":"M5 Indikator 9"}]
[{"$f":"Auswertungsraster!A106","v":"M5 Indikator 10"}]
[{"$f":"Auswertungsraster!A108","v":"Merkmal 6"}," +++"," ++"," +"," -"," --"," ---","?","Bemerkungen"]
[]
[{"$f":"Auswertungsraster!A110","v":"Indikatoren"},"ja","teils","nein","?",null,null,null,"Bemerkungen"]
[{"$f":"Auswertungsraster!A111","v":"M6 Indikator 1"}]
[{"$f":"Auswertungsraster!A112","v":"M6 Indikator 2"}]
[{"$f":"Auswertungsraster!A113","v":"M6 Indikator 3"}]
[{"$f":"Auswertungsraster!A114","v":"M6 Indikator 4"}]
[{"$f":"Auswertungsraster!A115","v":"M6 Indikator 5"}]
[{"$f":"Auswertungsraster!A116","v":"M6 Indikator 6"}]
[{"$f":"Auswertungsraster!A117","v":"M6 Indikator 7"}]
[{"$f":"Auswertungsraster!A118","v":"M6 Indikator 8"}]
[{"$f":"Auswertungsraster!A119","v":"M6 Indikator 9"}]
[{"$f":"Auswertungsraster!A120","v":"M6 Indikator 10"}]
[{"$f":"Auswertungsraster!A122","v":"Merkmal 7"}," +++"," ++"," +"," -"," --"," ---","?","Bemerkungen"]
[]
[{"$f":"Auswertungsraster!A124","v":"Indikatoren"},"ja","teils","nein","?",null,null,null,"Bemerkungen"]
[{"$f":"Auswertungsraster!A125","v":"M7 Indikator 1"}]
[{"$f":"Auswertungsraster!A126","v":"M7 Indikator 2"}]
[{"$f":"Auswertungsraster!A127","v":"M7 Indikator 3"}]
[{"$f":"Auswertungsraster!A128","v":"M7 Indikator 4"}]
[{"$f":"Auswertungsraster!A129","v":"M7 Indikator 5"}]
[{"$f":"Auswertungsraster!A130","v":"M7 Indikator 6"}]
[{"$f":"Auswertungsraster!A131","v":"M7 Indikator 7"}]
[{"$f":"Auswertungsraster!A132","v":"M7 Indikator 8"}]
[{"$f":"Auswertungsraster!A133","v":"M7 Indikator 9"}]
[{"$f":"Auswertungsraster!A134","v":"M7 Indikator 10"}]
[{"$f":"Auswertungsraster!A136","v":"Merkmal 8"}," +++"," ++"," +"," -"," --"," ---","?","Bemerkungen"]
[]
[{"$f":"Auswertungsraster!A138","v":"Indikatoren"},"ja","teils","nein","?",null,null,null,"Bemerkungen"]
[{"$f":"Auswertungsraster!A139","v":"M8 Indikator 1"}]
[{"$f":"Auswertungsraster!A140","v":"M8 Indikator 2"}]
[{"$f":"Auswertungsraster!A141","v":"M8 Indikator 3"}]
[{"$f":"Auswertungsraster!A142","v":"M8 Indikator 4"}]
[{"$f":"Auswertungsraster!A143","v":"M8 Indikator 5"}]
[{"$f":"Auswertungsraster!A144","v":"M8 Indikator 6"}]
[{"$f":"Auswertungsraster!A145","v":"M8 Indikator 7"}]
[{"$f":"Auswertungsraster!A146","v":"M8 Indikator 8"}]
[{"$f":"Auswertungsraster!A147","v":"M8 Indikator 9"}]
[{"$f":"Auswertungsraster!A148","v":"M8 Indikator 10"}]
[{"$f":"Auswertungsraster!A150","v":"Merkmal 9"}," +++"," ++"," +"," -"," --"," ---","?","Bemerkungen"]
[]
[{"$f":"Auswertungsraster!A152","v":"Indikatoren"},"ja","teils","nein","?",null,null,null,"Bemerkungen"]
[{"$f":"Auswertungsraster!A153","v":"M9 Indikator 1"}]
[{"$f":"Auswertungsraster!A154","v":"M9 Indikator 2"}]
[{"$f":"Auswertungsraster!A155","v":"M9 Indikator 3"}]
[{"$f":"Auswertungsraster!A156","v":"M9 Indikator 4"}]
[{"$f":"Auswertungsraster!A157","v":"M9 Indikator 5"}]
[{"$f":"Auswertungsraster!A158","v":"M9 Indikator 6"}]
[{"$f":"Auswertungsraster!A159","v":"M9 Indikator 7"}]
[{"$f":"Auswertungsraster!A160","v":"M9 Indikator 8"}]
[{"$f":"Auswertungsraster!A161","v":"M9 Indikator 9"}]
[{"$f":"Auswertungsraster!A162","v":"M9 Indikator 10"}]
[{"$f":"Auswertungsraster!A164","v":"Merkmal 10"}," +++"," ++"," +"," -"," --"," ---","?","Bemerkungen"]
[]
[{"$f":"Auswertungsraster!A166","v":"Indikatoren"},"ja","teils","nein","?",null,null,null,"Bemerkungen"]
[{"$f":"Auswertungsraster!A167","v":"M10 Indikator 1"}]
[{"$f":"Auswertungsraster!A168","v":"M10 Indikator 2"}]
[{"$f":"Auswertungsraster!A169","v":"M10 Indikator 3"}]
[{"$f":"Auswertungsraster!A170","v":"M10 Indikator 4"}]
[{"$f":"Auswertungsraster!A171","v":"M10 Indikator 5"}]
[{"$f":"Auswertungsraster!A172","v":"M10 Indikator 6"}]
[{"$f":"Auswertungsraster!A173","v":"M10 Indikator 7"}]
[{"$f":"Auswertungsraster!A174","v":"M10 Indikator 8"}]
[{"$f":"Auswertungsraster!A175","v":"M10 Indikator 9"}]
[{"$f":"Auswertungsraster!A176","v":"M10 Indikator 10"}]
["Bilanzierende Bewertung"," +++"," ++","+"," -"," --"," ---","?","Bemerkungen"]
[]
[{"$f":"A2","v":"Merkmal 1"},{"$f":"B3","v":0},0,0,0,0,0,0,0]
[{"$f":"A15","v":"Merkmal 2"},{"$f":"B16","v":0},0,0,0,0,0,0,0]
[{"$f":"A28","v":"Merkmal 3"},{"$f":"B29","v":0},0,0,0,0,0,0,0]
[{"$f":"A41","v":"Merkmal 4"},{"$f":"B42","v":0},0,0,0,0,0,0,0]
[{"$f":"A54","v":"Merkmal 5"},{"$f":"B55","v":0},0,0,0,0,0,0,0]
[{"$f":"A67","v":"Merkmal 6"},{"$f":"B68","v":0},{"$f":"C68","v":0},0,0,0,0,0,0]
[{"$f":"A80","v":"Merkmal 7"},{"$f":"B81","v":0},{"$f":"C81","v":0},0,0,0,0,0,0]
[{"$f":"A93","v":"Merkmal 8"},{"$f":"B94","v":0},{"$f":"C94","v":0},0,0,0,0,0,0]
[{"$f":"A106","v":"Merkmal 9"},{"$f":"B107","v":0},{"$f":"C107","v":0},0,0,0,0,0,0]
[{"$f":"A119","v":"Merkmal 10"},{"$f":"B120","v":0},{"$f":"C120","v":0},0,0,0,0,0,0]

{"sheet":"LP 10","index":11,"n_rows":143,"n_cols":9,"rows_kept":143,"cut":false,"hidden":false,"merged":[[79,0,80,0],[92,0,93,0],[105,0,106,0],[118,0,119,0],[131,0,132,0],[66,0,67,0],[1,0,2,0],[14,0,15,0],[27,0,28,0],[40,0,41,0],[53,0,54,0]]}
["LP 10"]
[{"$f":"Auswertungsraster!A38","v":"Merkmal 1"}," +++"," ++"," +"," -"," --"," ---","?","Bemerkungen"]
[]
[{"$f":"Auswertungsraster!A40","v":"Indikatoren"},"ja","teils","nein","?",null,null,null,"Bemerkungen"]
[{"$f":"Auswertungsraster!A41","v":"M1 Indikator 1"}]
[{"$f":"Auswertungsraster!A42","v":"M1 Indikator 2"}]
[{"$f":"Auswertungsraster!A43","v":"M1 Indikator 3"}]
[{"$f":"Auswertungsraster!A44","v":"M1 Indikator 4"}]
[{"$f":"Auswertungsraster!A45","v":"M1 Indikator 5"}]
[{"$f":"Auswertungsraster!A46","v":"M1 Indikator 6"}]
[{"$f":"Auswertungsraster!A47","v":"M1 Indikator 7"}]
[{"$f":"Auswertungsraster!A48","v":"M1 Indikator 8"}]
[{"$f":"Auswertungsraster!A49","v":"M1 Indikator 9"}]
[{"$f":"Auswertungsraster!A50","v":"M1 Indikator 10"}]
[{"$f":"Auswertungsraster!A52","v":"Merkmal 2"}," +++"," ++"," +"," -"," --"," ---","?","Bemerkungen"]
[]
[{"$f":"Auswertungsraster!A54","v":"Indikatoren"},"ja","teils","nein","?",null,null,null,"Bemerkungen"]
[{"$f":"Auswertungsraster!A55","v":"M2 Indikator 1"}]
[{"$f":"Auswertungsraster!A56","v":"M2 Indikator 2"}]
[{"$f":"Auswertungsraster!A57","v":"M2 Indikator 3"}]
[{"$f":"Auswertungsraster!A58","v":"M2 Indikator 4"}]
[{"$f":"Auswertungsraster!A59","v":"M2 Indikator 5"}]
[{"$f":"Auswertungsraster!A60","v":"M2 Indikator 6"}]
[{"$f":"Auswertungsraster!A61","v":"M2 Indikator 7"}]
[{"$f":"Auswertungsraster!A62","v":"M2 Indikator 8"}]
[{"$f":"Auswertungsraster!A63","v":"M2 Indikator 9"}]
[{"$f":"Auswertungsraster!A64","v":"M2 Indikator 10"}]
[{"$f":"Auswertungsraster!A66","v":"Merkmal 3"}," +++"," ++"," +"," -"," --"," ---","?","Bemerkungen"]
[]
[{"$f":"Auswertungsraster!A68","v":"Indikatoren"},"ja","teils","nein","?",null,null,null,"Bemerkungen"]
[{"$f":"Auswertungsraster!A69","v":"M3 Indikator 1"}]
[{"$f":"Auswertungsraster!A70","v":"M3 Indikator 2"}]
[{"$f":"Auswertungsraster!A71","v":"M3 Indikator 3"}]
[{"$f":"Auswertungsraster!A72","v":"M3 Indikator 4"}]
[{"$f":"Auswertungsraster!A73","v":"M3 Indikator 5"}]
[{"$f":"Auswertungsraster!A74","v":"M3 Indikator 6"}]
[{"$f":"Auswertungsraster!A75","v":"M3 Indikator 7"}]
[{"$f":"Auswertungsraster!A76","v":"M3 Indikator 8"}]
[{"$f":"Auswertungsraster!A77","v":"M3 Indikator 9"}]
[{"$f":"Auswertungsraster!A78","v":"M3 Indikator 10"}]
[{"$f":"Auswertungsraster!A80","v":"Merkmal 4"}," +++"," ++"," +"," -"," --"," ---","?","Bemerkungen"]
[]
[{"$f":"Auswertungsraster!A82","v":"Indikatoren"},"ja","teils","nein","?",null,null,null,"Bemerkungen"]
[{"$f":"Auswertungsraster!A83","v":"M4 Indikator 1"}]
[{"$f":"Auswertungsraster!A84","v":"M4 Indikator 2"}]
[{"$f":"Auswertungsraster!A85","v":"M4 Indikator 3"}]
[{"$f":"Auswertungsraster!A86","v":"M4 Indikator 4"}]
[{"$f":"Auswertungsraster!A87","v":"M4 Indikator 5"}]
[{"$f":"Auswertungsraster!A88","v":"M4 Indikator 6"}]
[{"$f":"Auswertungsraster!A89","v":"M4 Indikator 7"}]
[{"$f":"Auswertungsraster!A90","v":"M4 Indikator 8"}]
[{"$f":"Auswertungsraster!A91","v":"M4 Indikator 9"}]
[{"$f":"Auswertungsraster!A92","v":"M4 Indikator 10"}]
[{"$f":"Auswertungsraster!A94","v":"Merkmal 5"}," +++"," ++"," +"," -"," --"," ---","?","Bemerkungen"]
[]
[{"$f":"Auswertungsraster!A96","v":"Indikatoren"},"ja","teils","nein","?",null,null,null,"Bemerkungen"]
[{"$f":"Auswertungsraster!A97","v":"M5 Indikator 1"}]
[{"$f":"Auswertungsraster!A98","v":"M5 Indikator 2"}]
[{"$f":"Auswertungsraster!A99","v":"M5 Indikator 3"}]
[{"$f":"Auswertungsraster!A100","v":"M5 Indikator 4"}]
[{"$f":"Auswertungsraster!A101","v":"M5 Indikator 5"}]
[{"$f":"Auswertungsraster!A102","v":"M5 Indikator 6"}]
[{"$f":"Auswertungsraster!A103","v":"M5 Indikator 7"}]
[{"$f":"Auswertungsraster!A104","v":"M5 Indikator 8"}]
[{"$f":"Auswertungsraster!A105","v":"M5 Indikator 9"}]
[{"$f":"Auswertungsraster!A106","v":"M5 Indikator 10"}]
[{"$f":"Auswertungsraster!A108","v":"Merkmal 6"}," +++"," ++"," +"," -"," --"," ---","?","Bemerkungen"]
[]
[{"$f":"Auswertungsraster!A110","v":"Indikatoren"},"ja","teils","nein","?",null,null,null,"Bemerkungen"]
[{"$f":"Auswertungsraster!A111","v":"M6 Indikator 1"}]
[{"$f":"Auswertungsraster!A112","v":"M6 Indikator 2"}]
[{"$f":"Auswertungsraster!A113","v":"M6 Indikator 3"}]
[{"$f":"Auswertungsraster!A114","v":"M6 Indikator 4"}]
[{"$f":"Auswertungsraster!A115","v":"M6 Indikator 5"}]
[{"$f":"Auswertungsraster!A116","v":"M6 Indikator 6"}]
[{"$f":"Auswertungsraster!A117","v":"M6 Indikator 7"}]
[{"$f":"Auswertungsraster!A118","v":"M6 Indikator 8"}]
[{"$f":"Auswertungsraster!A119","v":"M6 Indikator 9"}]
[{"$f":"Auswertungsraster!A120","v":"M6 Indikator 10"}]
[{"$f":"Auswertungsraster!A122","v":"Merkmal 7"}," +++"," ++"," +"," -"," --"," ---","?","Bemerkungen"]
[]
[{"$f":"Auswertungsraster!A124","v":"Indikatoren"},"ja","teils","nein","?",null,null,null,"Bemerkungen"]
[{"$f":"Auswertungsraster!A125","v":"M7 Indikator 1"}]
[{"$f":"Auswertungsraster!A126","v":"M7 Indikator 2"}]
[{"$f":"Auswertungsraster!A127","v":"M7 Indikator 3"}]
[{"$f":"Auswertungsraster!A128","v":"M7 Indikator 4"}]
[{"$f":"Auswertungsraster!A129","v":"M7 Indikator 5"}]
[{"$f":"Auswertungsraster!A130","v":"M7 Indikator 6"}]
[{"$f":"Auswertungsraster!A131","v":"M7 Indikator 7"}]
[{"$f":"Auswertungsraster!A132","v":"M7 Indikator 8"}]
[{"$f":"Auswertungsraster!A133","v":"M7 Indikator 9"}]
[{"$f":"Auswertungsraster!A134","v":"M7 Indikator 10"}]
[{"$f":"Auswertungsraster!A136","v":"Merkmal 8"}," +++"," ++"," +"," -"," --"," ---","?","Bemerkungen"]
[]
[{"$f":"Auswertungsraster!A138","v":"Indikatoren"},"ja","teils","nein","?",null,null,null,"Bemerkungen"]
[{"$f":"Auswertungsraster!A139","v":"M8 Indikator 1"}]
[{"$f":"Auswertungsraster!A140","v":"M8 Indikator 2"}]
[{"$f":"Auswertungsraster!A141","v":"M8 Indikator 3"}]
[{"$f":"Auswertungsraster!A142","v":"M8 Indikator 4"}]
[{"$f":"Auswertungsraster!A143","v":"M8 Indikator 5"}]
[{"$f":"Auswertungsraster!A144","v":"M8 Indikator 6"}]
[{"$f":"Auswertungsraster!A145","v":"M8 Indikator 7"}]
[{"$f":"Auswertungsraster!A146","v":"M8 Indikator 8"}]
[{"$f":"Auswertungsraster!A147","v":"M8 Indikator 9"}]
[{"$f":"Auswertungsraster!A148","v":"M8 Indikator 10"}]
[{"$f":"Auswertungsraster!A150","v":"Merkmal 9"}," +++"," ++"," +"," -"," --"," ---","?","Bemerkungen"]
[]
[{"$f":"Auswertungsraster!A152","v":"Indikatoren"},"ja","teils","nein","?",null,null,null,"Bemerkungen"]
[{"$f":"Auswertungsraster!A153","v":"M9 Indikator 1"}]
[{"$f":"Auswertungsraster!A154","v":"M9 Indikator 2"}]
[{"$f":"Auswertungsraster!A155","v":"M9 Indikator 3"}]
[{"$f":"Auswertungsraster!A156","v":"M9 Indikator 4"}]
[{"$f":"Auswertungsraster!A157","v":"M9 Indikator 5"}]
[{"$f":"Auswertungsraster!A158","v":"M9 Indikator 6"}]
[{"$f":"Auswertungsraster!A159","v":"M9 Indikator 7"}]
[{"$f":"Auswertungsraster!A160","v":"M9 Indikator 8"}]
[{"$f":"Auswertungsraster!A161","v":"M9 Indikator 9"}]
[{"$f":"Auswertungsraster!A162","v":"M9 Indikator 10"}]
[{"$f":"Auswertungsraster!A164","v":"Merkmal 10"}," +++"," ++"," +"," -"," --"," ---","?","Bemerkungen"]
[]
[{"$f":"Auswertungsraster!A166","v":"Indikatoren"},"ja","teils","nein","?",null,null,null,"Bemerkungen"]
[{"$f":"Auswertungsraster!A167","v":"M10 Indikator 1"}]
[{"$f":"Auswertungsraster!A168","v":"M10 Indikator 2"}]
[{"$f":"Auswertungsraster!A169","v":"M10 Indikator 3"}]
[{"$f":"Auswertungsraster!A170","v":"M10 Indikator 4"}]
[{"$f":"Auswertungsraster!A171","v":"M10 Indikator 5"}]
[{"$f":"Auswertungsraster!A172","v":"M10 Indikator 6"}]
[{"$f":"Auswertungsraster!A173","v":"M10 Indikator 7"}]
[{"$f":"Auswertungsraster!A174","v":"M10 Indikator 8"}]
[{"$f":"Auswertungsraster!A175","v":"M10 Indikator 9"}]
[{"$f":"Auswertungsraster!A176","v":"M10 Indikator 10"}]
["Bilanzierende Bewertung"," +++"," ++","+"," -"," --"," ---","?","Bemerkungen"]
[]
[{"$f":"A2","v":"Merkmal 1"},{"$f":"B3","v":0},0,0,0,0,0,0,0]
[{"$f":"A15","v":"Merkmal 2"},{"$f":"B16","v":0},0,0,0,0,0,0,0]
[{"$f":"A28","v":"Merkmal 3"},{"$f":"B29","v":0},0,0,0,0,0,0,0]
[{"$f":"A41","v":"Merkmal 4"},{"$f":"B42","v":0},0,0,0,0,0,0,0]
[{"$f":"A54","v":"Merkmal 5"},{"$f":"B55","v":0},0,0,0,0,0,0,0]
[{"$f":"A67","v":"Merkmal 6"},{"$f":"B68","v":0},{"$f":"C68","v":0},0,0,0,0,0,0]
[{"$f":"A80","v":"Merkmal 7"},{"$f":"B81","v":0},{"$f":"C81","v":0},0,0,0,0,0,0]
[{"$f":"A93","v":"Merkmal 8"},{"$f":"B94","v":0},{"$f":"C94","v":0},0,0,0,0,0,0]
[{"$f":"A106","v":"Merkmal 9"},{"$f":"B107","v":0},{"$f":"C107","v":0},0,0,0,0,0,0]
[{"$f":"A119","v":"Merkmal 10"},{"$f":"B120","v":0},{"$f":"C120","v":0},0,0,0,0,0,0]

{"sheet":"LP 11","index":12,"n_rows":143,"n_cols":9,"rows_kept":143,"cut":false,"hidden":false,"merged":[[79,0,80,0],[92,0,93,0],[105,0,106,0],[118,0,119,0],[131,0,132,0],[66,0,67,0],[1,0,2,0],[14,0,15,0],[27,0,28,0],[40,0,41,0],[53,0,54,0]]}
["LP 11"]
[{"$f":"Auswertungsraster!A38","v":"Merkmal 1"}," +++"," ++"," +"," -"," --"," ---","?","Bemerkungen"]
[]
[{"$f":"Auswertungsraster!A40","v":"Indikatoren"},"ja","teils","nein","?",null,null,null,"Bemerkungen"]
[{"$f":"Auswertungsraster!A41","v":"M1 Indikator 1"}]
[{"$f":"Auswertungsraster!A42","v":"M1 Indikator 2"}]
[{"$f":"Auswertungsraster!A43","v":"M1 Indikator 3"}]
[{"$f":"Auswertungsraster!A44","v":"M1 Indikator 4"}]
[{"$f":"Auswertungsraster!A45","v":"M1 Indikator 5"}]
[{"$f":"Auswertungsraster!A46","v":"M1 Indikator 6"}]
[{"$f":"Auswertungsraster!A47","v":"M1 Indikator 7"}]
[{"$f":"Auswertungsraster!A48","v":"M1 Indikator 8"}]
[{"$f":"Auswertungsraster!A49","v":"M1 Indikator 9"}]
[{"$f":"Auswertungsraster!A50","v":"M1 Indikator 10"}]
[{"$f":"Auswertungsraster!A52","v":"Merkmal 2"}," +++"," ++"," +"," -"," --"," ---","?","Bemerkungen"]
[]
[{"$f":"Auswertungsraster!A54","v":"Indikatoren"},"ja","teils","nein","?",null,null,null,"Bemerkungen"]
[{"$f":"Auswertungsraster!A55","v":"M2 Indikator 1"}]
[{"$f":"Auswertungsraster!A56","v":"M2 Indikator 2"}]
[{"$f":"Auswertungsraster!A57","v":"M2 Indikator 3"}]
[{"$f":"Auswertungsraster!A58","v":"M2 Indikator 4"}]
[{"$f":"Auswertungsraster!A59","v":"M2 Indikator 5"}]
[{"$f":"Auswertungsraster!A60","v":"M2 Indikator 6"}]
[{"$f":"Auswertungsraster!A61","v":"M2 Indikator 7"}]
[{"$f":"Auswertungsraster!A62","v":"M2 Indikator 8"}]
[{"$f":"Auswertungsraster!A63","v":"M2 Indikator 9"}]
[{"$f":"Auswertungsraster!A64","v":"M2 Indikator 10"}]
[{"$f":"Auswertungsraster!A66","v":"Merkmal 3"}," +++"," ++"," +"," -"," --"," ---","?","Bemerkungen"]
[]
[{"$f":"Auswertungsraster!A68","v":"Indikatoren"},"ja","teils","nein","?",null,null,null,"Bemerkungen"]
[{"$f":"Auswertungsraster!A69","v":"M3 Indikator 1"}]
[{"$f":"Auswertungsraster!A70","v":"M3 Indikator 2"}]
[{"$f":"Auswertungsraster!A71","v":"M3 Indikator 3"}]
[{"$f":"Auswertungsraster!A72","v":"M3 Indikator 4"}]
[{"$f":"Auswertungsraster!A73","v":"M3 Indikator 5"}]
[{"$f":"Auswertungsraster!A74","v":"M3 Indikator 6"}]
[{"$f":"Auswertungsraster!A75","v":"M3 Indikator 7"}]
[{"$f":"Auswertungsraster!A76","v":"M3 Indikator 8"}]
[{"$f":"Auswertungsraster!A77","v":"M3 Indikator 9"}]
[{"$f":"Auswertungsraster!A78","v":"M3 Indikator 10"}]
[{"$f":"Auswertungsraster!A80","v":"Merkmal 4"}," +++"," ++"," +"," -"," --"," ---","?","Bemerkungen"]
[]
[{"$f":"Auswertungsraster!A82","v":"Indikatoren"},"ja","teils","nein","?",null,null,null,"Bemerkungen"]
[{"$f":"Auswertungsraster!A83","v":"M4 Indikator 1"}]
[{"$f":"Auswertungsraster!A84","v":"M4 Indikator 2"}]
[{"$f":"Auswertungsraster!A85","v":"M4 Indikator 3"}]
[{"$f":"Auswertungsraster!A86","v":"M4 Indikator 4"}]
[{"$f":"Auswertungsraster!A87","v":"M4 Indikator 5"}]
[{"$f":"Auswertungsraster!A88","v":"M4 Indikator 6"}]
[{"$f":"Auswertungsraster!A89","v":"M4 Indikator 7"}]
[{"$f":"Auswertungsraster!A90","v":"M4 Indikator 8"}]
[{"$f":"Auswertungsraster!A91","v":"M4 Indikator 9"}]
[{"$f":"Auswertungsraster!A92","v":"M4 Indikator 10"}]
[{"$f":"Auswertungsraster!A94","v":"Merkmal 5"}," +++"," ++"," +"," -"," --"," ---","?","Bemerkungen"]
[]
[{"$f":"Auswertungsraster!A96","v":"Indikatoren"},"ja","teils","nein","?",null,null,null,"Bemerkungen"]
[{"$f":"Auswertungsraster!A97","v":"M5 Indikator 1"}]
[{"$f":"Auswertungsraster!A98","v":"M5 Indikator 2"}]
[{"$f":"Auswertungsraster!A99","v":"M5 Indikator 3"}]
[{"$f":"Auswertungsraster!A100","v":"M5 Indikator 4"}]
[{"$f":"Auswertungsraster!A101","v":"M5 Indikator 5"}]
[{"$f":"Auswertungsraster!A102","v":"M5 Indikator 6"}]
[{"$f":"Auswertungsraster!A103","v":"M5 Indikator 7"}]
[{"$f":"Auswertungsraster!A104","v":"M5 Indikator 8"}]
[{"$f":"Auswertungsraster!A105","v":"M5 Indikator 9"}]
[{"$f":"Auswertungsraster!A106","v":"M5 Indikator 10"}]
[{"$f":"Auswertungsraster!A108","v":"Merkmal 6"}," +++"," ++"," +"," -"," --"," ---","?","Bemerkungen"]
[]
[{"$f":"Auswertungsraster!A110","v":"Indikatoren"},"ja","teils","nein","?",null,null,null,"Bemerkungen"]
[{"$f":"Auswertungsraster!A111","v":"M6 Indikator 1"}]
[{"$f":"Auswertungsraster!A112","v":"M6 Indikator 2"}]
[{"$f":"Auswertungsraster!A113","v":"M6 Indikator 3"}]
[{"$f":"Auswertungsraster!A114","v":"M6 Indikator 4"}]
[{"$f":"Auswertungsraster!A115","v":"M6 Indikator 5"}]
[{"$f":"Auswertungsraster!A116","v":"M6 Indikator 6"}]
[{"$f":"Auswertungsraster!A117","v":"M6 Indikator 7"}]
[{"$f":"Auswertungsraster!A118","v":"M6 Indikator 8"}]
[{"$f":"Auswertungsraster!A119","v":"M6 Indikator 9"}]
[{"$f":"Auswertungsraster!A120","v":"M6 Indikator 10"}]
[{"$f":"Auswertungsraster!A122","v":"Merkmal 7"}," +++"," ++"," +"," -"," --"," ---","?","Bemerkungen"]
[]
[{"$f":"Auswertungsraster!A124","v":"Indikatoren"},"ja","teils","nein","?",null,null,null,"Bemerkungen"]
[{"$f":"Auswertungsraster!A125","v":"M7 Indikator 1"}]
[{"$f":"Auswertungsraster!A126","v":"M7 Indikator 2"}]
[{"$f":"Auswertungsraster!A127","v":"M7 Indikator 3"}]
[{"$f":"Auswertungsraster!A128","v":"M7 Indikator 4"}]
[{"$f":"Auswertungsraster!A129","v":"M7 Indikator 5"}]
[{"$f":"Auswertungsraster!A130","v":"M7 Indikator 6"}]
[{"$f":"Auswertungsraster!A131","v":"M7 Indikator 7"}]
[{"$f":"Auswertungsraster!A132","v":"M7 Indikator 8"}]
[{"$f":"Auswertungsraster!A133","v":"M7 Indikator 9"}]
[{"$f":"Auswertungsraster!A134","v":"M7 Indikator 10"}]
[{"$f":"Auswertungsraster!A136","v":"Merkmal 8"}," +++"," ++"," +"," -"," --"," ---","?","Bemerkungen"]
[]
[{"$f":"Auswertungsraster!A138","v":"Indikatoren"},"ja","teils","nein","?",null,null,null,"Bemerkungen"]
[{"$f":"Auswertungsraster!A139","v":"M8 Indikator 1"}]
[{"$f":"Auswertungsraster!A140","v":"M8 Indikator 2"}]
[{"$f":"Auswertungsraster!A141","v":"M8 Indikator 3"}]
[{"$f":"Auswertungsraster!A142","v":"M8 Indikator 4"}]
[{"$f":"Auswertungsraster!A143","v":"M8 Indikator 5"}]
[{"$f":"Auswertungsraster!A144","v":"M8 Indikator 6"}]
[{"$f":"Auswertungsraster!A145","v":"M8 Indikator 7"}]
[{"$f":"Auswertungsraster!A146","v":"M8 Indikator 8"}]
[{"$f":"Auswertungsraster!A147","v":"M8 Indikator 9"}]
[{"$f":"Auswertungsraster!A148","v":"M8 Indikator 10"}]
[{"$f":"Auswertungsraster!A150","v":"Merkmal 9"}," +++"," ++"," +"," -"," --"," ---","?","Bemerkungen"]
[]
[{"$f":"Auswertungsraster!A152","v":"Indikatoren"},"ja","teils","nein","?",null,null,null,"Bemerkungen"]
[{"$f":"Auswertungsraster!A153","v":"M9 Indikator 1"}]
[{"$f":"Auswertungsraster!A154","v":"M9 Indikator 2"}]
[{"$f":"Auswertungsraster!A155","v":"M9 Indikator 3"}]
[{"$f":"Auswertungsraster!A156","v":"M9 Indikator 4"}]
[{"$f":"Auswertungsraster!A157","v":"M9 Indikator 5"}]
[{"$f":"Auswertungsraster!A158","v":"M9 Indikator 6"}]
[{"$f":"Auswertungsraster!A159","v":"M9 Indikator 7"}]
[{"$f":"Auswertungsraster!A160","v":"M9 Indikator 8"}]
[{"$f":"Auswertungsraster!A161","v":"M9 Indikator 9"}]
[{"$f":"Auswertungsraster!A162","v":"M9 Indikator 10"}]
[{"$f":"Auswertungsraster!A164","v":"Merkmal 10"}," +++"," ++"," +"," -"," --"," ---","?","Bemerkungen"]
[]
[{"$f":"Auswertungsraster!A166","v":"Indikatoren"},"ja","teils","nein","?",null,null,null,"Bemerkungen"]
[{"$f":"Auswertungsraster!A167","v":"M10 Indikator 1"}]
[{"$f":"Auswertungsraster!A168","v":"M10 Indikator 2"}]
[{"$f":"Auswertungsraster!A169","v":"M10 Indikator 3"}]
[{"$f":"Auswertungsraster!A170","v":"M10 Indikator 4"}]
[{"$f":"Auswertungsraster!A171","v":"M10 Indikator 5"}]
[{"$f":"Auswertungsraster!A172","v":"M10 Indikator 6"}]
[{"$f":"Auswertungsraster!A173","v":"M10 Indikator 7"}]
[{"$f":"Auswertungsraster!A174","v":"M10 Indikator 8"}]
[{"$f":"Auswertungsraster!A175","v":"M10 Indikator 9"}]
[{"$f":"Auswertungsraster!A176","v":"M10 Indikator 10"}]
["Bilanzierende Bewertung"," +++"," ++","+"," -"," --"," ---","?","Bemerkungen"]
[]
[{"$f":"A2","v":"Merkmal 1"},{"$f":"B3","v":0},0,0,0,0,0,0,0]
[{"$f":"A15","v":"Merkmal 2"},{"$f":"B16","v":0},0,0,0,0,0,0,0]
[{"$f":"A28","v":"Merkmal 3"},{"$f":"B29","v":0},0,0,0,0,0,0,0]
[{"$f":"A41","v":"Merkmal 4"},{"$f":"B42","v":0},0,0,0,0,0,0,0]
[{"$f":"A54","v":"Merkmal 5"},{"$f":"B55","v":0},0,0,0,0,0,0,0]
[{"$f":"A67","v":"Merkmal 6"},{"$f":"B68","v":0},{"$f":"C68","v":0},0,0,0,0,0,0]
[{"$f":"A80","v":"Merkmal 7"},{"$f":"B81","v":0},{"$f":"C81","v":0},0,0,0,0,0,0]
[{"$f":"A93","v":"Merkmal 8"},{"$f":"B94","v":0},{"$f":"C94","v":0},0,0,0,0,0,0]
[{"$f":"A106","v":"Merkmal 9"},{"$f":"B107","v":0},{"$f":"C107","v":0},0,0,0,0,0,0]
[{"$f":"A119","v":"Merkmal 10"},{"$f":"B120","v":0},{"$f":"C120","v":0},0,0,0,0,0,0]

{"sheet":"LP 12","index":13,"n_rows":143,"n_cols":9,"rows_kept":143,"cut":false,"hidden":false,"merged":[[79,0,80,0],[92,0,93,0],[105,0,106,0],[118,0,119,0],[131,0,132,0],[66,0,67,0],[1,0,2,0],[14,0,15,0],[27,0,28,0],[40,0,41,0],[53,0,54,0]]}
["LP 12"]
[{"$f":"Auswertungsraster!A38","v":"Merkmal 1"}," +++"," ++"," +"," -"," --"," ---","?","Bemerkungen"]
[]
[{"$f":"Auswertungsraster!A40","v":"Indikatoren"},"ja","teils","nein","?",null,null,null,"Bemerkungen"]
[{"$f":"Auswertungsraster!A41","v":"M1 Indikator 1"}]
[{"$f":"Auswertungsraster!A42","v":"M1 Indikator 2"}]
[{"$f":"Auswertungsraster!A43","v":"M1 Indikator 3"}]
[{"$f":"Auswertungsraster!A44","v":"M1 Indikator 4"}]
[{"$f":"Auswertungsraster!A45","v":"M1 Indikator 5"}]
[{"$f":"Auswertungsraster!A46","v":"M1 Indikator 6"}]
[{"$f":"Auswertungsraster!A47","v":"M1 Indikator 7"}]
[{"$f":"Auswertungsraster!A48","v":"M1 Indikator 8"}]
[{"$f":"Auswertungsraster!A49","v":"M1 Indikator 9"}]
[{"$f":"Auswertungsraster!A50","v":"M1 Indikator 10"}]
[{"$f":"Auswertungsraster!A52","v":"Merkmal 2"}," +++"," ++"," +"," -"," --"," ---","?","Bemerkungen"]
[]
[{"$f":"Auswertungsraster!A54","v":"Indikatoren"},"ja","teils","nein","?",null,null,null,"Bemerkungen"]
[{"$f":"Auswertungsraster!A55","v":"M2 Indikator 1"}]
[{"$f":"Auswertungsraster!A56","v":"M2 Indikator 2"}]
[{"$f":"Auswertungsraster!A57","v":"M2 Indikator 3"}]
[{"$f":"Auswertungsraster!A58","v":"M2 Indikator 4"}]
[{"$f":"Auswertungsraster!A59","v":"M2 Indikator 5"}]
[{"$f":"Auswertungsraster!A60","v":"M2 Indikator 6"}]
[{"$f":"Auswertungsraster!A61","v":"M2 Indikator 7"}]
[{"$f":"Auswertungsraster!A62","v":"M2 Indikator 8"}]
[{"$f":"Auswertungsraster!A63","v":"M2 Indikator 9"}]
[{"$f":"Auswertungsraster!A64","v":"M2 Indikator 10"}]
[{"$f":"Auswertungsraster!A66","v":"Merkmal 3"}," +++"," ++"," +"," -"," --"," ---","?","Bemerkungen"]
[]
[{"$f":"Auswertungsraster!A68","v":"Indikatoren"},"ja","teils","nein","?",null,null,null,"Bemerkungen"]
[{"$f":"Auswertungsraster!A69","v":"M3 Indikator 1"}]
[{"$f":"Auswertungsraster!A70","v":"M3 Indikator 2"}]
[{"$f":"Auswertungsraster!A71","v":"M3 Indikator 3"}]
[{"$f":"Auswertungsraster!A72","v":"M3 Indikator 4"}]
[{"$f":"Auswertungsraster!A73","v":"M3 Indikator 5"}]
[{"$f":"Auswertungsraster!A74","v":"M3 Indikator 6"}]
[{"$f":"Auswertungsraster!A75","v":"M3 Indikator 7"}]
[{"$f":"Auswertungsraster!A76","v":"M3 Indikator 8"}]
[{"$f":"Auswertungsraster!A77","v":"M3 Indikator 9"}]
[{"$f":"Auswertungsraster!A78","v":"M3 Indikator 10"}]
[{"$f":"Auswertungsraster!A80","v":"Merkmal 4"}," +++"," ++"," +"," -"," --"," ---","?","Bemerkungen"]
[]
[{"$f":"Auswertungsraster!A82","v":"Indikatoren"},"ja","teils","nein","?",null,null,null,"Bemerkungen"]
[{"$f":"Auswertungsraster!A83","v":"M4 Indikator 1"}]
[{"$f":"Auswertungsraster!A84","v":"M4 Indikator 2"}]
[{"$f":"Auswertungsraster!A85","v":"M4 Indikator 3"}]
[{"$f":"Auswertungsraster!A86","v":"M4 Indikator 4"}]
[{"$f":"Auswertungsraster!A87","v":"M4 Indikator 5"}]
[{"$f":"Auswertungsraster!A88","v":"M4 Indikator 6"}]
[{"$f":"Auswertungsraster!A89","v":"M4 Indikator 7"}]
[{"$f":"Auswertungsraster!A90","v":"M4 Indikator 8"}]
[{"$f":"Auswertungsraster!A91","v":"M4 Indikator 9"}]
[{"$f":"Auswertungsraster!A92","v":"M4 Indikator 10"}]
[{"$f":"Auswertungsraster!A94","v":"Merkmal 5"}," +++"," ++"," +"," -"," --"," ---","?","Bemerkungen"]
[]
[{"$f":"Auswertungsraster!A96","v":"Indikatoren"},"ja","teils","nein","?",null,null,null,"Bemerkungen"]
[{"$f":"Auswertungsraster!A97","v":"M5 Indikator 1"}]
[{"$f":"Auswertungsraster!A98","v":"M5 Indikator 2"}]
[{"$f":"Auswertungsraster!A99","v":"M5 Indikator 3"}]
[{"$f":"Auswertungsraster!A100","v":"M5 Indikator 4"}]
[{"$f":"Auswertungsraster!A101","v":"M5 Indikator 5"}]
[{"$f":"Auswertungsraster!A102","v":"M5 Indikator 6"}]
[{"$f":"Auswertungsraster!A103","v":"M5 Indikator 7"}]
[{"$f":"Auswertungsraster!A104","v":"M5 Indikator 8"}]
[{"$f":"Auswertungsraster!A105","v":"M5 Indikator 9"}]
[{"$f":"Auswertungsraster!A106","v":"M5 Indikator 10"}]
[{"$f":"Auswertungsraster!A108","v":"Merkmal 6"}," +++"," ++"," +"," -"," --"," ---","?","Bemerkungen"]
[]
[{"$f":"Auswertungsraster!A110","v":"Indikatoren"},"ja","teils","nein","?",null,null,null,"Bemerkungen"]
[{"$f":"Auswertungsraster!A111","v":"M6 Indikator 1"}]
[{"$f":"Auswertungsraster!A112","v":"M6 Indikator 2"}]
[{"$f":"Auswertungsraster!A113","v":"M6 Indikator 3"}]
[{"$f":"Auswertungsraster!A114","v":"M6 Indikator 4"}]
[{"$f":"Auswertungsraster!A115","v":"M6 Indikator 5"}]
[{"$f":"Auswertungsraster!A116","v":"M6 Indikator 6"}]
[{"$f":"Auswertungsraster!A117","v":"M6 Indikator 7"}]
[{"$f":"Auswertungsraster!A118","v":"M6 Indikator 8"}]
[{"$f":"Auswertungsraster!A119","v":"M6 Indikator 9"}]
[{"$f":"Auswertungsraster!A120","v":"M6 Indikator 10"}]
[{"$f":"Auswertungsraster!A122","v":"Merkmal 7"}," +++"," ++"," +"," -"," --"," ---","?","Bemerkungen"]
[]
[{"$f":"Auswertungsraster!A124","v":"Indikatoren"},"ja","teils","nein","?",null,null,null,"Bemerkungen"]
[{"$f":"Auswertungsraster!A125","v":"M7 Indikator 1"}]
[{"$f":"Auswertungsraster!A126","v":"M7 Indikator 2"}]
[{"$f":"Auswertungsraster!A127","v":"M7 Indikator 3"}]
[{"$f":"Auswertungsraster!A128","v":"M7 Indikator 4"}]
[{"$f":"Auswertungsraster!A129","v":"M7 Indikator 5"}]
[{"$f":"Auswertungsraster!A130","v":"M7 Indikator 6"}]
[{"$f":"Auswertungsraster!A131","v":"M7 Indikator 7"}]
[{"$f":"Auswertungsraster!A132","v":"M7 Indikator 8"}]
[{"$f":"Auswertungsraster!A133","v":"M7 Indikator 9"}]
[{"$f":"Auswertungsraster!A134","v":"M7 Indikator 10"}]
[{"$f":"Auswertungsraster!A136","v":"Merkmal 8"}," +++"," ++"," +"," -"," --"," ---","?","Bemerkungen"]
[]
[{"$f":"Auswertungsraster!A138","v":"Indikatoren"},"ja","teils","nein","?",null,null,null,"Bemerkungen"]
[{"$f":"Auswertungsraster!A139","v":"M8 Indikator 1"}]
[{"$f":"Auswertungsraster!A140","v":"M8 Indikator 2"}]
[{"$f":"Auswertungsraster!A141","v":"M8 Indikator 3"}]
[{"$f":"Auswertungsraster!A142","v":"M8 Indikator 4"}]
[{"$f":"Auswertungsraster!A143","v":"M8 Indikator 5"}]
[{"$f":"Auswertungsraster!A144","v":"M8 Indikator 6"}]
[{"$f":"Auswertungsraster!A145","v":"M8 Indikator 7"}]
[{"$f":"Auswertungsraster!A146","v":"M8 Indikator 8"}]
[{"$f":"Auswertungsraster!A147","v":"M8 Indikator 9"}]
[{"$f":"Auswertungsraster!A148","v":"M8 Indikator 10"}]
[{"$f":"Auswertungsraster!A150","v":"Merkmal 9"}," +++"," ++"," +"," -"," --"," ---","?","Bemerkungen"]
[]
[{"$f":"Auswertungsraster!A152","v":"Indikatoren"},"ja","teils","nein","?",null,null,null,"Bemerkungen"]
[{"$f":"Auswertungsraster!A153","v":"M9 Indikator 1"}]
[{"$f":"Auswertungsraster!A154","v":"M9 Indikator 2"}]
[{"$f":"Auswertungsraster!A155","v":"M9 Indikator 3"}]
[{"$f":"Auswertungsraster!A156","v":"M9 Indikator 4"}]
[{"$f":"Auswertungsraster!A157","v":"M9 Indikator 5"}]
[{"$f":"Auswertungsraster!A158","v":"M9 Indikator 6"}]
[{"$f":"Auswertungsraster!A159","v":"M9 Indikator 7"}]
[{"$f":"Auswertungsraster!A160","v":"M9 Indikator 8"}]
[{"$f":"Auswertungsraster!A161","v":"M9 Indikator 9"}]
[{"$f":"Auswertungsraster!A162","v":"M9 Indikator 10"}]
[{"$f":"Auswertungsraster!A164","v":"Merkmal 10"}," +++"," ++"," +"," -"," --"," ---","?","Bemerkungen"]
[]
[{"$f":"Auswertungsraster!A166","v":"Indikatoren"},"ja","teils","nein","?",null,null,null,"Bemerkungen"]
[{"$f":"Auswertungsraster!A167","v":"M10 Indikator 1"}]
[{"$f":"Auswertungsraster!A168","v":"M10 Indikator 2"}]
[{"$f":"Auswertungsraster!A169","v":"M10 Indikator 3"}]
[{"$f":"Auswertungsraster!A170","v":"M10 Indikator 4"}]
[{"$f":"Auswertungsraster!A171","v":"M10 Indikator 5"}]
[{"$f":"Auswertungsraster!A172","v":"M10 Indikator 6"}]
[{"$f":"Auswertungsraster!A173","v":"M10 Indikator 7"}]
[{"$f":"Auswertungsraster!A174","v":"M10 Indikator 8"}]
[{"$f":"Auswertungsraster!A175","v":"M10 Indikator 9"}]
[{"$f":"Auswertungsraster!A176","v":"M10 Indikator 10"}]
["Bilanzierende Bewertung"," +++"," ++","+"," -"," --"," ---","?","Bemerkungen"]
[]
[{"$f":"A2","v":"Merkmal 1"},{"$f":"B3","v":0},0,0,0,0,0,0,0]
[{"$f":"A15","v":"Merkmal 2"},{"$f":"B16","v":0},0,0,0,0,0,0,0]
[{"$f":"A28","v":"Merkmal 3"},{"$f":"B29","v":0},0,0,0,0,0,0,0]
[{"$f":"A41","v":"Merkmal 4"},{"$f":"B42","v":0},0,0,0,0,0,0,0]
[{"$f":"A54","v":"Merkmal 5"},{"$f":"B55","v":0},0,0,0,0,0,0,0]
[{"$f":"A67","v":"Merkmal 6"},{"$f":"B68","v":0},{"$f":"C68","v":0},0,0,0,0,0,0]
[{"$f":"A80","v":"Merkmal 7"},{"$f":"B81","v":0},{"$f":"C81","v":0},0,0,0,0,0,0]
[{"$f":"A93","v":"Merkmal 8"},{"$f":"B94","v":0},{"$f":"C94","v":0},0,0,0,0,0,0]
[{"$f":"A106","v":"Merkmal 9"},{"$f":"B107","v":0},{"$f":"C107","v":0},0,0,0,0,0,0]
[{"$f":"A119","v":"Merkmal 10"},{"$f":"B120","v":0},{"$f":"C120","v":0},0,0,0,0,0,0]

{"sheet":"LP 13","index":14,"n_rows":143,"n_cols":9,"rows_kept":143,"cut":false,"hidden":false,"merged":[[79,0,80,0],[92,0,93,0],[105,0,106,0],[118,0,119,0],[131,0,132,0],[66,0,67,0],[1,0,2,0],[14,0,15,0],[27,0,28,0],[40,0,41,0],[53,0,54,0]]}
["LP 13"]
[{"$f":"Auswertungsraster!A38","v":"Merkmal 1"}," +++"," ++"," +"," -"," --"," ---","?","Bemerkungen"]
[]
[{"$f":"Auswertungsraster!A40","v":"Indikatoren"},"ja","teils","nein","?",null,null,null,"Bemerkungen"]
[{"$f":"Auswertungsraster!A41","v":"M1 Indikator 1"}]
[{"$f":"Auswertungsraster!A42","v":"M1 Indikator 2"}]
[{"$f":"Auswertungsraster!A43","v":"M1 Indikator 3"}]
[{"$f":"Auswertungsraster!A44","v":"M1 Indikator 4"}]
[{"$f":"Auswertungsraster!A45","v":"M1 Indikator 5"}]
[{"$f":"Auswertungsraster!A46","v":"M1 Indikator 6"}]
[{"$f":"Auswertungsraster!A47","v":"M1 Indikator 7"}]
[{"$f":"Auswertungsraster!A48","v":"M1 Indikator 8"}]
[{"$f":"Auswertungsraster!A49","v":"M1 Indikator 9"}]
[{"$f":"Auswertungsraster!A50","v":"M1 Indikator 10"}]
[{"$f":"Auswertungsraster!A52","v":"Merkmal 2"}," +++"," ++"," +"," -"," --"," ---","?","Bemerkungen"]
[]
[{"$f":"Auswertungsraster!A54","v":"Indikatoren"},"ja","teils","nein","?",null,null,null,"Bemerkungen"]
[{"$f":"Auswertungsraster!A55","v":"M2 Indikator 1"}]
[{"$f":"Auswertungsraster!A56","v":"M2 Indikator 2"}]
[{"$f":"Auswertungsraster!A57","v":"M2 Indikator 3"}]
[{"$f":"Auswertungsraster!A58","v":"M2 Indikator 4"}]
[{"$f":"Auswertungsraster!A59","v":"M2 Indikator 5"}]
[{"$f":"Auswertungsraster!A60","v":"M2 Indikator 6"}]
[{"$f":"Auswertungsraster!A61","v":"M2 Indikator 7"}]
[{"$f":"Auswertungsraster!A62","v":"M2 Indikator 8"}]
[{"$f":"Auswertungsraster!A63","v":"M2 Indikator 9"}]
[{"$f":"Auswertungsraster!A64","v":"M2 Indikator 10"}]
[{"$f":"Auswertungsraster!A66","v":"Merkmal 3"}," +++"," ++"," +"," -"," --"," ---","?","Bemerkungen"]
[]
[{"$f":"Auswertungsraster!A68","v":"Indikatoren"},"ja","teils","nein","?",null,null,null,"Bemerkungen"]
[{"$f":"Auswertungsraster!A69","v":"M3 Indikator 1"}]
[{"$f":"Auswertungsraster!A70","v":"M3 Indikator 2"}]
[{"$f":"Auswertungsraster!A71","v":"M3 Indikator 3"}]
[{"$f":"Auswertungsraster!A72","v":"M3 Indikator 4"}]
[{"$f":"Auswertungsraster!A73","v":"M3 Indikator 5"}]
[{"$f":"Auswertungsraster!A74","v":"M3 Indikator 6"}]
[{"$f":"Auswertungsraster!A75","v":"M3 Indikator 7"}]
[{"$f":"Auswertungsraster!A76","v":"M3 Indikator 8"}]
[{"$f":"Auswertungsraster!A77","v":"M3 Indikator 9"}]
[{"$f":"Auswertungsraster!A78","v":"M3 Indikator 10"}]
[{"$f":"Auswertungsraster!A80","v":"Merkmal 4"}," +++"," ++"," +"," -"," --"," ---","?","Bemerkungen"]
[]
[{"$f":"Auswertungsraster!A82","v":"Indikatoren"},"ja","teils","nein","?",null,null,null,"Bemerkungen"]
[{"$f":"Auswertungsraster!A83","v":"M4 Indikator 1"}]
[{"$f":"Auswertungsraster!A84","v":"M4 Indikator 2"}]
[{"$f":"Auswertungsraster!A85","v":"M4 Indikator 3"}]
[{"$f":"Auswertungsraster!A86","v":"M4 Indikator 4"}]
[{"$f":"Auswertungsraster!A87","v":"M4 Indikator 5"}]
[{"$f":"Auswertungsraster!A88","v":"M4 Indikator 6"}]
[{"$f":"Auswertungsraster!A89","v":"M4 Indikator 7"}]
[{"$f":"Auswertungsraster!A90","v":"M4 Indikator 8"}]
[{"$f":"Auswertungsraster!A91","v":"M4 Indikator 9"}]
[{"$f":"Auswertungsraster!A92","v":"M4 Indikator 10"}]
[{"$f":"Auswertungsraster!A94","v":"Merkmal 5"}," +++"," ++"," +"," -"," --"," ---","?","Bemerkungen"]
[]
[{"$f":"Auswertungsraster!A96","v":"Indikatoren"},"ja","teils","nein","?",null,null,null,"Bemerkungen"]
[{"$f":"Auswertungsraster!A97","v":"M5 Indikator 1"}]
[{"$f":"Auswertungsraster!A98","v":"M5 Indikator 2"}]
[{"$f":"Auswertungsraster!A99","v":"M5 Indikator 3"}]
[{"$f":"Auswertungsraster!A100","v":"M5 Indikator 4"}]
[{"$f":"Auswertungsraster!A101","v":"M5 Indikator 5"}]
[{"$f":"Auswertungsraster!A102","v":"M5 Indikator 6"}]
[{"$f":"Auswertungsraster!A103","v":"M5 Indikator 7"}]
[{"$f":"Auswertungsraster!A104","v":"M5 Indikator 8"}]
[{"$f":"Auswertungsraster!A105","v":"M5 Indikator 9"}]
[{"$f":"Auswertungsraster!A106","v":"M5 Indikator 10"}]
[{"$f":"Auswertungsraster!A108","v":"Merkmal 6"}," +++"," ++"," +"," -"," --"," ---","?","Bemerkungen"]
[]
[{"$f":"Auswertungsraster!A110","v":"Indikatoren"},"ja","teils","nein","?",null,null,null,"Bemerkungen"]
[{"$f":"Auswertungsraster!A111","v":"M6 Indikator 1"}]
[{"$f":"Auswertungsraster!A112","v":"M6 Indikator 2"}]
[{"$f":"Auswertungsraster!A113","v":"M6 Indikator 3"}]
[{"$f":"Auswertungsraster!A114","v":"M6 Indikator 4"}]
[{"$f":"Auswertungsraster!A115","v":"M6 Indikator 5"}]
[{"$f":"Auswertungsraster!A116","v":"M6 Indikator 6"}]
[{"$f":"Auswertungsraster!A117","v":"M6 Indikator 7"}]
[{"$f":"Auswertungsraster!A118","v":"M6 Indikator 8"}]
[{"$f":"Auswertungsraster!A119","v":"M6 Indikator 9"}]
[{"$f":"Auswertungsraster!A120","v":"M6 Indikator 10"}]
[{"$f":"Auswertungsraster!A122","v":"Merkmal 7"}," +++"," ++"," +"," -"," --"," ---","?","Bemerkungen"]
[]
[{"$f":"Auswertungsraster!A124","v":"Indikatoren"},"ja","teils","nein","?",null,null,null,"Bemerkungen"]
[{"$f":"Auswertungsraster!A125","v":"M7 Indikator 1"}]
[{"$f":"Auswertungsraster!A126","v":"M7 Indikator 2"}]
[{"$f":"Auswertungsraster!A127","v":"M7 Indikator 3"}]
[{"$f":"Auswertungsraster!A128","v":"M7 Indikator 4"}]
[{"$f":"Auswertungsraster!A129","v":"M7 Indikator 5"}]
[{"$f":"Auswertungsraster!A130","v":"M7 Indikator 6"}]
[{"$f":"Auswertungsraster!A131","v":"M7 Indikator 7"}]
[{"$f":"Auswertungsraster!A132","v":"M7 Indikator 8"}]
[{"$f":"Auswertungsraster!A133","v":"M7 Indikator 9"}]
[{"$f":"Auswertungsraster!A134","v":"M7 Indikator 10"}]
[{"$f":"Auswertungsraster!A136","v":"Merkmal 8"}," +++"," ++"," +"," -"," --"," ---","?","Bemerkungen"]
[]
[{"$f":"Auswertungsraster!A138","v":"Indikatoren"},"ja","teils","nein","?",null,null,null,"Bemerkungen"]
[{"$f":"Auswertungsraster!A139","v":"M8 Indikator 1"}]
[{"$f":"Auswertungsraster!A140","v":"M8 Indikator 2"}]
[{"$f":"Auswertungsraster!A141","v":"M8 Indikator 3"}]
[{"$f":"Auswertungsraster!A142","v":"M8 Indikator 4"}]
[{"$f":"Auswertungsraster!A143","v":"M8 Indikator 5"}]
[{"$f":"Auswertungsraster!A144","v":"M8 Indikator 6"}]
[{"$f":"Auswertungsraster!A145","v":"M8 Indikator 7"}]
[{"$f":"Auswertungsraster!A146","v":"M8 Indikator 8"}]
[{"$f":"Auswertungsraster!A147","v":"M8 Indikator 9"}]
[{"$f":"Auswertungsraster!A148","v":"M8 Indikator 10"}]
[{"$f":"Auswertungsraster!A150","v":"Merkmal 9"}," +++"," ++"," +"," -"," --"," ---","?","Bemerkungen"]
[]
[{"$f":"Auswertungsraster!A152","v":"Indikatoren"},"ja","teils","nein","?",null,null,null,"Bemerkungen"]
[{"$f":"Auswertungsraster!A153","v":"M9 Indikator 1"}]
[{"$f":"Auswertungsraster!A154","v":"M9 Indikator 2"}]
[{"$f":"Auswertungsraster!A155","v":"M9 Indikator 3"}]
[{"$f":"Auswertungsraster!A156","v":"M9 Indikator 4"}]
[{"$f":"Auswertungsraster!A157","v":"M9 Indikator 5"}]
[{"$f":"Auswertungsraster!A158","v":"M9 Indikator 6"}]
[{"$f":"Auswertungsraster!A159","v":"M9 Indikator 7"}]
[{"$f":"Auswertungsraster!A160","v":"M9 Indikator 8"}]
[{"$f":"Auswertungsraster!A161","v":"M9 Indikator 9"}]
[{"$f":"Auswertungsraster!A162","v":"M9 Indikator 10"}]
[{"$f":"Auswertungsraster!A164","v":"Merkmal 10"}," +++"," ++"," +"," -"," --"," ---","?","Bemerkungen"]
[]
[{"$f":"Auswertungsraster!A166","v":"Indikatoren"},"ja","teils","nein","?",null,null,null,"Bemerkungen"]
[{"$f":"Auswertungsraster!A167","v":"M10 Indikator 1"}]
[{"$f":"Auswertungsraster!A168","v":"M10 Indikator 2"}]
[{"$f":"Auswertungsraster!A169","v":"M10 Indikator 3"}]
[{"$f":"Auswertungsraster!A170","v":"M10 Indikator 4"}]
[{"$f":"Auswertungsraster!A171","v":"M10 Indikator 5"}]
[{"$f":"Auswertungsraster!A172","v":"M10 Indikator 6"}]
[{"$f":"Auswertungsraster!A173","v":"M10 Indikator 7"}]
[{"$f":"Auswertungsraster!A174","v":"M10 Indikator 8"}]
[{"$f":"Auswertungsraster!A175","v":"M10 Indikator 9"}]
[{"$f":"Auswertungsraster!A176","v":"M10 Indikator 10"}]
["Bilanzierende Bewertung"," +++"," ++","+"," -"," --"," ---","?","Bemerkungen"]
[]
[{"$f":"A2","v":"Merkmal 1"},{"$f":"B3","v":0},0,0,0,0,0,0,0]
[{"$f":"A15","v":"Merkmal 2"},{"$f":"B16","v":0},0,0,0,0,0,0,0]
[{"$f":"A28","v":"Merkmal 3"},{"$f":"B29","v":0},0,0,0,0,0,0,0]
[{"$f":"A41","v":"Merkmal 4"},{"$f":"B42","v":0},0,0,0,0,0,0,0]
[{"$f":"A54","v":"Merkmal 5"},{"$f":"B55","v":0},0,0,0,0,0,0,0]
[{"$f":"A67","v":"Merkmal 6"},{"$f":"B68","v":0},{"$f":"C68","v":0},0,0,0,0,0,0]
[{"$f":"A80","v":"Merkmal 7"},{"$f":"B81","v":0},{"$f":"C81","v":0},0,0,0,0,0,0]
[{"$f":"A93","v":"Merkmal 8"},{"$f":"B94","v":0},{"$f":"C94","v":0},0,0,0,0,0,0]
[{"$f":"A106","v":"Merkmal 9"},{"$f":"B107","v":0},{"$f":"C107","v":0},0,0,0,0,0,0]
[{"$f":"A119","v":"Merkmal 10"},{"$f":"B120","v":0},{"$f":"C120","v":0},0,0,0,0,0,0]

{"sheet":"LP 14","index":15,"n_rows":143,"n_cols":9,"rows_kept":143,"cut":false,"hidden":false,"merged":[[79,0,80,0],[92,0,93,0],[105,0,106,0],[118,0,119,0],[131,0,132,0],[66,0,67,0],[1,0,2,0],[14,0,15,0],[27,0,28,0],[40,0,41,0],[53,0,54,0]]}
["LP 14"]
[{"$f":"Auswertungsraster!A38","v":"Merkmal 1"}," +++"," ++"," +"," -"," --"," ---","?","Bemerkungen"]
[]
[{"$f":"Auswertungsraster!A40","v":"Indikatoren"},"ja","teils","nein","?",null,null,null,"Bemerkungen"]
[{"$f":"Auswertungsraster!A41","v":"M1 Indikator 1"}]
[{"$f":"Auswertungsraster!A42","v":"M1 Indikator 2"}]
[{"$f":"Auswertungsraster!A43","v":"M1 Indikator 3"}]
[{"$f":"Auswertungsraster!A44","v":"M1 Indikator 4"}]
[{"$f":"Auswertungsraster!A45","v":"M1 Indikator 5"}]
[{"$f":"Auswertungsraster!A46","v":"M1 Indikator 6"}]
[{"$f":"Auswertungsraster!A47","v":"M1 Indikator 7"}]
[{"$f":"Auswertungsraster!A48","v":"M1 Indikator 8"}]
[{"$f":"Auswertungsraster!A49","v":"M1 Indikator 9"}]
[{"$f":"Auswertungsraster!A50","v":"M1 Indikator 10"}]
[{"$f":"Auswertungsraster!A52","v":"Merkmal 2"}," +++"," ++"," +"," -"," --"," ---","?","Bemerkungen"]
[]
[{"$f":"Auswertungsraster!A54","v":"Indikatoren"},"ja","teils","nein","?",null,null,null,"Bemerkungen"]
[{"$f":"Auswertungsraster!A55","v":"M2 Indikator 1"}]
[{"$f":"Auswertungsraster!A56","v":"M2 Indikator 2"}]
[{"$f":"Auswertungsraster!A57","v":"M2 Indikator 3"}]
[{"$f":"Auswertungsraster!A58","v":"M2 Indikator 4"}]
[{"$f":"Auswertungsraster!A59","v":"M2 Indikator 5"}]
[{"$f":"Auswertungsraster!A60","v":"M2 Indikator 6"}]
[{"$f":"Auswertungsraster!A61","v":"M2 Indikator 7"}]
[{"$f":"Auswertungsraster!A62","v":"M2 Indikator 8"}]
[{"$f":"Auswertungsraster!A63","v":"M2 Indikator 9"}]
[{"$f":"Auswertungsraster!A64","v":"M2 Indikator 10"}]
[{"$f":"Auswertungsraster!A66","v":"Merkmal 3"}," +++"," ++"," +"," -"," --"," ---","?","Bemerkungen"]
[]
[{"$f":"Auswertungsraster!A68","v":"Indikatoren"},"ja","teils","nein","?",null,null,null,"Bemerkungen"]
[{"$f":"Auswertungsraster!A69","v":"M3 Indikator 1"}]
[{"$f":"Auswertungsraster!A70","v":"M3 Indikator 2"}]
[{"$f":"Auswertungsraster!A71","v":"M3 Indikator 3"}]
[{"$f":"Auswertungsraster!A72","v":"M3 Indikator 4"}]
[{"$f":"Auswertungsraster!A73","v":"M3 Indikator 5"}]
[{"$f":"Auswertungsraster!A74","v":"M3 Indikator 6"}]
[{"$f":"Auswertungsraster!A75","v":"M3 Indikator 7"}]
[{"$f":"Auswertungsraster!A76","v":"M3 Indikator 8"}]
[{"$f":"Auswertungsraster!A77","v":"M3 Indikator 9"}]
[{"$f":"Auswertungsraster!A78","v":"M3 Indikator 10"}]
[{"$f":"Auswertungsraster!A80","v":"Merkmal 4"}," +++"," ++"," +"," -"," --"," ---","?","Bemerkungen"]
[]
[{"$f":"Auswertungsraster!A82","v":"Indikatoren"},"ja","teils","nein","?",null,null,null,"Bemerkungen"]
[{"$f":"Auswertungsraster!A83","v":"M4 Indikator 1"}]
[{"$f":"Auswertungsraster!A84","v":"M4 Indikator 2"}]
[{"$f":"Auswertungsraster!A85","v":"M4 Indikator 3"}]
[{"$f":"Auswertungsraster!A86","v":"M4 Indikator 4"}]
[{"$f":"Auswertungsraster!A87","v":"M4 Indikator 5"}]
[{"$f":"Auswertungsraster!A88","v":"M4 Indikator 6"}]
[{"$f":"Auswertungsraster!A89","v":"M4 Indikator 7"}]
[{"$f":"Auswertungsraster!A90","v":"M4 Indikator 8"}]
[{"$f":"Auswertungsraster!A91","v":"M4 Indikator 9"}]
[{"$f":"Auswertungsraster!A92","v":"M4 Indikator 10"}]
[{"$f":"Auswertungsraster!A94","v":"Merkmal 5"}," +++"," ++"," +"," -"," --"," ---","?","Bemerkungen"]
[]
[{"$f":"Auswertungsraster!A96","v":"Indikatoren"},"ja","teils","nein","?",null,null,null,"Bemerkungen"]
[{"$f":"Auswertungsraster!A97","v":"M5 Indikator 1"}]
[{"$f":"Auswertungsraster!A98","v":"M5 Indikator 2"}]
[{"$f":"Auswertungsraster!A99","v":"M5 Indikator 3"}]
[{"$f":"Auswertungsraster!A100","v":"M5 Indikator 4"}]
[{"$f":"Auswertungsraster!A101","v":"M5 Indikator 5"}]
[{"$f":"Auswertungsraster!A102","v":"M5 Indikator 6"}]
[{"$f":"Auswertungsraster!A103","v":"M5 Indikator 7"}]
[{"$f":"Auswertungsraster!A104","v":"M5 Indikator 8"}]
[{"$f":"Auswertungsraster!A105","v":"M5 Indikator 9"}]
[{"$f":"Auswertungsraster!A106","v":"M5 Indikator 10"}]
[{"$f":"Auswertungsraster!A108","v":"Merkmal 6"}," +++"," ++"," +"," -"," --"," ---","?","Bemerkungen"]
[]
[{"$f":"Auswertungsraster!A110","v":"Indikatoren"},"ja","teils","nein","?",null,null,null,"Bemerkungen"]
[{"$f":"Auswertungsraster!A111","v":"M6 Indikator 1"}]
[{"$f":"Auswertungsraster!A112","v":"M6 Indikator 2"}]
[{"$f":"Auswertungsraster!A113","v":"M6 Indikator 3"}]
[{"$f":"Auswertungsraster!A114","v":"M6 Indikator 4"}]
[{"$f":"Auswertungsraster!A115","v":"M6 Indikator 5"}]
[{"$f":"Auswertungsraster!A116","v":"M6 Indikator 6"}]
[{"$f":"Auswertungsraster!A117","v":"M6 Indikator 7"}]
[{"$f":"Auswertungsraster!A118","v":"M6 Indikator 8"}]
[{"$f":"Auswertungsraster!A119","v":"M6 Indikator 9"}]
[{"$f":"Auswertungsraster!A120","v":"M6 Indikator 10"}]
[{"$f":"Auswertungsraster!A122","v":"Merkmal 7"}," +++"," ++"," +"," -"," --"," ---","?","Bemerkungen"]
[]
[{"$f":"Auswertungsraster!A124","v":"Indikatoren"},"ja","teils","nein","?",null,null,null,"Bemerkungen"]
[{"$f":"Auswertungsraster!A125","v":"M7 Indikator 1"}]
[{"$f":"Auswertungsraster!A126","v":"M7 Indikator 2"}]
[{"$f":"Auswertungsraster!A127","v":"M7 Indikator 3"}]
[{"$f":"Auswertungsraster!A128","v":"M7 Indikator 4"}]
[{"$f":"Auswertungsraster!A129","v":"M7 Indikator 5"}]
[{"$f":"Auswertungsraster!A130","v":"M7 Indikator 6"}]
[{"$f":"Auswertungsraster!A131","v":"M7 Indikator 7"}]
[{"$f":"Auswertungsraster!A132","v":"M7 Indikator 8"}]
[{"$f":"Auswertungsraster!A133","v":"M7 Indikator 9"}]
[{"$f":"Auswertungsraster!A134","v":"M7 Indikator 10"}]
[{"$f":"Auswertungsraster!A136","v":"Merkmal 8"}," +++"," ++"," +"," -"," --"," ---","?","Bemerkungen"]
[]
[{"$f":"Auswertungsraster!A138","v":"Indikatoren"},"ja","teils","nein","?",null,null,null,"Bemerkungen"]
[{"$f":"Auswertungsraster!A139","v":"M8 Indikator 1"}]
[{"$f":"Auswertungsraster!A140","v":"M8 Indikator 2"}]
[{"$f":"Auswertungsraster!A141","v":"M8 Indikator 3"}]
[{"$f":"Auswertungsraster!A142","v":"M8 Indikator 4"}]
[{"$f":"Auswertungsraster!A143","v":"M8 Indikator 5"}]
[{"$f":"Auswertungsraster!A144","v":"M8 Indikator 6"}]
[{"$f":"Auswertungsraster!A145","v":"M8 Indikator 7"}]
[{"$f":"Auswertungsraster!A146","v":"M8 Indikator 8"}]
[{"$f":"Auswertungsraster!A147","v":"M8 Indikator 9"}]
[{"$f":"Auswertungsraster!A148","v":"M8 Indikator 10"}]
[{"$f":"Auswertungsraster!A150","v":"Merkmal 9"}," +++"," ++"," +"," -"," --"," ---","?","Bemerkungen"]
[]
[{"$f":"Auswertungsraster!A152","v":"Indikatoren"},"ja","teils","nein","?",null,null,null,"Bemerkungen"]
[{"$f":"Auswertungsraster!A153","v":"M9 Indikator 1"}]
[{"$f":"Auswertungsraster!A154","v":"M9 Indikator 2"}]
[{"$f":"Auswertungsraster!A155","v":"M9 Indikator 3"}]
[{"$f":"Auswertungsraster!A156","v":"M9 Indikator 4"}]
[{"$f":"Auswertungsraster!A157","v":"M9 Indikator 5"}]
[{"$f":"Auswertungsraster!A158","v":"M9 Indikator 6"}]
[{"$f":"Auswertungsraster!A159","v":"M9 Indikator 7"}]
[{"$f":"Auswertungsraster!A160","v":"M9 Indikator 8"}]
[{"$f":"Auswertungsraster!A161","v":"M9 Indikator 9"}]
[{"$f":"Auswertungsraster!A162","v":"M9 Indikator 10"}]
[{"$f":"Auswertungsraster!A164","v":"Merkmal 10"}," +++"," ++"," +"," -"," --"," ---","?","Bemerkungen"]
[]
[{"$f":"Auswertungsraster!A166","v":"Indikatoren"},"ja","teils","nein","?",null,null,null,"Bemerkungen"]
[{"$f":"Auswertungsraster!A167","v":"M10 Indikator 1"}]
[{"$f":"Auswertungsraster!A168","v":"M10 Indikator 2"}]
[{"$f":"Auswertungsraster!A169","v":"M10 Indikator 3"}]
[{"$f":"Auswertungsraster!A170","v":"M10 Indikator 4"}]
[{"$f":"Auswertungsraster!A171","v":"M10 Indikator 5"}]
[{"$f":"Auswertungsraster!A172","v":"M10 Indikator 6"}]
[{"$f":"Auswertungsraster!A173","v":"M10 Indikator 7"}]
[{"$f":"Auswertungsraster!A174","v":"M10 Indikator 8"}]
[{"$f":"Auswertungsraster!A175","v":"M10 Indikator 9"}]
[{"$f":"Auswertungsraster!A176","v":"M10 Indikator 10"}]
["Bilanzierende Bewertung"," +++"," ++","+"," -"," --"," ---","?","Bemerkungen"]
[]
[{"$f":"A2","v":"Merkmal 1"},{"$f":"B3","v":0},0,0,0,0,0,0,0]
[{"$f":"A15","v":"Merkmal 2"},{"$f":"B16","v":0},0,0,0,0,0,0,0]
[{"$f":"A28","v":"Merkmal 3"},{"$f":"B29","v":0},0,0,0,0,0,0,0]
[{"$f":"A41","v":"Merkmal 4"},{"$f":"B42","v":0},0,0,0,0,0,0,0]
[{"$f":"A54","v":"Merkmal 5"},{"$f":"B55","v":0},0,0,0,0,0,0,0]
[{"$f":"A67","v":"Merkmal 6"},{"$f":"B68","v":0},{"$f":"C68","v":0},0,0,0,0,0,0]
[{"$f":"A80","v":"Merkmal 7"},{"$f":"B81","v":0},{"$f":"C81","v":0},0,0,0,0,0,0]
[{"$f":"A93","v":"Merkmal 8"},{"$f":"B94","v":0},{"$f":"C94","v":0},0,0,0,0,0,0]
[{"$f":"A106","v":"Merkmal 9"},{"$f":"B107","v":0},{"$f":"C107","v":0},0,0,0,0,0,0]
[{"$f":"A119","v":"Merkmal 10"},{"$f":"B120","v":0},{"$f":"C120","v":0},0,0,0,0,0,0]

{"sheet":"LP 15","index":16,"n_rows":143,"n_cols":9,"rows_kept":143,"cut":false,"hidden":false,"merged":[[79,0,80,0],[92,0,93,0],[105,0,106,0],[118,0,119,0],[131,0,132,0],[66,0,67,0],[1,0,2,0],[14,0,15,0],[27,0,28,0],[40,0,41,0],[53,0,54,0]]}
["LP 15"]
[{"$f":"Auswertungsraster!A38","v":"Merkmal 1"}," +++"," ++"," +"," -"," --"," ---","?","Bemerkungen"]
[]
[{"$f":"Auswertungsraster!A40","v":"Indikatoren"},"ja","teils","nein","?",null,null,null,"Bemerkungen"]
[{"$f":"Auswertungsraster!A41","v":"M1 Indikator 1"}]
[{"$f":"Auswertungsraster!A42","v":"M1 Indikator 2"}]
[{"$f":"Auswertungsraster!A43","v":"M1 Indikator 3"}]
[{"$f":"Auswertungsraster!A44","v":"M1 Indikator 4"}]
[{"$f":"Auswertungsraster!A45","v":"M1 Indikator 5"}]
[{"$f":"Auswertungsraster!A46","v":"M1 Indikator 6"}]
[{"$f":"Auswertungsraster!A47","v":"M1 Indikator 7"}]
[{"$f":"Auswertungsraster!A48","v":"M1 Indikator 8"}]
[{"$f":"Auswertungsraster!A49","v":"M1 Indikator 9"}]
[{"$f":"Auswertungsraster!A50","v":"M1 Indikator 10"}]
[{"$f":"Auswertungsraster!A52","v":"Merkmal 2"}," +++"," ++"," +"," -"," --"," ---","?","Bemerkungen"]
[]
[{"$f":"Auswertungsraster!A54","v":"Indikatoren"},"ja","teils","nein","?",null,null,null,"Bemerkungen"]
[{"$f":"Auswertungsraster!A55","v":"M2 Indikator 1"}]
[{"$f":"Auswertungsraster!A56","v":"M2 Indikator 2"}]
[{"$f":"Auswertungsraster!A57","v":"M2 Indikator 3"}]
[{"$f":"Auswertungsraster!A58","v":"M2 Indikator 4"}]
[{"$f":"Auswertungsraster!A59","v":"M2 Indikator 5"}]
[{"$f":"Auswertungsraster!A60","v":"M2 Indikator 6"}]
[{"$f":"Auswertungsraster!A61","v":"M2 Indikator 7"}]
[{"$f":"Auswertungsraster!A62","v":"M2 Indikator 8"}]
[{"$f":"Auswertungsraster!A63","v":"M2 Indikator 9"}]
[{"$f":"Auswertungsraster!A64","v":"M2 Indikator 10"}]
[{"$f":"Auswertungsraster!A66","v":"Merkmal 3"}," +++"," ++"," +"," -"," --"," ---","?","Bemerkungen"]
[]
[{"$f":"Auswertungsraster!A68","v":"Indikatoren"},"ja","teils","nein","?",null,null,null,"Bemerkungen"]
[{"$f":"Auswertungsraster!A69","v":"M3 Indikator 1"}]
[{"$f":"Auswertungsraster!A70","v":"M3 Indikator 2"}]
[{"$f":"Auswertungsraster!A71","v":"M3 Indikator 3"}]
[{"$f":"Auswertungsraster!A72","v":"M3 Indikator 4"}]
[{"$f":"Auswertungsraster!A73","v":"M3 Indikator 5"}]
[{"$f":"Auswertungsraster!A74","v":"M3 Indikator 6"}]
[{"$f":"Auswertungsraster!A75","v":"M3 Indikator 7"}]
[{"$f":"Auswertungsraster!A76","v":"M3 Indikator 8"}]
[{"$f":"Auswertungsraster!A77","v":"M3 Indikator 9"}]
[{"$f":"Auswertungsraster!A78","v":"M3 Indikator 10"}]
[{"$f":"Auswertungsraster!A80","v":"Merkmal 4"}," +++"," ++"," +"," -"," --"," ---","?","Bemerkungen"]
[]
[{"$f":"Auswertungsraster!A82","v":"Indikatoren"},"ja","teils","nein","?",null,null,null,"Bemerkungen"]
[{"$f":"Auswertungsraster!A83","v":"M4 Indikator 1"}]
[{"$f":"Auswertungsraster!A84","v":"M4 Indikator 2"}]
[{"$f":"Auswertungsraster!A85","v":"M4 Indikator 3"}]
[{"$f":"Auswertungsraster!A86","v":"M4 Indikator 4"}]
[{"$f":"Auswertungsraster!A87","v":"M4 Indikator 5"}]
[{"$f":"Auswertungsraster!A88","v":"M4 Indikator 6"}]
[{"$f":"Auswertungsraster!A89","v":"M4 Indikator 7"}]
[{"$f":"Auswertungsraster!A90","v":"M4 Indikator 8"}]
[{"$f":"Auswertungsraster!A91","v":"M4 Indikator 9"}]
[{"$f":"Auswertungsraster!A92","v":"M4 Indikator 10"}]
[{"$f":"Auswertungsraster!A94","v":"Merkmal 5"}," +++"," ++"," +"," -"," --"," ---","?","Bemerkungen"]
[]
[{"$f":"Auswertungsraster!A96","v":"Indikatoren"},"ja","teils","nein","?",null,null,null,"Bemerkungen"]
[{"$f":"Auswertungsraster!A97","v":"M5 Indikator 1"}]
[{"$f":"Auswertungsraster!A98","v":"M5 Indikator 2"}]
[{"$f":"Auswertungsraster!A99","v":"M5 Indikator 3"}]
[{"$f":"Auswertungsraster!A100","v":"M5 Indikator 4"}]
[{"$f":"Auswertungsraster!A101","v":"M5 Indikator 5"}]
[{"$f":"Auswertungsraster!A102","v":"M5 Indikator 6"}]
[{"$f":"Auswertungsraster!A103","v":"M5 Indikator 7"}]
[{"$f":"Auswertungsraster!A104","v":"M5 Indikator 8"}]
[{"$f":"Auswertungsraster!A105","v":"M5 Indikator 9"}]
[{"$f":"Auswertungsraster!A106","v":"M5 Indikator 10"}]
[{"$f":"Auswertungsraster!A108","v":"Merkmal 6"}," +++"," ++"," +"," -"," --"," ---","?","Bemerkungen"]
[]
[{"$f":"Auswertungsraster!A110","v":"Indikatoren"},"ja","teils","nein","?",null,null,null,"Bemerkungen"]
[{"$f":"Auswertungsraster!A111","v":"M6 Indikator 1"}]
[{"$f":"Auswertungsraster!A112","v":"M6 Indikator 2"}]
[{"$f":"Auswertungsraster!A113","v":"M6 Indikator 3"}]
[{"$f":"Auswertungsraster!A114","v":"M6 Indikator 4"}]
[{"$f":"Auswertungsraster!A115","v":"M6 Indikator 5"}]
[{"$f":"Auswertungsraster!A116","v":"M6 Indikator 6"}]
[{"$f":"Auswertungsraster!A117","v":"M6 Indikator 7"}]
[{"$f":"Auswertungsraster!A118","v":"M6 Indikator 8"}]
[{"$f":"Auswertungsraster!A119","v":"M6 Indikator 9"}]
[{"$f":"Auswertungsraster!A120","v":"M6 Indikator 10"}]
[{"$f":"Auswertungsraster!A122","v":"Merkmal 7"}," +++"," ++"," +"," -"," --"," ---","?","Bemerkungen"]
[]
[{"$f":"Auswertungsraster!A124","v":"Indikatoren"},"ja","teils","nein","?",null,null,null,"Bemerkungen"]
[{"$f":"Auswertungsraster!A125","v":"M7 Indikator 1"}]
[{"$f":"Auswertungsraster!A126","v":"M7 Indikator 2"}]
[{"$f":"Auswertungsraster!A127","v":"M7 Indikator 3"}]
[{"$f":"Auswertungsraster!A128","v":"M7 Indikator 4"}]
[{"$f":"Auswertungsraster!A129","v":"M7 Indikator 5"}]
[{"$f":"Auswertungsraster!A130","v":"M7 Indikator 6"}]
[{"$f":"Auswertungsraster!A131","v":"M7 Indikator 7"}]
[{"$f":"Auswertungsraster!A132","v":"M7 Indikator 8"}]
[{"$f":"Auswertungsraster!A133","v":"M7 Indikator 9"}]
[{"$f":"Auswertungsraster!A134","v":"M7 Indikator 10"}]
[{"$f":"Auswertungsraster!A136","v":"Merkmal 8"}," +++"," ++"," +"," -"," --"," ---","?","Bemerkungen"]
[]
[{"$f":"Auswertungsraster!A138","v":"Indikatoren"},"ja","teils","nein","?",null,null,null,"Bemerkungen"]
[{"$f":"Auswertungsraster!A139","v":"M8 Indikator 1"}]
[{"$f":"Auswertungsraster!A140","v":"M8 Indikator 2"}]
[{"$f":"Auswertungsraster!A141","v":"M8 Indikator 3"}]
[{"$f":"Auswertungsraster!A142","v":"M8 Indikator 4"}]
[{"$f":"Auswertungsraster!A143","v":"M8 Indikator 5"}]
[{"$f":"Auswertungsraster!A144","v":"M8 Indikator 6"}]
[{"$f":"Auswertungsraster!A145","v":"M8 Indikator 7"}]
[{"$f":"Auswertungsraster!A146","v":"M8 Indikator 8"}]
[{"$f":"Auswertungsraster!A147","v":"M8 Indikator 9"}]
[{"$f":"Auswertungsraster!A148","v":"M8 Indikator 10"}]
[{"$f":"Auswertungsraster!A150","v":"Merkmal 9"}," +++"," ++"," +"," -"," --"," ---","?","Bemerkungen"]
[]
[{"$f":"Auswertungsraster!A152","v":"Indikatoren"},"ja","teils","nein","?",null,null,null,"Bemerkungen"]
[{"$f":"Auswertungsraster!A153","v":"M9 Indikator 1"}]
[{"$f":"Auswertungsraster!A154","v":"M9 Indikator 2"}]
[{"$f":"Auswertungsraster!A155","v":"M9 Indikator 3"}]
[{"$f":"Auswertungsraster!A156","v":"M9 Indikator 4"}]
[{"$f":"Auswertungsraster!A157","v":"M9 Indikator 5"}]
[{"$f":"Auswertungsraster!A158","v":"M9 Indikator 6"}]
[{"$f":"Auswertungsraster!A159","v":"M9 Indikator 7"}]
[{"$f":"Auswertungsraster!A160","v":"M9 Indikator 8"}]
[{"$f":"Auswertungsraster!A161","v":"M9 Indikator 9"}]
[{"$f":"Auswertungsraster!A162","v":"M9 Indikator 10"}]
[{"$f":"Auswertungsraster!A164","v":"Merkmal 10"}," +++"," ++"," +"," -"," --"," ---","?","Bemerkungen"]
[]
[{"$f":"Auswertungsraster!A166","v":"Indikatoren"},"ja","teils","nein","?",null,null,null,"Bemerkungen"]
[{"$f":"Auswertungsraster!A167","v":"M10 Indikator 1"}]
[{"$f":"Auswertungsraster!A168","v":"M10 Indikator 2"}]
[{"$f":"Auswertungsraster!A169","v":"M10 Indikator 3"}]
[{"$f":"Auswertungsraster!A170","v":"M10 Indikator 4"}]
[{"$f":"Auswertungsraster!A171","v":"M10 Indikator 5"}]
[{"$f":"Auswertungsraster!A172","v":"M10 Indikator 6"}]
[{"$f":"Auswertungsraster!A173","v":"M10 Indikator 7"}]
[{"$f":"Auswertungsraster!A174","v":"M10 Indikator 8"}]
[{"$f":"Auswertungsraster!A175","v":"M10 Indikator 9"}]
[{"$f":"Auswertungsraster!A176","v":"M10 Indikator 10"}]
["Bilanzierende Bewertung"," +++"," ++","+"," -"," --"," ---","?","Bemerkungen"]
[]
[{"$f":"A2","v":"Merkmal 1"},{"$f":"B3","v":0},0,0,0,0,0,0,0]
[{"$f":"A15","v":"Merkmal 2"},{"$f":"B16","v":0},0,0,0,0,0,0,0]
[{"$f":"A28","v":"Merkmal 3"},{"$f":"B29","v":0},0,0,0,0,0,0,0]
[{"$f":"A41","v":"Merkmal 4"},{"$f":"B42","v":0},0,0,0,0,0,0,0]
[{"$f":"A54","v":"Merkmal 5"},{"$f":"B55","v":0},0,0,0,0,0,0,0]
[{"$f":"A67","v":"Merkmal 6"},{"$f":"B68","v":0},{"$f":"C68","v":0},0,0,0,0,0,0]
[{"$f":"A80","v":"Merkmal 7"},{"$f":"B81","v":0},{"$f":"C81","v":0},0,0,0,0,0,0]
[{"$f":"A93","v":"Merkmal 8"},{"$f":"B94","v":0},{"$f":"C94","v":0},0,0,0,0,0,0]
[{"$f":"A106","v":"Merkmal 9"},{"$f":"B107","v":0},{"$f":"C107","v":0},0,0,0,0,0,0]
[{"$f":"A119","v":"Merkmal 10"},{"$f":"B120","v":0},{"$f":"C120","v":0},0,0,0,0,0,0]